{"text_format":"1","workbook":"xlsx","n_sheets":3,"sheets":["Image Log","300ppi Resolution Calc","Import Style Sheet"],"not_rendered":{"charts":0,"images":0,"macros":0,"external_links":0,"defined_names":1,"comments":0,"pivot_tables":0},"unopened":[],"bounds":{"document_bytes":16777216,"sheet_cells":100000,"rows_first":2000,"rows_last":500,"rows_between":2000,"halvings":0,"cell_chars":16384,"cell_head_chars":4096},"cells_cut":0,"cells_raw":0,"read":"whole","date_system":"1900"}

{"sheet":"Image Log","index":0,"n_rows":1001,"n_cols":14,"rows_kept":1001,"cut":false,"hidden":false,"merged":[[0,12,0,13],[0,0,0,7]]}
["List of Desired Images",null,null,null,null,null,null,null,"Image Review",null,null,null,"Image Resolution Check\n(300 PPI - Effective Size)"]
["Ch. #","Fig. #","Image Title","Source Title (Book/Journal/URL)","Year","Author","Page #","Author Notes/Questions/Special Requests","Clearing Method","Licensing Notes","Production Notes","Creditlines","Width (inches)","Height (inches)"]
[1,"Fig. 1.1","Basketry-covered Glass Bottle","http://commons.wikimedia.org/wiki/File:Basketry-covered_lightbulb_01.jpg",2001,"Joe Mabel","~1","Please crop image to only show left-side basket.","Creative Commons License","(CC BY 3.0)",null,{"$f":"IF(AND(I3=\"Creative Commons License\",OR(J3=\"(CC BY 4.0)\",J3=\"CC BY 4.0\")),CONCATENATE(B3,\": \",\"Copyright © \",E3,\" by \",F3,\", (CC BY 4.0)\",\" at \",D3,\".\"),\nIF(AND(I3=\"Creative Commons License\",OR(J3=\"(CC BY 3.0)\",J3=\"CC BY 3.0\")),CONCATENATE(B3,\": \",\"Copyright © \",E3,\" by \",F3,\", (CC BY 3.0)\",\" at \",D3,\".\"),\nIF(AND(I3=\"Creative Commons License\",OR(J3=\"(CC BY 2.5)\",J3=\"CC BY 2.5\")),CONCATENATE(B3,\": \",\"Copyright © \",E3,\" by \",F3,\", (CC BY 2.5)\",\" at \",D3,\".\"),\nIF(AND(I3=\"Creative Commons License\",OR(J3=\"(CC BY 2.0)\",J3=\"CC BY 2.0\")),CONCATENATE(B3,\": \",\"Copyright © \",E3,\" by \",F3,\", (CC BY 2.0)\",\" at \",D3,\".\"),\nIF(AND(I3=\"Creative Commons License\",OR(J3=\"(CC BY 1.0)\",J3=\"CC BY 1.0\")),CONCATENATE(B3,\": \",\"Copyright © \",E3,\" by \",F3,\", (CC BY 1.0)\",\" at \",D3,\".\"),\nIF(AND(I3=\"Creative Commons License\",OR(J3=\"(CC BY-SA 4.0)\",J3=\"CC BY-SA 4.0\")),CONCATENATE(B3,\": \",\"Copyright © \",E3,\" by \",F3,\", (CC BY-SA 4.0)\",\" at \",D3,\".\"),\nIF(AND(I3=\"Creative Commons License\",OR(J3=\"(CC BY-SA 3.0)\",J3=\"CC BY-SA 3.0\")),CONCATENATE(B3,\": \",\"Copyright © \",E3,\" by \",F3,\", (CC BY-SA 3.0)\",\" at \",D3,\".\"),\nIF(AND(I3=\"Creative Commons License\",OR(J3=\"(CC BY-SA 2.5)\",J3=\"CC BY-SA 2.5\")),CONCATENATE(B3,\": \",\"Copyright © \",E3,\" by \",F3,\", (CC BY-SA 2.5)\",\" at \",D3,\".\"),\nIF(AND(I3=\"Creative Commons License\",OR(J3=\"(CC BY-SA 2.0)\",J3=\"CC BY-SA 2.0\")),CONCATENATE(B3,\": \",\"Copyright © \",E3,\" by \",F3,\", (CC BY-SA 2.0)\",\" at \",D3,\".\"),\nIF(AND(I3=\"Creative Commons License\",OR(J3=\"(CC BY-SA 1.0)\",J3=\"CC BY-SA 1.0\")),CONCATENATE(B3,\": \",\"Copyright © \",E3,\" by \",F3,\", (CC BY-SA 1.0)\",\" at \",D3,\".\"),\nIF(AND(I3=\"Creative Commons License\",OR(J3=\"(FAL 1.3)\",J3=\"FAL 1.3\")),CONCATENATE(B3,\": \",\"Copyright © \",E3,\" by \",F3,\", (FAL 1.3)\",\" at \",D3,\".\",\" A copy of the full license can be found here: http://artlibre.org/licence/lal/en.\"),\nIF(I3=\"Public Domain\",CONCATENATE(B3,\": \",F3,\" / \",\"Copyright in the Public Domain\",\".\"),\nIF(I3=\"Fair Use\",CONCATENATE(B3,\": \",\"Copyright © \",E3,\" by \",F3,\".\"),\nIF(I3=\"Request to Rights Holder\",CONCATENATE(B3,\": \",\"Copyright © \",E3,\" by \",F3,\".\",\" Reprinted with permission.\"),\"\"))))))))))))))","v":"Fig. 1.1: Copyright © 2001 by Joe Mabel, (CC BY 3.0) at http://commons.wikimedia.org/wiki/File:Basketry-covered_lightbulb_01.jpg."},null,"Map \n(any map less than 4x4)"]
[1,"Fig. 1.2","Water Pollution","Environmental Science: Earth as a Living Planet",1996,"Edward Lacy",73,null,"Request to Rights Holder","3/13/15 BF: Replace or Cut.","2/14/15 CY: Replaced with:",{"$f":"IF(AND(I4=\"Creative Commons License\",OR(J4=\"(CC BY 4.0)\",J4=\"CC BY 4.0\")),CONCATENATE(B4,\": \",\"Copyright © \",E4,\" by \",F4,\", (CC BY 4.0)\",\" at \",D4,\".\"),\nIF(AND(I4=\"Creative Commons License\",OR(J4=\"(CC BY 3.0)\",J4=\"CC BY 3.0\")),CONCATENATE(B4,\": \",\"Copyright © \",E4,\" by \",F4,\", (CC BY 3.0)\",\" at \",D4,\".\"),\nIF(AND(I4=\"Creative Commons License\",OR(J4=\"(CC BY 2.5)\",J4=\"CC BY 2.5\")),CONCATENATE(B4,\": \",\"Copyright © \",E4,\" by \",F4,\", (CC BY 2.5)\",\" at \",D4,\".\"),\nIF(AND(I4=\"Creative Commons License\",OR(J4=\"(CC BY 2.0)\",J4=\"CC BY 2.0\")),CONCATENATE(B4,\": \",\"Copyright © \",E4,\" by \",F4,\", (CC BY 2.0)\",\" at \",D4,\".\"),\nIF(AND(I4=\"Creative Commons License\",OR(J4=\"(CC BY 1.0)\",J4=\"CC BY 1.0\")),CONCATENATE(B4,\": \",\"Copyright © \",E4,\" by \",F4,\", (CC BY 1.0)\",\" at \",D4,\".\"),\nIF(AND(I4=\"Creative Commons License\",OR(J4=\"(CC BY-SA 4.0)\",J4=\"CC BY-SA 4.0\")),CONCATENATE(B4,\": \",\"Copyright © \",E4,\" by \",F4,\", (CC BY-SA 4.0)\",\" at \",D4,\".\"),\nIF(AND(I4=\"Creative Commons License\",OR(J4=\"(CC BY-SA 3.0)\",J4=\"CC BY-SA 3.0\")),CONCATENATE(B4,\": \",\"Copyright © \",E4,\" by \",F4,\", (CC BY-SA 3.0)\",\" at \",D4,\".\"),\nIF(AND(I4=\"Creative Commons License\",OR(J4=\"(CC BY-SA 2.5)\",J4=\"CC BY-SA 2.5\")),CONCATENATE(B4,\": \",\"Copyright © \",E4,\" by \",F4,\", (CC BY-SA 2.5)\",\" at \",D4,\".\"),\nIF(AND(I4=\"Creative Commons License\",OR(J4=\"(CC BY-SA 2.0)\",J4=\"CC BY-SA 2.0\")),CONCATENATE(B4,\": \",\"Copyright © \",E4,\" by \",F4,\", (CC BY-SA 2.0)\",\" at \",D4,\".\"),\nIF(AND(I4=\"Creative Commons License\",OR(J4=\"(CC BY-SA 1.0)\",J4=\"CC BY-SA 1.0\")),CONCATENATE(B4,\": \",\"Copyright © \",E4,\" by \",F4,\", (CC BY-SA 1.0)\",\" at \",D4,\".\"),\nIF(AND(I4=\"Creative Commons License\",OR(J4=\"(FAL 1.3)\",J4=\"FAL 1.3\")),CONCATENATE(B4,\": \",\"Copyright © \",E4,\" by \",F4,\", (FAL 1.3)\",\" at \",D4,\".\",\" A copy of the full license can be found here: http://artlibre.org/licence/lal/en.\"),\nIF(I4=\"Public Domain\",CONCATENATE(B4,\": \",F4,\" / \",\"Copyright in the Public Domain\",\".\"),\nIF(I4=\"Fair Use\",CONCATENATE(B4,\": \",\"Copyright © \",E4,\" by \",F4,\".\"),\nIF(I4=\"Request to Rights Holder\",CONCATENATE(B4,\": \",\"Copyright © \",E4,\" by \",F4,\".\",\" Reprinted with permission.\"),\"\"))))))))))))))","v":"Fig. 1.2: Copyright © 1996 by Edward Lacy. Reprinted with permission."},null,"Small \n(less than 4x4)"]
[2,"Fig. 2.1","Basketball Team","Original (photo taken by author)",2012,"Jared Abbredaris","~1",null,"Editor/Author's Own Content",null,null,{"$f":"IF(AND(I5=\"Creative Commons License\",OR(J5=\"(CC BY 4.0)\",J5=\"CC BY 4.0\")),CONCATENATE(B5,\": \",\"Copyright © \",E5,\" by \",F5,\", (CC BY 4.0)\",\" at \",D5,\".\"),\nIF(AND(I5=\"Creative Commons License\",OR(J5=\"(CC BY 3.0)\",J5=\"CC BY 3.0\")),CONCATENATE(B5,\": \",\"Copyright © \",E5,\" by \",F5,\", (CC BY 3.0)\",\" at \",D5,\".\"),\nIF(AND(I5=\"Creative Commons License\",OR(J5=\"(CC BY 2.5)\",J5=\"CC BY 2.5\")),CONCATENATE(B5,\": \",\"Copyright © \",E5,\" by \",F5,\", (CC BY 2.5)\",\" at \",D5,\".\"),\nIF(AND(I5=\"Creative Commons License\",OR(J5=\"(CC BY 2.0)\",J5=\"CC BY 2.0\")),CONCATENATE(B5,\": \",\"Copyright © \",E5,\" by \",F5,\", (CC BY 2.0)\",\" at \",D5,\".\"),\nIF(AND(I5=\"Creative Commons License\",OR(J5=\"(CC BY 1.0)\",J5=\"CC BY 1.0\")),CONCATENATE(B5,\": \",\"Copyright © \",E5,\" by \",F5,\", (CC BY 1.0)\",\" at \",D5,\".\"),\nIF(AND(I5=\"Creative Commons License\",OR(J5=\"(CC BY-SA 4.0)\",J5=\"CC BY-SA 4.0\")),CONCATENATE(B5,\": \",\"Copyright © \",E5,\" by \",F5,\", (CC BY-SA 4.0)\",\" at \",D5,\".\"),\nIF(AND(I5=\"Creative Commons License\",OR(J5=\"(CC BY-SA 3.0)\",J5=\"CC BY-SA 3.0\")),CONCATENATE(B5,\": \",\"Copyright © \",E5,\" by \",F5,\", (CC BY-SA 3.0)\",\" at \",D5,\".\"),\nIF(AND(I5=\"Creative Commons License\",OR(J5=\"(CC BY-SA 2.5)\",J5=\"CC BY-SA 2.5\")),CONCATENATE(B5,\": \",\"Copyright © \",E5,\" by \",F5,\", (CC BY-SA 2.5)\",\" at \",D5,\".\"),\nIF(AND(I5=\"Creative Commons License\",OR(J5=\"(CC BY-SA 2.0)\",J5=\"CC BY-SA 2.0\")),CONCATENATE(B5,\": \",\"Copyright © \",E5,\" by \",F5,\", (CC BY-SA 2.0)\",\" at \",D5,\".\"),\nIF(AND(I5=\"Creative Commons License\",OR(J5=\"(CC BY-SA 1.0)\",J5=\"CC BY-SA 1.0\")),CONCATENATE(B5,\": \",\"Copyright © \",E5,\" by \",F5,\", (CC BY-SA 1.0)\",\" at \",D5,\".\"),\nIF(AND(I5=\"Creative Commons License\",OR(J5=\"(FAL 1.3)\",J5=\"FAL 1.3\")),CONCATENATE(B5,\": \",\"Copyright © \",E5,\" by \",F5,\", (FAL 1.3)\",\" at \",D5,\".\",\" A copy of the full license can be found here: http://artlibre.org/licence/lal/en.\"),\nIF(I5=\"Public Domain\",CONCATENATE(B5,\": \",F5,\" / \",\"Copyright in the Public Domain\",\".\"),\nIF(I5=\"Fair Use\",CONCATENATE(B5,\": \",\"Copyright © \",E5,\" by \",F5,\".\"),\nIF(I5=\"Request to Rights Holder\",CONCATENATE(B5,\": \",\"Copyright © \",E5,\" by \",F5,\".\",\" Reprinted with permission.\"),\"\"))))))))))))))","v":""},null,"Low Res \n(less than or equal to 2x2)"]
[null,null,null,null,null,null,null,null,null,null,null,{"$f":"IF(AND(I6=\"Creative Commons License\",OR(J6=\"(CC BY 4.0)\",J6=\"CC BY 4.0\")),CONCATENATE(B6,\": \",\"Copyright © \",E6,\" by \",F6,\", (CC BY 4.0)\",\" at \",D6,\".\"),\nIF(AND(I6=\"Creative Commons License\",OR(J6=\"(CC BY 3.0)\",J6=\"CC BY 3.0\")),CONCATENATE(B6,\": \",\"Copyright © \",E6,\" by \",F6,\", (CC BY 3.0)\",\" at \",D6,\".\"),\nIF(AND(I6=\"Creative Commons License\",OR(J6=\"(CC BY 2.5)\",J6=\"CC BY 2.5\")),CONCATENATE(B6,\": \",\"Copyright © \",E6,\" by \",F6,\", (CC BY 2.5)\",\" at \",D6,\".\"),\nIF(AND(I6=\"Creative Commons License\",OR(J6=\"(CC BY 2.0)\",J6=\"CC BY 2.0\")),CONCATENATE(B6,\": \",\"Copyright © \",E6,\" by \",F6,\", (CC BY 2.0)\",\" at \",D6,\".\"),\nIF(AND(I6=\"Creative Commons License\",OR(J6=\"(CC BY 1.0)\",J6=\"CC BY 1.0\")),CONCATENATE(B6,\": \",\"Copyright © \",E6,\" by \",F6,\", (CC BY 1.0)\",\" at \",D6,\".\"),\nIF(AND(I6=\"Creative Commons License\",OR(J6=\"(CC BY-SA 4.0)\",J6=\"CC BY-SA 4.0\")),CONCATENATE(B6,\": \",\"Copyright © \",E6,\" by \",F6,\", (CC BY-SA 4.0)\",\" at \",D6,\".\"),\nIF(AND(I6=\"Creative Commons License\",OR(J6=\"(CC BY-SA 3.0)\",J6=\"CC BY-SA 3.0\")),CONCATENATE(B6,\": \",\"Copyright © \",E6,\" by \",F6,\", (CC BY-SA 3.0)\",\" at \",D6,\".\"),\nIF(AND(I6=\"Creative Commons License\",OR(J6=\"(CC BY-SA 2.5)\",J6=\"CC BY-SA 2.5\")),CONCATENATE(B6,\": \",\"Copyright © \",E6,\" by \",F6,\", (CC BY-SA 2.5)\",\" at \",D6,\".\"),\nIF(AND(I6=\"Creative Commons License\",OR(J6=\"(CC BY-SA 2.0)\",J6=\"CC BY-SA 2.0\")),CONCATENATE(B6,\": \",\"Copyright © \",E6,\" by \",F6,\", (CC BY-SA 2.0)\",\" at \",D6,\".\"),\nIF(AND(I6=\"Creative Commons License\",OR(J6=\"(CC BY-SA 1.0)\",J6=\"CC BY-SA 1.0\")),CONCATENATE(B6,\": \",\"Copyright © \",E6,\" by \",F6,\", (CC BY-SA 1.0)\",\" at \",D6,\".\"),\nIF(AND(I6=\"Creative Commons License\",OR(J6=\"(FAL 1.3)\",J6=\"FAL 1.3\")),CONCATENATE(B6,\": \",\"Copyright © \",E6,\" by \",F6,\", (FAL 1.3)\",\" at \",D6,\".\",\" A copy of the full license can be found here: http://artlibre.org/licence/lal/en.\"),\nIF(I6=\"Public Domain\",CONCATENATE(B6,\": \",F6,\" / \",\"Copyright in the Public Domain\",\".\"),\nIF(I6=\"Fair Use\",CONCATENATE(B6,\": \",\"Copyright © \",E6,\" by \",F6,\".\"),\nIF(I6=\"Request to Rights Holder\",CONCATENATE(B6,\": \",\"Copyright © \",E6,\" by \",F6,\".\",\" Reprinted with permission.\"),\"\"))))))))))))))","v":""}]
[null,null,null,null,null,null,null,null,null,null,null,{"$f":"IF(AND(I7=\"Creative Commons License\",ISNUMBER(SEARCH(\"(\",J7))),CONCATENATE(B7,\": \",\"Copyright © by \",F7,\" \",J7,\" at \",D7,\".\"),\nIF(AND(I7=\"Creative Commons License\",NOT(ISNUMBER(SEARCH(\"(\",J7)))),CONCATENATE(B7,\": \",\"Copyright © by \",F7,\" (\",J7,\") at \",D7,\".\"),\nIF(I7=\"Public Domain\",CONCATENATE(B7,\": Source: \",D7,\".\"),\nIF(AND(I7=\"Fair Use\",OR(ISNUMBER(SEARCH(\"discuss\",J7)),ISNUMBER(SEARCH(\"critique\",J7)))),CONCATENATE(B7,\": \",\"Copyright © by \",F7,\".\"),\nIF(AND(I7=\"Fair Use\",NOT(OR(ISNUMBER(SEARCH(\"discuss\",J7)),ISNUMBER(SEARCH(\"critique\",J7))))),CONCATENATE(B7,\": Source: \",D7,\".\"),\nIF(AND(I7=\"Request to Rights Holder\",ISBLANK(E7),NOT(ISNUMBER(SEARCH(\"depositphotos\",D7))),NOT(ISNUMBER(SEARCH(\"FAL \",J7))),NOT(ISNUMBER(SEARCH(\"GNU \",J7)))),CONCATENATE(B7,\": \",\"Copyright ©\",\" by \",F7,\".\",\" Reprinted with permission.\"),\nIF(AND(I7=\"Request to Rights Holder\",NOT(ISBLANK(E7)),NOT(ISNUMBER(SEARCH(\"depositphotos\",D7))),NOT(ISNUMBER(SEARCH(\"FAL \",J7))),NOT(ISNUMBER(SEARCH(\"GNU \",J7)))),CONCATENATE(B7,\": \",\"Copyright © \",E7,\" by \",F7,\".\",\" Reprinted with permission.\"),\nIF(AND(I7=\"Request to Rights Holder\",NOT(ISBLANK(E7)),ISNUMBER(SEARCH(\"depositphotos\",D7))),CONCATENATE(B7,\":\",\" Copyright © \",E7,\" Depositphotos\",\"/\",F7,\".\"),\nIF(AND(I7=\"Request to Rights Holder\",ISBLANK(E7),ISNUMBER(SEARCH(\"depositphotos\",D7))),CONCATENATE(B7,\":\",\" Copyright © \",E7,\"Depositphotos\",\"/\",F7,\".\"),\nIF(AND(I7=\"Request to Rights Holder\",ISNUMBER(SEARCH(\"FAL \",J7)),ISNUMBER(SEARCH(\"(\",J7))),CONCATENATE(B7,\": \",\"Copyright © by \",F7,\" \",J7,\" at \",D7,\". A copy of the license can be found here: http://artlibre.org/licence/lal/en.\"),\nIF(AND(I7=\"Request to Rights Holder\",ISNUMBER(SEARCH(\"FAL \",J7)),NOT(ISNUMBER(SEARCH(\"(\",J7)))),CONCATENATE(B7,\": \",\"Copyright © by \",F7,\" (\",J7,\") at \",D7,\". A copy of the license can be found here: http://artlibre.org/licence/lal/en.\"),\nIF(AND(I7=\"Request to Rights Holder\",ISNUMBER(SEARCH(\"GNU \",J7)),ISNUMBER(SEARCH(\"(\",J7))),CONCATENATE(B7,\": \",\"Copyright © by \",F7,\" \",J7,\" at \",D7,\". A copy of the license can be found here: http://www.gnu.org/licenses/gpl.html\"),\nIF(AND(I7=\"Request to Rights Holder\",ISNUMBER(SEARCH(\"GNU \",J7)),NOT(ISNUMBER(SEARCH(\"(\",J7)))),CONCATENATE(B7,\": \",\"Copyright © by \",F7,\" (\",J7,\") at \",D7,\". A copy of the license can be found here: http://www.gnu.org/licenses/gpl.html\"),\n\"\")))))))))))))","v":""},{"$f":"IF(ISERROR(VLOOKUP($B7,'300ppi Resolution Calc'!$A$2:$E$1001,4,0)),\"\",VLOOKUP($B7,'300ppi Resolution Calc'!$A$2:$E$1001,4,0))","v":""},{"$f":"IF(ISERROR(VLOOKUP($B7,'300ppi Resolution Calc'!$A$2:$E$1001,5,0)),\"\",VLOOKUP($B7,'300ppi Resolution Calc'!$A$2:$E$1001,5,0))","v":""}]
[null,null,null,null,null,null,null,null,null,null,null,{"$f":"IF(AND(I8=\"Creative Commons License\",ISNUMBER(SEARCH(\"(\",J8))),CONCATENATE(B8,\": \",\"Copyright © by \",F8,\" \",J8,\" at \",D8,\".\"),\nIF(AND(I8=\"Creative Commons License\",NOT(ISNUMBER(SEARCH(\"(\",J8)))),CONCATENATE(B8,\": \",\"Copyright © by \",F8,\" (\",J8,\") at \",D8,\".\"),\nIF(I8=\"Public Domain\",CONCATENATE(B8,\": Source: \",D8,\".\"),\nIF(AND(I8=\"Fair Use\",OR(ISNUMBER(SEARCH(\"discuss\",J8)),ISNUMBER(SEARCH(\"critique\",J8)))),CONCATENATE(B8,\": \",\"Copyright © by \",F8,\".\"),\nIF(AND(I8=\"Fair Use\",NOT(OR(ISNUMBER(SEARCH(\"discuss\",J8)),ISNUMBER(SEARCH(\"critique\",J8))))),CONCATENATE(B8,\": Source: \",D8,\".\"),\nIF(AND(I8=\"Request to Rights Holder\",ISBLANK(E8),NOT(ISNUMBER(SEARCH(\"depositphotos\",D8))),NOT(ISNUMBER(SEARCH(\"FAL \",J8))),NOT(ISNUMBER(SEARCH(\"GNU \",J8)))),CONCATENATE(B8,\": \",\"Copyright ©\",\" by \",F8,\".\",\" Reprinted with permission.\"),\nIF(AND(I8=\"Request to Rights Holder\",NOT(ISBLANK(E8)),NOT(ISNUMBER(SEARCH(\"depositphotos\",D8))),NOT(ISNUMBER(SEARCH(\"FAL \",J8))),NOT(ISNUMBER(SEARCH(\"GNU \",J8)))),CONCATENATE(B8,\": \",\"Copyright © \",E8,\" by \",F8,\".\",\" Reprinted with permission.\"),\nIF(AND(I8=\"Request to Rights Holder\",NOT(ISBLANK(E8)),ISNUMBER(SEARCH(\"depositphotos\",D8))),CONCATENATE(B8,\":\",\" Copyright © \",E8,\" Depositphotos\",\"/\",F8,\".\"),\nIF(AND(I8=\"Request to Rights Holder\",ISBLANK(E8),ISNUMBER(SEARCH(\"depositphotos\",D8))),CONCATENATE(B8,\":\",\" Copyright © \",E8,\"Depositphotos\",\"/\",F8,\".\"),\nIF(AND(I8=\"Request to Rights Holder\",ISNUMBER(SEARCH(\"FAL \",J8)),ISNUMBER(SEARCH(\"(\",J8))),CONCATENATE(B8,\": \",\"Copyright © by \",F8,\" \",J8,\" at \",D8,\". A copy of the license can be found here: http://artlibre.org/licence/lal/en.\"),\nIF(AND(I8=\"Request to Rights Holder\",ISNUMBER(SEARCH(\"FAL \",J8)),NOT(ISNUMBER(SEARCH(\"(\",J8)))),CONCATENATE(B8,\": \",\"Copyright © by \",F8,\" (\",J8,\") at \",D8,\". A copy of the license can be found here: http://artlibre.org/licence/lal/en.\"),\nIF(AND(I8=\"Request to Rights Holder\",ISNUMBER(SEARCH(\"GNU \",J8)),ISNUMBER(SEARCH(\"(\",J8))),CONCATENATE(B8,\": \",\"Copyright © by \",F8,\" \",J8,\" at \",D8,\". A copy of the license can be found here: http://www.gnu.org/licenses/gpl.html\"),\nIF(AND(I8=\"Request to Rights Holder\",ISNUMBER(SEARCH(\"GNU \",J8)),NOT(ISNUMBER(SEARCH(\"(\",J8)))),CONCATENATE(B8,\": \",\"Copyright © by \",F8,\" (\",J8,\") at \",D8,\". A copy of the license can be found here: http://www.gnu.org/licenses/gpl.html\"),\n\"\")))))))))))))","v":""},{"$f":"IF(ISERROR(VLOOKUP($B8,'300ppi Resolution Calc'!$A$2:$E$1001,4,0)),\"\",VLOOKUP($B8,'300ppi Resolution Calc'!$A$2:$E$1001,4,0))","v":""},{"$f":"IF(ISERROR(VLOOKUP($B8,'300ppi Resolution Calc'!$A$2:$E$1001,5,0)),\"\",VLOOKUP($B8,'300ppi Resolution Calc'!$A$2:$E$1001,5,0))","v":""}]
[null,null,null,null,null,null,null,null,null,null,null,"",{"$f":"IF(ISERROR(VLOOKUP($B9,'300ppi Resolution Calc'!$A$2:$E$1001,4,0)),\"\",VLOOKUP($B9,'300ppi Resolution Calc'!$A$2:$E$1001,4,0))","v":""},{"$f":"IF(ISERROR(VLOOKUP($B9,'300ppi Resolution Calc'!$A$2:$E$1001,5,0)),\"\",VLOOKUP($B9,'300ppi Resolution Calc'!$A$2:$E$1001,5,0))","v":""}]
[null,null,null,null,null,null,null,null,null,null,null,"",{"$f":"IF(ISERROR(VLOOKUP($B10,'300ppi Resolution Calc'!$A$2:$E$1001,4,0)),\"\",VLOOKUP($B10,'300ppi Resolution Calc'!$A$2:$E$1001,4,0))","v":""},{"$f":"IF(ISERROR(VLOOKUP($B10,'300ppi Resolution Calc'!$A$2:$E$1001,5,0)),\"\",VLOOKUP($B10,'300ppi Resolution Calc'!$A$2:$E$1001,5,0))","v":""}]
[null,null,null,null,null,null,null,null,null,null,null,"",{"$f":"IF(ISERROR(VLOOKUP($B11,'300ppi Resolution Calc'!$A$2:$E$1001,4,0)),\"\",VLOOKUP($B11,'300ppi Resolution Calc'!$A$2:$E$1001,4,0))","v":""},{"$f":"IF(ISERROR(VLOOKUP($B11,'300ppi Resolution Calc'!$A$2:$E$1001,5,0)),\"\",VLOOKUP($B11,'300ppi Resolution Calc'!$A$2:$E$1001,5,0))","v":""}]
[null,null,null,null,null,null,null,null,null,null,null,"",{"$f":"IF(ISERROR(VLOOKUP($B12,'300ppi Resolution Calc'!$A$2:$E$1001,4,0)),\"\",VLOOKUP($B12,'300ppi Resolution Calc'!$A$2:$E$1001,4,0))","v":""},{"$f":"IF(ISERROR(VLOOKUP($B12,'300ppi Resolution Calc'!$A$2:$E$1001,5,0)),\"\",VLOOKUP($B12,'300ppi Resolution Calc'!$A$2:$E$1001,5,0))","v":""}]
[null,null,null,null,null,null,null,null,null,null,null,"",{"$f":"IF(ISERROR(VLOOKUP($B13,'300ppi Resolution Calc'!$A$2:$E$1001,4,0)),\"\",VLOOKUP($B13,'300ppi Resolution Calc'!$A$2:$E$1001,4,0))","v":""},{"$f":"IF(ISERROR(VLOOKUP($B13,'300ppi Resolution Calc'!$A$2:$E$1001,5,0)),\"\",VLOOKUP($B13,'300ppi Resolution Calc'!$A$2:$E$1001,5,0))","v":""}]
[null,null,null,null,null,null,null,null,null,null,null,"",{"$f":"IF(ISERROR(VLOOKUP($B14,'300ppi Resolution Calc'!$A$2:$E$1001,4,0)),\"\",VLOOKUP($B14,'300ppi Resolution Calc'!$A$2:$E$1001,4,0))","v":""},{"$f":"IF(ISERROR(VLOOKUP($B14,'300ppi Resolution Calc'!$A$2:$E$1001,5,0)),\"\",VLOOKUP($B14,'300ppi Resolution Calc'!$A$2:$E$1001,5,0))","v":""}]
[null,null,null,null,null,null,null,null,null,null,null,"",{"$f":"IF(ISERROR(VLOOKUP($B15,'300ppi Resolution Calc'!$A$2:$E$1001,4,0)),\"\",VLOOKUP($B15,'300ppi Resolution Calc'!$A$2:$E$1001,4,0))","v":""},{"$f":"IF(ISERROR(VLOOKUP($B15,'300ppi Resolution Calc'!$A$2:$E$1001,5,0)),\"\",VLOOKUP($B15,'300ppi Resolution Calc'!$A$2:$E$1001,5,0))","v":""}]
[null,null,null,null,null,null,null,null,null,null,null,"",{"$f":"IF(ISERROR(VLOOKUP($B16,'300ppi Resolution Calc'!$A$2:$E$1001,4,0)),\"\",VLOOKUP($B16,'300ppi Resolution Calc'!$A$2:$E$1001,4,0))","v":""},{"$f":"IF(ISERROR(VLOOKUP($B16,'300ppi Resolution Calc'!$A$2:$E$1001,5,0)),\"\",VLOOKUP($B16,'300ppi Resolution Calc'!$A$2:$E$1001,5,0))","v":""}]
[null,null,null,null,null,null,null,null,null,null,null,"",{"$f":"IF(ISERROR(VLOOKUP($B17,'300ppi Resolution Calc'!$A$2:$E$1001,4,0)),\"\",VLOOKUP($B17,'300ppi Resolution Calc'!$A$2:$E$1001,4,0))","v":""},{"$f":"IF(ISERROR(VLOOKUP($B17,'300ppi Resolution Calc'!$A$2:$E$1001,5,0)),\"\",VLOOKUP($B17,'300ppi Resolution Calc'!$A$2:$E$1001,5,0))","v":""}]
[null,null,null,null,null,null,null,null,null,null,null,"",{"$f":"IF(ISERROR(VLOOKUP($B18,'300ppi Resolution Calc'!$A$2:$E$1001,4,0)),\"\",VLOOKUP($B18,'300ppi Resolution Calc'!$A$2:$E$1001,4,0))","v":""},{"$f":"IF(ISERROR(VLOOKUP($B18,'300ppi Resolution Calc'!$A$2:$E$1001,5,0)),\"\",VLOOKUP($B18,'300ppi Resolution Calc'!$A$2:$E$1001,5,0))","v":""}]
[null,null,null,null,null,null,null,null,null,null,null,"",{"$f":"IF(ISERROR(VLOOKUP($B19,'300ppi Resolution Calc'!$A$2:$E$1001,4,0)),\"\",VLOOKUP($B19,'300ppi Resolution Calc'!$A$2:$E$1001,4,0))","v":""},{"$f":"IF(ISERROR(VLOOKUP($B19,'300ppi Resolution Calc'!$A$2:$E$1001,5,0)),\"\",VLOOKUP($B19,'300ppi Resolution Calc'!$A$2:$E$1001,5,0))","v":""}]
[null,null,null,null,null,null,null,null,null,null,null,"",{"$f":"IF(ISERROR(VLOOKUP($B20,'300ppi Resolution Calc'!$A$2:$E$1001,4,0)),\"\",VLOOKUP($B20,'300ppi Resolution Calc'!$A$2:$E$1001,4,0))","v":""},{"$f":"IF(ISERROR(VLOOKUP($B20,'300ppi Resolution Calc'!$A$2:$E$1001,5,0)),\"\",VLOOKUP($B20,'300ppi Resolution Calc'!$A$2:$E$1001,5,0))","v":""}]
[null,null,null,null,null,null,null,null,null,null,null,"",{"$f":"IF(ISERROR(VLOOKUP($B21,'300ppi Resolution Calc'!$A$2:$E$1001,4,0)),\"\",VLOOKUP($B21,'300ppi Resolution Calc'!$A$2:$E$1001,4,0))","v":""},{"$f":"IF(ISERROR(VLOOKUP($B21,'300ppi Resolution Calc'!$A$2:$E$1001,5,0)),\"\",VLOOKUP($B21,'300ppi Resolution Calc'!$A$2:$E$1001,5,0))","v":""}]
[null,null,null,null,null,null,null,null,null,null,null,"",{"$f":"IF(ISERROR(VLOOKUP($B22,'300ppi Resolution Calc'!$A$2:$E$1001,4,0)),\"\",VLOOKUP($B22,'300ppi Resolution Calc'!$A$2:$E$1001,4,0))","v":""},{"$f":"IF(ISERROR(VLOOKUP($B22,'300ppi Resolution Calc'!$A$2:$E$1001,5,0)),\"\",VLOOKUP($B22,'300ppi Resolution Calc'!$A$2:$E$1001,5,0))","v":""}]
[null,null,null,null,null,null,null,null,null,null,null,"",{"$f":"IF(ISERROR(VLOOKUP($B23,'300ppi Resolution Calc'!$A$2:$E$1001,4,0)),\"\",VLOOKUP($B23,'300ppi Resolution Calc'!$A$2:$E$1001,4,0))","v":""},{"$f":"IF(ISERROR(VLOOKUP($B23,'300ppi Resolution Calc'!$A$2:$E$1001,5,0)),\"\",VLOOKUP($B23,'300ppi Resolution Calc'!$A$2:$E$1001,5,0))","v":""}]
[null,null,null,null,null,null,null,null,null,null,null,"",{"$f":"IF(ISERROR(VLOOKUP($B24,'300ppi Resolution Calc'!$A$2:$E$1001,4,0)),\"\",VLOOKUP($B24,'300ppi Resolution Calc'!$A$2:$E$1001,4,0))","v":""},{"$f":"IF(ISERROR(VLOOKUP($B24,'300ppi Resolution Calc'!$A$2:$E$1001,5,0)),\"\",VLOOKUP($B24,'300ppi Resolution Calc'!$A$2:$E$1001,5,0))","v":""}]
[null,null,null,null,null,null,null,null,null,null,null,"",{"$f":"IF(ISERROR(VLOOKUP($B25,'300ppi Resolution Calc'!$A$2:$E$1001,4,0)),\"\",VLOOKUP($B25,'300ppi Resolution Calc'!$A$2:$E$1001,4,0))","v":""},{"$f":"IF(ISERROR(VLOOKUP($B25,'300ppi Resolution Calc'!$A$2:$E$1001,5,0)),\"\",VLOOKUP($B25,'300ppi Resolution Calc'!$A$2:$E$1001,5,0))","v":""}]
[null,null,null,null,null,null,null,null,null,null,null,"",{"$f":"IF(ISERROR(VLOOKUP($B26,'300ppi Resolution Calc'!$A$2:$E$1001,4,0)),\"\",VLOOKUP($B26,'300ppi Resolution Calc'!$A$2:$E$1001,4,0))","v":""},{"$f":"IF(ISERROR(VLOOKUP($B26,'300ppi Resolution Calc'!$A$2:$E$1001,5,0)),\"\",VLOOKUP($B26,'300ppi Resolution Calc'!$A$2:$E$1001,5,0))","v":""}]
[null,null,null,null,null,null,null,null,null,null,null,"",{"$f":"IF(ISERROR(VLOOKUP($B27,'300ppi Resolution Calc'!$A$2:$E$1001,4,0)),\"\",VLOOKUP($B27,'300ppi Resolution Calc'!$A$2:$E$1001,4,0))","v":""},{"$f":"IF(ISERROR(VLOOKUP($B27,'300ppi Resolution Calc'!$A$2:$E$1001,5,0)),\"\",VLOOKUP($B27,'300ppi Resolution Calc'!$A$2:$E$1001,5,0))","v":""}]
[null,null,null,null,null,null,null,null,null,null,null,"",{"$f":"IF(ISERROR(VLOOKUP($B28,'300ppi Resolution Calc'!$A$2:$E$1001,4,0)),\"\",VLOOKUP($B28,'300ppi Resolution Calc'!$A$2:$E$1001,4,0))","v":""},{"$f":"IF(ISERROR(VLOOKUP($B28,'300ppi Resolution Calc'!$A$2:$E$1001,5,0)),\"\",VLOOKUP($B28,'300ppi Resolution Calc'!$A$2:$E$1001,5,0))","v":""}]
[null,null,null,null,null,null,null,null,null,null,null,"",{"$f":"IF(ISERROR(VLOOKUP($B29,'300ppi Resolution Calc'!$A$2:$E$1001,4,0)),\"\",VLOOKUP($B29,'300ppi Resolution Calc'!$A$2:$E$1001,4,0))","v":""},{"$f":"IF(ISERROR(VLOOKUP($B29,'300ppi Resolution Calc'!$A$2:$E$1001,5,0)),\"\",VLOOKUP($B29,'300ppi Resolution Calc'!$A$2:$E$1001,5,0))","v":""}]
[null,null,null,null,null,null,null,null,null,null,null,"",{"$f":"IF(ISERROR(VLOOKUP($B30,'300ppi Resolution Calc'!$A$2:$E$1001,4,0)),\"\",VLOOKUP($B30,'300ppi Resolution Calc'!$A$2:$E$1001,4,0))","v":""},{"$f":"IF(ISERROR(VLOOKUP($B30,'300ppi Resolution Calc'!$A$2:$E$1001,5,0)),\"\",VLOOKUP($B30,'300ppi Resolution Calc'!$A$2:$E$1001,5,0))","v":""}]
[null,null,null,null,null,null,null,null,null,null,null,"",{"$f":"IF(ISERROR(VLOOKUP($B31,'300ppi Resolution Calc'!$A$2:$E$1001,4,0)),\"\",VLOOKUP($B31,'300ppi Resolution Calc'!$A$2:$E$1001,4,0))","v":""},{"$f":"IF(ISERROR(VLOOKUP($B31,'300ppi Resolution Calc'!$A$2:$E$1001,5,0)),\"\",VLOOKUP($B31,'300ppi Resolution Calc'!$A$2:$E$1001,5,0))","v":""}]
[null,null,null,null,null,null,null,null,null,null,null,"",{"$f":"IF(ISERROR(VLOOKUP($B32,'300ppi Resolution Calc'!$A$2:$E$1001,4,0)),\"\",VLOOKUP($B32,'300ppi Resolution Calc'!$A$2:$E$1001,4,0))","v":""},{"$f":"IF(ISERROR(VLOOKUP($B32,'300ppi Resolution Calc'!$A$2:$E$1001,5,0)),\"\",VLOOKUP($B32,'300ppi Resolution Calc'!$A$2:$E$1001,5,0))","v":""}]
[null,null,null,null,null,null,null,null,null,null,null,"",{"$f":"IF(ISERROR(VLOOKUP($B33,'300ppi Resolution Calc'!$A$2:$E$1001,4,0)),\"\",VLOOKUP($B33,'300ppi Resolution Calc'!$A$2:$E$1001,4,0))","v":""},{"$f":"IF(ISERROR(VLOOKUP($B33,'300ppi Resolution Calc'!$A$2:$E$1001,5,0)),\"\",VLOOKUP($B33,'300ppi Resolution Calc'!$A$2:$E$1001,5,0))","v":""}]
[null,null,null,null,null,null,null,null,null,null,null,"",{"$f":"IF(ISERROR(VLOOKUP($B34,'300ppi Resolution Calc'!$A$2:$E$1001,4,0)),\"\",VLOOKUP($B34,'300ppi Resolution Calc'!$A$2:$E$1001,4,0))","v":""},{"$f":"IF(ISERROR(VLOOKUP($B34,'300ppi Resolution Calc'!$A$2:$E$1001,5,0)),\"\",VLOOKUP($B34,'300ppi Resolution Calc'!$A$2:$E$1001,5,0))","v":""}]
[null,null,null,null,null,null,null,null,null,null,null,"",{"$f":"IF(ISERROR(VLOOKUP($B35,'300ppi Resolution Calc'!$A$2:$E$1001,4,0)),\"\",VLOOKUP($B35,'300ppi Resolution Calc'!$A$2:$E$1001,4,0))","v":""},{"$f":"IF(ISERROR(VLOOKUP($B35,'300ppi Resolution Calc'!$A$2:$E$1001,5,0)),\"\",VLOOKUP($B35,'300ppi Resolution Calc'!$A$2:$E$1001,5,0))","v":""}]
[null,null,null,null,null,null,null,null,null,null,null,"",{"$f":"IF(ISERROR(VLOOKUP($B36,'300ppi Resolution Calc'!$A$2:$E$1001,4,0)),\"\",VLOOKUP($B36,'300ppi Resolution Calc'!$A$2:$E$1001,4,0))","v":""},{"$f":"IF(ISERROR(VLOOKUP($B36,'300ppi Resolution Calc'!$A$2:$E$1001,5,0)),\"\",VLOOKUP($B36,'300ppi Resolution Calc'!$A$2:$E$1001,5,0))","v":""}]
[null,null,null,null,null,null,null,null,null,null,null,"",{"$f":"IF(ISERROR(VLOOKUP($B37,'300ppi Resolution Calc'!$A$2:$E$1001,4,0)),\"\",VLOOKUP($B37,'300ppi Resolution Calc'!$A$2:$E$1001,4,0))","v":""},{"$f":"IF(ISERROR(VLOOKUP($B37,'300ppi Resolution Calc'!$A$2:$E$1001,5,0)),\"\",VLOOKUP($B37,'300ppi Resolution Calc'!$A$2:$E$1001,5,0))","v":""}]
[null,null,null,null,null,null,null,null,null,null,null,"",{"$f":"IF(ISERROR(VLOOKUP($B38,'300ppi Resolution Calc'!$A$2:$E$1001,4,0)),\"\",VLOOKUP($B38,'300ppi Resolution Calc'!$A$2:$E$1001,4,0))","v":""},{"$f":"IF(ISERROR(VLOOKUP($B38,'300ppi Resolution Calc'!$A$2:$E$1001,5,0)),\"\",VLOOKUP($B38,'300ppi Resolution Calc'!$A$2:$E$1001,5,0))","v":""}]
[null,null,null,null,null,null,null,null,null,null,null,"",{"$f":"IF(ISERROR(VLOOKUP($B39,'300ppi Resolution Calc'!$A$2:$E$1001,4,0)),\"\",VLOOKUP($B39,'300ppi Resolution Calc'!$A$2:$E$1001,4,0))","v":""},{"$f":"IF(ISERROR(VLOOKUP($B39,'300ppi Resolution Calc'!$A$2:$E$1001,5,0)),\"\",VLOOKUP($B39,'300ppi Resolution Calc'!$A$2:$E$1001,5,0))","v":""}]
[null,null,null,null,null,null,null,null,null,null,null,"",{"$f":"IF(ISERROR(VLOOKUP($B40,'300ppi Resolution Calc'!$A$2:$E$1001,4,0)),\"\",VLOOKUP($B40,'300ppi Resolution Calc'!$A$2:$E$1001,4,0))","v":""},{"$f":"IF(ISERROR(VLOOKUP($B40,'300ppi Resolution Calc'!$A$2:$E$1001,5,0)),\"\",VLOOKUP($B40,'300ppi Resolution Calc'!$A$2:$E$1001,5,0))","v":""}]
[null,null,null,null,null,null,null,null,null,null,null,"",{"$f":"IF(ISERROR(VLOOKUP($B41,'300ppi Resolution Calc'!$A$2:$E$1001,4,0)),\"\",VLOOKUP($B41,'300ppi Resolution Calc'!$A$2:$E$1001,4,0))","v":""},{"$f":"IF(ISERROR(VLOOKUP($B41,'300ppi Resolution Calc'!$A$2:$E$1001,5,0)),\"\",VLOOKUP($B41,'300ppi Resolution Calc'!$A$2:$E$1001,5,0))","v":""}]
[null,null,null,null,null,null,null,null,null,null,null,"",{"$f":"IF(ISERROR(VLOOKUP($B42,'300ppi Resolution Calc'!$A$2:$E$1001,4,0)),\"\",VLOOKUP($B42,'300ppi Resolution Calc'!$A$2:$E$1001,4,0))","v":""},{"$f":"IF(ISERROR(VLOOKUP($B42,'300ppi Resolution Calc'!$A$2:$E$1001,5,0)),\"\",VLOOKUP($B42,'300ppi Resolution Calc'!$A$2:$E$1001,5,0))","v":""}]
[null,null,null,null,null,null,null,null,null,null,null,"",{"$f":"IF(ISERROR(VLOOKUP($B43,'300ppi Resolution Calc'!$A$2:$E$1001,4,0)),\"\",VLOOKUP($B43,'300ppi Resolution Calc'!$A$2:$E$1001,4,0))","v":""},{"$f":"IF(ISERROR(VLOOKUP($B43,'300ppi Resolution Calc'!$A$2:$E$1001,5,0)),\"\",VLOOKUP($B43,'300ppi Resolution Calc'!$A$2:$E$1001,5,0))","v":""}]
[null,null,null,null,null,null,null,null,null,null,null,"",{"$f":"IF(ISERROR(VLOOKUP($B44,'300ppi Resolution Calc'!$A$2:$E$1001,4,0)),\"\",VLOOKUP($B44,'300ppi Resolution Calc'!$A$2:$E$1001,4,0))","v":""},{"$f":"IF(ISERROR(VLOOKUP($B44,'300ppi Resolution Calc'!$A$2:$E$1001,5,0)),\"\",VLOOKUP($B44,'300ppi Resolution Calc'!$A$2:$E$1001,5,0))","v":""}]
[null,null,null,null,null,null,null,null,null,null,null,"",{"$f":"IF(ISERROR(VLOOKUP($B45,'300ppi Resolution Calc'!$A$2:$E$1001,4,0)),\"\",VLOOKUP($B45,'300ppi Resolution Calc'!$A$2:$E$1001,4,0))","v":""},{"$f":"IF(ISERROR(VLOOKUP($B45,'300ppi Resolution Calc'!$A$2:$E$1001,5,0)),\"\",VLOOKUP($B45,'300ppi Resolution Calc'!$A$2:$E$1001,5,0))","v":""}]
[null,null,null,null,null,null,null,null,null,null,null,"",{"$f":"IF(ISERROR(VLOOKUP($B46,'300ppi Resolution Calc'!$A$2:$E$1001,4,0)),\"\",VLOOKUP($B46,'300ppi Resolution Calc'!$A$2:$E$1001,4,0))","v":""},{"$f":"IF(ISERROR(VLOOKUP($B46,'300ppi Resolution Calc'!$A$2:$E$1001,5,0)),\"\",VLOOKUP($B46,'300ppi Resolution Calc'!$A$2:$E$1001,5,0))","v":""}]
[null,null,null,null,null,null,null,null,null,null,null,"",{"$f":"IF(ISERROR(VLOOKUP($B47,'300ppi Resolution Calc'!$A$2:$E$1001,4,0)),\"\",VLOOKUP($B47,'300ppi Resolution Calc'!$A$2:$E$1001,4,0))","v":""},{"$f":"IF(ISERROR(VLOOKUP($B47,'300ppi Resolution Calc'!$A$2:$E$1001,5,0)),\"\",VLOOKUP($B47,'300ppi Resolution Calc'!$A$2:$E$1001,5,0))","v":""}]
[null,null,null,null,null,null,null,null,null,null,null,"",{"$f":"IF(ISERROR(VLOOKUP($B48,'300ppi Resolution Calc'!$A$2:$E$1001,4,0)),\"\",VLOOKUP($B48,'300ppi Resolution Calc'!$A$2:$E$1001,4,0))","v":""},{"$f":"IF(ISERROR(VLOOKUP($B48,'300ppi Resolution Calc'!$A$2:$E$1001,5,0)),\"\",VLOOKUP($B48,'300ppi Resolution Calc'!$A$2:$E$1001,5,0))","v":""}]
[null,null,null,null,null,null,null,null,null,null,null,"",{"$f":"IF(ISERROR(VLOOKUP($B49,'300ppi Resolution Calc'!$A$2:$E$1001,4,0)),\"\",VLOOKUP($B49,'300ppi Resolution Calc'!$A$2:$E$1001,4,0))","v":""},{"$f":"IF(ISERROR(VLOOKUP($B49,'300ppi Resolution Calc'!$A$2:$E$1001,5,0)),\"\",VLOOKUP($B49,'300ppi Resolution Calc'!$A$2:$E$1001,5,0))","v":""}]
[null,null,null,null,null,null,null,null,null,null,null,"",{"$f":"IF(ISERROR(VLOOKUP($B50,'300ppi Resolution Calc'!$A$2:$E$1001,4,0)),\"\",VLOOKUP($B50,'300ppi Resolution Calc'!$A$2:$E$1001,4,0))","v":""},{"$f":"IF(ISERROR(VLOOKUP($B50,'300ppi Resolution Calc'!$A$2:$E$1001,5,0)),\"\",VLOOKUP($B50,'300ppi Resolution Calc'!$A$2:$E$1001,5,0))","v":""}]
[null,null,null,null,null,null,null,null,null,null,null,"",{"$f":"IF(ISERROR(VLOOKUP($B51,'300ppi Resolution Calc'!$A$2:$E$1001,4,0)),\"\",VLOOKUP($B51,'300ppi Resolution Calc'!$A$2:$E$1001,4,0))","v":""},{"$f":"IF(ISERROR(VLOOKUP($B51,'300ppi Resolution Calc'!$A$2:$E$1001,5,0)),\"\",VLOOKUP($B51,'300ppi Resolution Calc'!$A$2:$E$1001,5,0))","v":""}]
[null,null,null,null,null,null,null,null,null,null,null,"",{"$f":"IF(ISERROR(VLOOKUP($B52,'300ppi Resolution Calc'!$A$2:$E$1001,4,0)),\"\",VLOOKUP($B52,'300ppi Resolution Calc'!$A$2:$E$1001,4,0))","v":""},{"$f":"IF(ISERROR(VLOOKUP($B52,'300ppi Resolution Calc'!$A$2:$E$1001,5,0)),\"\",VLOOKUP($B52,'300ppi Resolution Calc'!$A$2:$E$1001,5,0))","v":""}]
[null,null,null,null,null,null,null,null,null,null,null,"",{"$f":"IF(ISERROR(VLOOKUP($B53,'300ppi Resolution Calc'!$A$2:$E$1001,4,0)),\"\",VLOOKUP($B53,'300ppi Resolution Calc'!$A$2:$E$1001,4,0))","v":""},{"$f":"IF(ISERROR(VLOOKUP($B53,'300ppi Resolution Calc'!$A$2:$E$1001,5,0)),\"\",VLOOKUP($B53,'300ppi Resolution Calc'!$A$2:$E$1001,5,0))","v":""}]
[null,null,null,null,null,null,null,null,null,null,null,"",{"$f":"IF(ISERROR(VLOOKUP($B54,'300ppi Resolution Calc'!$A$2:$E$1001,4,0)),\"\",VLOOKUP($B54,'300ppi Resolution Calc'!$A$2:$E$1001,4,0))","v":""},{"$f":"IF(ISERROR(VLOOKUP($B54,'300ppi Resolution Calc'!$A$2:$E$1001,5,0)),\"\",VLOOKUP($B54,'300ppi Resolution Calc'!$A$2:$E$1001,5,0))","v":""}]
[null,null,null,null,null,null,null,null,null,null,null,"",{"$f":"IF(ISERROR(VLOOKUP($B55,'300ppi Resolution Calc'!$A$2:$E$1001,4,0)),\"\",VLOOKUP($B55,'300ppi Resolution Calc'!$A$2:$E$1001,4,0))","v":""},{"$f":"IF(ISERROR(VLOOKUP($B55,'300ppi Resolution Calc'!$A$2:$E$1001,5,0)),\"\",VLOOKUP($B55,'300ppi Resolution Calc'!$A$2:$E$1001,5,0))","v":""}]
[null,null,null,null,null,null,null,null,null,null,null,"",{"$f":"IF(ISERROR(VLOOKUP($B56,'300ppi Resolution Calc'!$A$2:$E$1001,4,0)),\"\",VLOOKUP($B56,'300ppi Resolution Calc'!$A$2:$E$1001,4,0))","v":""},{"$f":"IF(ISERROR(VLOOKUP($B56,'300ppi Resolution Calc'!$A$2:$E$1001,5,0)),\"\",VLOOKUP($B56,'300ppi Resolution Calc'!$A$2:$E$1001,5,0))","v":""}]
[null,null,null,null,null,null,null,null,null,null,null,"",{"$f":"IF(ISERROR(VLOOKUP($B57,'300ppi Resolution Calc'!$A$2:$E$1001,4,0)),\"\",VLOOKUP($B57,'300ppi Resolution Calc'!$A$2:$E$1001,4,0))","v":""},{"$f":"IF(ISERROR(VLOOKUP($B57,'300ppi Resolution Calc'!$A$2:$E$1001,5,0)),\"\",VLOOKUP($B57,'300ppi Resolution Calc'!$A$2:$E$1001,5,0))","v":""}]
[null,null,null,null,null,null,null,null,null,null,null,"",{"$f":"IF(ISERROR(VLOOKUP($B58,'300ppi Resolution Calc'!$A$2:$E$1001,4,0)),\"\",VLOOKUP($B58,'300ppi Resolution Calc'!$A$2:$E$1001,4,0))","v":""},{"$f":"IF(ISERROR(VLOOKUP($B58,'300ppi Resolution Calc'!$A$2:$E$1001,5,0)),\"\",VLOOKUP($B58,'300ppi Resolution Calc'!$A$2:$E$1001,5,0))","v":""}]
[null,null,null,null,null,null,null,null,null,null,null,"",{"$f":"IF(ISERROR(VLOOKUP($B59,'300ppi Resolution Calc'!$A$2:$E$1001,4,0)),\"\",VLOOKUP($B59,'300ppi Resolution Calc'!$A$2:$E$1001,4,0))","v":""},{"$f":"IF(ISERROR(VLOOKUP($B59,'300ppi Resolution Calc'!$A$2:$E$1001,5,0)),\"\",VLOOKUP($B59,'300ppi Resolution Calc'!$A$2:$E$1001,5,0))","v":""}]
[null,null,null,null,null,null,null,null,null,null,null,"",{"$f":"IF(ISERROR(VLOOKUP($B60,'300ppi Resolution Calc'!$A$2:$E$1001,4,0)),\"\",VLOOKUP($B60,'300ppi Resolution Calc'!$A$2:$E$1001,4,0))","v":""},{"$f":"IF(ISERROR(VLOOKUP($B60,'300ppi Resolution Calc'!$A$2:$E$1001,5,0)),\"\",VLOOKUP($B60,'300ppi Resolution Calc'!$A$2:$E$1001,5,0))","v":""}]
[null,null,null,null,null,null,null,null,null,null,null,"",{"$f":"IF(ISERROR(VLOOKUP($B61,'300ppi Resolution Calc'!$A$2:$E$1001,4,0)),\"\",VLOOKUP($B61,'300ppi Resolution Calc'!$A$2:$E$1001,4,0))","v":""},{"$f":"IF(ISERROR(VLOOKUP($B61,'300ppi Resolution Calc'!$A$2:$E$1001,5,0)),\"\",VLOOKUP($B61,'300ppi Resolution Calc'!$A$2:$E$1001,5,0))","v":""}]
[null,null,null,null,null,null,null,null,null,null,null,"",{"$f":"IF(ISERROR(VLOOKUP($B62,'300ppi Resolution Calc'!$A$2:$E$1001,4,0)),\"\",VLOOKUP($B62,'300ppi Resolution Calc'!$A$2:$E$1001,4,0))","v":""},{"$f":"IF(ISERROR(VLOOKUP($B62,'300ppi Resolution Calc'!$A$2:$E$1001,5,0)),\"\",VLOOKUP($B62,'300ppi Resolution Calc'!$A$2:$E$1001,5,0))","v":""}]
[null,null,null,null,null,null,null,null,null,null,null,"",{"$f":"IF(ISERROR(VLOOKUP($B63,'300ppi Resolution Calc'!$A$2:$E$1001,4,0)),\"\",VLOOKUP($B63,'300ppi Resolution Calc'!$A$2:$E$1001,4,0))","v":""},{"$f":"IF(ISERROR(VLOOKUP($B63,'300ppi Resolution Calc'!$A$2:$E$1001,5,0)),\"\",VLOOKUP($B63,'300ppi Resolution Calc'!$A$2:$E$1001,5,0))","v":""}]
[null,null,null,null,null,null,null,null,null,null,null,"",{"$f":"IF(ISERROR(VLOOKUP($B64,'300ppi Resolution Calc'!$A$2:$E$1001,4,0)),\"\",VLOOKUP($B64,'300ppi Resolution Calc'!$A$2:$E$1001,4,0))","v":""},{"$f":"IF(ISERROR(VLOOKUP($B64,'300ppi Resolution Calc'!$A$2:$E$1001,5,0)),\"\",VLOOKUP($B64,'300ppi Resolution Calc'!$A$2:$E$1001,5,0))","v":""}]
[null,null,null,null,null,null,null,null,null,null,null,"",{"$f":"IF(ISERROR(VLOOKUP($B65,'300ppi Resolution Calc'!$A$2:$E$1001,4,0)),\"\",VLOOKUP($B65,'300ppi Resolution Calc'!$A$2:$E$1001,4,0))","v":""},{"$f":"IF(ISERROR(VLOOKUP($B65,'300ppi Resolution Calc'!$A$2:$E$1001,5,0)),\"\",VLOOKUP($B65,'300ppi Resolution Calc'!$A$2:$E$1001,5,0))","v":""}]
[null,null,null,null,null,null,null,null,null,null,null,"",{"$f":"IF(ISERROR(VLOOKUP($B66,'300ppi Resolution Calc'!$A$2:$E$1001,4,0)),\"\",VLOOKUP($B66,'300ppi Resolution Calc'!$A$2:$E$1001,4,0))","v":""},{"$f":"IF(ISERROR(VLOOKUP($B66,'300ppi Resolution Calc'!$A$2:$E$1001,5,0)),\"\",VLOOKUP($B66,'300ppi Resolution Calc'!$A$2:$E$1001,5,0))","v":""}]
[null,null,null,null,null,null,null,null,null,null,null,"",{"$f":"IF(ISERROR(VLOOKUP($B67,'300ppi Resolution Calc'!$A$2:$E$1001,4,0)),\"\",VLOOKUP($B67,'300ppi Resolution Calc'!$A$2:$E$1001,4,0))","v":""},{"$f":"IF(ISERROR(VLOOKUP($B67,'300ppi Resolution Calc'!$A$2:$E$1001,5,0)),\"\",VLOOKUP($B67,'300ppi Resolution Calc'!$A$2:$E$1001,5,0))","v":""}]
[null,null,null,null,null,null,null,null,null,null,null,"",{"$f":"IF(ISERROR(VLOOKUP($B68,'300ppi Resolution Calc'!$A$2:$E$1001,4,0)),\"\",VLOOKUP($B68,'300ppi Resolution Calc'!$A$2:$E$1001,4,0))","v":""},{"$f":"IF(ISERROR(VLOOKUP($B68,'300ppi Resolution Calc'!$A$2:$E$1001,5,0)),\"\",VLOOKUP($B68,'300ppi Resolution Calc'!$A$2:$E$1001,5,0))","v":""}]
[null,null,null,null,null,null,null,null,null,null,null,"",{"$f":"IF(ISERROR(VLOOKUP($B69,'300ppi Resolution Calc'!$A$2:$E$1001,4,0)),\"\",VLOOKUP($B69,'300ppi Resolution Calc'!$A$2:$E$1001,4,0))","v":""},{"$f":"IF(ISERROR(VLOOKUP($B69,'300ppi Resolution Calc'!$A$2:$E$1001,5,0)),\"\",VLOOKUP($B69,'300ppi Resolution Calc'!$A$2:$E$1001,5,0))","v":""}]
[null,null,null,null,null,null,null,null,null,null,null,"",{"$f":"IF(ISERROR(VLOOKUP($B70,'300ppi Resolution Calc'!$A$2:$E$1001,4,0)),\"\",VLOOKUP($B70,'300ppi Resolution Calc'!$A$2:$E$1001,4,0))","v":""},{"$f":"IF(ISERROR(VLOOKUP($B70,'300ppi Resolution Calc'!$A$2:$E$1001,5,0)),\"\",VLOOKUP($B70,'300ppi Resolution Calc'!$A$2:$E$1001,5,0))","v":""}]
[null,null,null,null,null,null,null,null,null,null,null,"",{"$f":"IF(ISERROR(VLOOKUP($B71,'300ppi Resolution Calc'!$A$2:$E$1001,4,0)),\"\",VLOOKUP($B71,'300ppi Resolution Calc'!$A$2:$E$1001,4,0))","v":""},{"$f":"IF(ISERROR(VLOOKUP($B71,'300ppi Resolution Calc'!$A$2:$E$1001,5,0)),\"\",VLOOKUP($B71,'300ppi Resolution Calc'!$A$2:$E$1001,5,0))","v":""}]
[null,null,null,null,null,null,null,null,null,null,null,{"$f":"IF(AND(I72=\"Creative Commons License\",ISNUMBER(SEARCH(\"(\",J72))),CONCATENATE(B72,\": \",\"Copyright © by \",F72,\" \",J72,\" at \",D72,\".\"),\nIF(AND(I72=\"Creative Commons License\",NOT(ISNUMBER(SEARCH(\"(\",J72)))),CONCATENATE(B72,\": \",\"Copyright © by \",F72,\" (\",J72,\") at \",D72,\".\"),\nIF(I72=\"Public Domain\",CONCATENATE(B72,\": Source: \",D72,\".\"),\nIF(AND(I72=\"Fair Use\",OR(ISNUMBER(SEARCH(\"discuss\",J72)),ISNUMBER(SEARCH(\"critique\",J72)))),CONCATENATE(B72,\": \",\"Copyright © by \",F72,\".\"),\nIF(AND(I72=\"Fair Use\",NOT(OR(ISNUMBER(SEARCH(\"discuss\",J72)),ISNUMBER(SEARCH(\"critique\",J72))))),CONCATENATE(B72,\": Source: \",D72,\".\"),\nIF(AND(I72=\"Request to Rights Holder\",ISBLANK(E72),NOT(ISNUMBER(SEARCH(\"depositphotos\",D72))),NOT(ISNUMBER(SEARCH(\"FAL \",J72))),NOT(ISNUMBER(SEARCH(\"GNU \",J72)))),CONCATENATE(B72,\": \",\"Copyright ©\",\" by \",F72,\".\",\" Reprinted with permission.\"),\nIF(AND(I72=\"Request to Rights Holder\",NOT(ISBLANK(E72)),NOT(ISNUMBER(SEARCH(\"depositphotos\",D72))),NOT(ISNUMBER(SEARCH(\"FAL \",J72))),NOT(ISNUMBER(SEARCH(\"GNU \",J72)))),CONCATENATE(B72,\": \",\"Copyright © \",E72,\" by \",F72,\".\",\" Reprinted with permission.\"),\nIF(AND(I72=\"Request to Rights Holder\",NOT(ISBLANK(E72)),ISNUMBER(SEARCH(\"depositphotos\",D72))),CONCATENATE(B72,\":\",\" Copyright © \",E72,\" Depositphotos\",\"/\",F72,\".\"),\nIF(AND(I72=\"Request to Rights Holder\",ISBLANK(E72),ISNUMBER(SEARCH(\"depositphotos\",D72))),CONCATENATE(B72,\":\",\" Copyright © \",E72,\"Depositphotos\",\"/\",F72,\".\"),\nIF(AND(I72=\"Request to Rights Holder\",ISNUMBER(SEARCH(\"FAL \",J72)),ISNUMBER(SEARCH(\"(\",J72))),CONCATENATE(B72,\": \",\"Copyright © by \",F72,\" \",J72,\" at \",D72,\". A copy of the license can be found here: http://artlibre.org/licence/lal/en.\"),\nIF(AND(I72=\"Request to Rights Holder\",ISNUMBER(SEARCH(\"FAL \",J72)),NOT(ISNUMBER(SEARCH(\"(\",J72)))),CONCATENATE(B72,\": \",\"Copyright © by \",F72,\" (\",J72,\") at \",D72,\". A copy of the license can be found here: http://artlibre.org/licence/lal/en.\"),\nIF(AND(I72=\"Request to Rights Holder\",ISNUMBER(SEARCH(\"GNU \",J72)),ISNUMBER(SEARCH(\"(\",J72))),CONCATENATE(B72,\": \",\"Copyright © by \",F72,\" \",J72,\" at \",D72,\". A copy of the license can be found here: http://www.gnu.org/licenses/gpl.html\"),\nIF(AND(I72=\"Request to Rights Holder\",ISNUMBER(SEARCH(\"GNU \",J72)),NOT(ISNUMBER(SEARCH(\"(\",J72)))),CONCATENATE(B72,\": \",\"Copyright © by \",F72,\" (\",J72,\") at \",D72,\". A copy of the license can be found here: http://www.gnu.org/licenses/gpl.html\"),\n\"\")))))))))))))","v":""},{"$f":"IF(ISERROR(VLOOKUP($B72,'300ppi Resolution Calc'!$A$2:$E$1001,4,0)),\"\",VLOOKUP($B72,'300ppi Resolution Calc'!$A$2:$E$1001,4,0))","v":""},{"$f":"IF(ISERROR(VLOOKUP($B72,'300ppi Resolution Calc'!$A$2:$E$1001,5,0)),\"\",VLOOKUP($B72,'300ppi Resolution Calc'!$A$2:$E$1001,5,0))","v":""}]
[null,null,null,null,null,null,null,null,null,null,null,"",{"$f":"IF(ISERROR(VLOOKUP($B73,'300ppi Resolution Calc'!$A$2:$E$1001,4,0)),\"\",VLOOKUP($B73,'300ppi Resolution Calc'!$A$2:$E$1001,4,0))","v":""},{"$f":"IF(ISERROR(VLOOKUP($B73,'300ppi Resolution Calc'!$A$2:$E$1001,5,0)),\"\",VLOOKUP($B73,'300ppi Resolution Calc'!$A$2:$E$1001,5,0))","v":""}]
[null,null,null,null,null,null,null,null,null,null,null,"",{"$f":"IF(ISERROR(VLOOKUP($B74,'300ppi Resolution Calc'!$A$2:$E$1001,4,0)),\"\",VLOOKUP($B74,'300ppi Resolution Calc'!$A$2:$E$1001,4,0))","v":""},{"$f":"IF(ISERROR(VLOOKUP($B74,'300ppi Resolution Calc'!$A$2:$E$1001,5,0)),\"\",VLOOKUP($B74,'300ppi Resolution Calc'!$A$2:$E$1001,5,0))","v":""}]
[null,null,null,null,null,null,null,null,null,null,null,"",{"$f":"IF(ISERROR(VLOOKUP($B75,'300ppi Resolution Calc'!$A$2:$E$1001,4,0)),\"\",VLOOKUP($B75,'300ppi Resolution Calc'!$A$2:$E$1001,4,0))","v":""},{"$f":"IF(ISERROR(VLOOKUP($B75,'300ppi Resolution Calc'!$A$2:$E$1001,5,0)),\"\",VLOOKUP($B75,'300ppi Resolution Calc'!$A$2:$E$1001,5,0))","v":""}]
[null,null,null,null,null,null,null,null,null,null,null,"",{"$f":"IF(ISERROR(VLOOKUP($B76,'300ppi Resolution Calc'!$A$2:$E$1001,4,0)),\"\",VLOOKUP($B76,'300ppi Resolution Calc'!$A$2:$E$1001,4,0))","v":""},{"$f":"IF(ISERROR(VLOOKUP($B76,'300ppi Resolution Calc'!$A$2:$E$1001,5,0)),\"\",VLOOKUP($B76,'300ppi Resolution Calc'!$A$2:$E$1001,5,0))","v":""}]
[null,null,null,null,null,null,null,null,null,null,null,"",{"$f":"IF(ISERROR(VLOOKUP($B77,'300ppi Resolution Calc'!$A$2:$E$1001,4,0)),\"\",VLOOKUP($B77,'300ppi Resolution Calc'!$A$2:$E$1001,4,0))","v":""},{"$f":"IF(ISERROR(VLOOKUP($B77,'300ppi Resolution Calc'!$A$2:$E$1001,5,0)),\"\",VLOOKUP($B77,'300ppi Resolution Calc'!$A$2:$E$1001,5,0))","v":""}]
[null,null,null,null,null,null,null,null,null,null,null,"",{"$f":"IF(ISERROR(VLOOKUP($B78,'300ppi Resolution Calc'!$A$2:$E$1001,4,0)),\"\",VLOOKUP($B78,'300ppi Resolution Calc'!$A$2:$E$1001,4,0))","v":""},{"$f":"IF(ISERROR(VLOOKUP($B78,'300ppi Resolution Calc'!$A$2:$E$1001,5,0)),\"\",VLOOKUP($B78,'300ppi Resolution Calc'!$A$2:$E$1001,5,0))","v":""}]
[null,null,null,null,null,null,null,null,null,null,null,"",{"$f":"IF(ISERROR(VLOOKUP($B79,'300ppi Resolution Calc'!$A$2:$E$1001,4,0)),\"\",VLOOKUP($B79,'300ppi Resolution Calc'!$A$2:$E$1001,4,0))","v":""},{"$f":"IF(ISERROR(VLOOKUP($B79,'300ppi Resolution Calc'!$A$2:$E$1001,5,0)),\"\",VLOOKUP($B79,'300ppi Resolution Calc'!$A$2:$E$1001,5,0))","v":""}]
[null,null,null,null,null,null,null,null,null,null,null,"",{"$f":"IF(ISERROR(VLOOKUP($B80,'300ppi Resolution Calc'!$A$2:$E$1001,4,0)),\"\",VLOOKUP($B80,'300ppi Resolution Calc'!$A$2:$E$1001,4,0))","v":""},{"$f":"IF(ISERROR(VLOOKUP($B80,'300ppi Resolution Calc'!$A$2:$E$1001,5,0)),\"\",VLOOKUP($B80,'300ppi Resolution Calc'!$A$2:$E$1001,5,0))","v":""}]
[null,null,null,null,null,null,null,null,null,null,null,"",{"$f":"IF(ISERROR(VLOOKUP($B81,'300ppi Resolution Calc'!$A$2:$E$1001,4,0)),\"\",VLOOKUP($B81,'300ppi Resolution Calc'!$A$2:$E$1001,4,0))","v":""},{"$f":"IF(ISERROR(VLOOKUP($B81,'300ppi Resolution Calc'!$A$2:$E$1001,5,0)),\"\",VLOOKUP($B81,'300ppi Resolution Calc'!$A$2:$E$1001,5,0))","v":""}]
[null,null,null,null,null,null,null,null,null,null,null,"",{"$f":"IF(ISERROR(VLOOKUP($B82,'300ppi Resolution Calc'!$A$2:$E$1001,4,0)),\"\",VLOOKUP($B82,'300ppi Resolution Calc'!$A$2:$E$1001,4,0))","v":""},{"$f":"IF(ISERROR(VLOOKUP($B82,'300ppi Resolution Calc'!$A$2:$E$1001,5,0)),\"\",VLOOKUP($B82,'300ppi Resolution Calc'!$A$2:$E$1001,5,0))","v":""}]
[null,null,null,null,null,null,null,null,null,null,null,"",{"$f":"IF(ISERROR(VLOOKUP($B83,'300ppi Resolution Calc'!$A$2:$E$1001,4,0)),\"\",VLOOKUP($B83,'300ppi Resolution Calc'!$A$2:$E$1001,4,0))","v":""},{"$f":"IF(ISERROR(VLOOKUP($B83,'300ppi Resolution Calc'!$A$2:$E$1001,5,0)),\"\",VLOOKUP($B83,'300ppi Resolution Calc'!$A$2:$E$1001,5,0))","v":""}]
[null,null,null,null,null,null,null,null,null,null,null,"",{"$f":"IF(ISERROR(VLOOKUP($B84,'300ppi Resolution Calc'!$A$2:$E$1001,4,0)),\"\",VLOOKUP($B84,'300ppi Resolution Calc'!$A$2:$E$1001,4,0))","v":""},{"$f":"IF(ISERROR(VLOOKUP($B84,'300ppi Resolution Calc'!$A$2:$E$1001,5,0)),\"\",VLOOKUP($B84,'300ppi Resolution Calc'!$A$2:$E$1001,5,0))","v":""}]
[null,null,null,null,null,null,null,null,null,null,null,"",{"$f":"IF(ISERROR(VLOOKUP($B85,'300ppi Resolution Calc'!$A$2:$E$1001,4,0)),\"\",VLOOKUP($B85,'300ppi Resolution Calc'!$A$2:$E$1001,4,0))","v":""},{"$f":"IF(ISERROR(VLOOKUP($B85,'300ppi Resolution Calc'!$A$2:$E$1001,5,0)),\"\",VLOOKUP($B85,'300ppi Resolution Calc'!$A$2:$E$1001,5,0))","v":""}]
[null,null,null,null,null,null,null,null,null,null,null,"",{"$f":"IF(ISERROR(VLOOKUP($B86,'300ppi Resolution Calc'!$A$2:$E$1001,4,0)),\"\",VLOOKUP($B86,'300ppi Resolution Calc'!$A$2:$E$1001,4,0))","v":""},{"$f":"IF(ISERROR(VLOOKUP($B86,'300ppi Resolution Calc'!$A$2:$E$1001,5,0)),\"\",VLOOKUP($B86,'300ppi Resolution Calc'!$A$2:$E$1001,5,0))","v":""}]
[null,null,null,null,null,null,null,null,null,null,null,"",{"$f":"IF(ISERROR(VLOOKUP($B87,'300ppi Resolution Calc'!$A$2:$E$1001,4,0)),\"\",VLOOKUP($B87,'300ppi Resolution Calc'!$A$2:$E$1001,4,0))","v":""},{"$f":"IF(ISERROR(VLOOKUP($B87,'300ppi Resolution Calc'!$A$2:$E$1001,5,0)),\"\",VLOOKUP($B87,'300ppi Resolution Calc'!$A$2:$E$1001,5,0))","v":""}]
[null,null,null,null,null,null,null,null,null,null,null,"",{"$f":"IF(ISERROR(VLOOKUP($B88,'300ppi Resolution Calc'!$A$2:$E$1001,4,0)),\"\",VLOOKUP($B88,'300ppi Resolution Calc'!$A$2:$E$1001,4,0))","v":""},{"$f":"IF(ISERROR(VLOOKUP($B88,'300ppi Resolution Calc'!$A$2:$E$1001,5,0)),\"\",VLOOKUP($B88,'300ppi Resolution Calc'!$A$2:$E$1001,5,0))","v":""}]
[null,null,null,null,null,null,null,null,null,null,null,"",{"$f":"IF(ISERROR(VLOOKUP($B89,'300ppi Resolution Calc'!$A$2:$E$1001,4,0)),\"\",VLOOKUP($B89,'300ppi Resolution Calc'!$A$2:$E$1001,4,0))","v":""},{"$f":"IF(ISERROR(VLOOKUP($B89,'300ppi Resolution Calc'!$A$2:$E$1001,5,0)),\"\",VLOOKUP($B89,'300ppi Resolution Calc'!$A$2:$E$1001,5,0))","v":""}]
[null,null,null,null,null,null,null,null,null,null,null,"",{"$f":"IF(ISERROR(VLOOKUP($B90,'300ppi Resolution Calc'!$A$2:$E$1001,4,0)),\"\",VLOOKUP($B90,'300ppi Resolution Calc'!$A$2:$E$1001,4,0))","v":""},{"$f":"IF(ISERROR(VLOOKUP($B90,'300ppi Resolution Calc'!$A$2:$E$1001,5,0)),\"\",VLOOKUP($B90,'300ppi Resolution Calc'!$A$2:$E$1001,5,0))","v":""}]
[null,null,null,null,null,null,null,null,null,null,null,"",{"$f":"IF(ISERROR(VLOOKUP($B91,'300ppi Resolution Calc'!$A$2:$E$1001,4,0)),\"\",VLOOKUP($B91,'300ppi Resolution Calc'!$A$2:$E$1001,4,0))","v":""},{"$f":"IF(ISERROR(VLOOKUP($B91,'300ppi Resolution Calc'!$A$2:$E$1001,5,0)),\"\",VLOOKUP($B91,'300ppi Resolution Calc'!$A$2:$E$1001,5,0))","v":""}]
[null,null,null,null,null,null,null,null,null,null,null,"",{"$f":"IF(ISERROR(VLOOKUP($B92,'300ppi Resolution Calc'!$A$2:$E$1001,4,0)),\"\",VLOOKUP($B92,'300ppi Resolution Calc'!$A$2:$E$1001,4,0))","v":""},{"$f":"IF(ISERROR(VLOOKUP($B92,'300ppi Resolution Calc'!$A$2:$E$1001,5,0)),\"\",VLOOKUP($B92,'300ppi Resolution Calc'!$A$2:$E$1001,5,0))","v":""}]
[null,null,null,null,null,null,null,null,null,null,null,"",{"$f":"IF(ISERROR(VLOOKUP($B93,'300ppi Resolution Calc'!$A$2:$E$1001,4,0)),\"\",VLOOKUP($B93,'300ppi Resolution Calc'!$A$2:$E$1001,4,0))","v":""},{"$f":"IF(ISERROR(VLOOKUP($B93,'300ppi Resolution Calc'!$A$2:$E$1001,5,0)),\"\",VLOOKUP($B93,'300ppi Resolution Calc'!$A$2:$E$1001,5,0))","v":""}]
[null,null,null,null,null,null,null,null,null,null,null,"",{"$f":"IF(ISERROR(VLOOKUP($B94,'300ppi Resolution Calc'!$A$2:$E$1001,4,0)),\"\",VLOOKUP($B94,'300ppi Resolution Calc'!$A$2:$E$1001,4,0))","v":""},{"$f":"IF(ISERROR(VLOOKUP($B94,'300ppi Resolution Calc'!$A$2:$E$1001,5,0)),\"\",VLOOKUP($B94,'300ppi Resolution Calc'!$A$2:$E$1001,5,0))","v":""}]
[null,null,null,null,null,null,null,null,null,null,null,"",{"$f":"IF(ISERROR(VLOOKUP($B95,'300ppi Resolution Calc'!$A$2:$E$1001,4,0)),\"\",VLOOKUP($B95,'300ppi Resolution Calc'!$A$2:$E$1001,4,0))","v":""},{"$f":"IF(ISERROR(VLOOKUP($B95,'300ppi Resolution Calc'!$A$2:$E$1001,5,0)),\"\",VLOOKUP($B95,'300ppi Resolution Calc'!$A$2:$E$1001,5,0))","v":""}]
[null,null,null,null,null,null,null,null,null,null,null,"",{"$f":"IF(ISERROR(VLOOKUP($B96,'300ppi Resolution Calc'!$A$2:$E$1001,4,0)),\"\",VLOOKUP($B96,'300ppi Resolution Calc'!$A$2:$E$1001,4,0))","v":""},{"$f":"IF(ISERROR(VLOOKUP($B96,'300ppi Resolution Calc'!$A$2:$E$1001,5,0)),\"\",VLOOKUP($B96,'300ppi Resolution Calc'!$A$2:$E$1001,5,0))","v":""}]
[null,null,null,null,null,null,null,null,null,null,null,"",{"$f":"IF(ISERROR(VLOOKUP($B97,'300ppi Resolution Calc'!$A$2:$E$1001,4,0)),\"\",VLOOKUP($B97,'300ppi Resolution Calc'!$A$2:$E$1001,4,0))","v":""},{"$f":"IF(ISERROR(VLOOKUP($B97,'300ppi Resolution Calc'!$A$2:$E$1001,5,0)),\"\",VLOOKUP($B97,'300ppi Resolution Calc'!$A$2:$E$1001,5,0))","v":""}]
[null,null,null,null,null,null,null,null,null,null,null,"",{"$f":"IF(ISERROR(VLOOKUP($B98,'300ppi Resolution Calc'!$A$2:$E$1001,4,0)),\"\",VLOOKUP($B98,'300ppi Resolution Calc'!$A$2:$E$1001,4,0))","v":""},{"$f":"IF(ISERROR(VLOOKUP($B98,'300ppi Resolution Calc'!$A$2:$E$1001,5,0)),\"\",VLOOKUP($B98,'300ppi Resolution Calc'!$A$2:$E$1001,5,0))","v":""}]
[null,null,null,null,null,null,null,null,null,null,null,"",{"$f":"IF(ISERROR(VLOOKUP($B99,'300ppi Resolution Calc'!$A$2:$E$1001,4,0)),\"\",VLOOKUP($B99,'300ppi Resolution Calc'!$A$2:$E$1001,4,0))","v":""},{"$f":"IF(ISERROR(VLOOKUP($B99,'300ppi Resolution Calc'!$A$2:$E$1001,5,0)),\"\",VLOOKUP($B99,'300ppi Resolution Calc'!$A$2:$E$1001,5,0))","v":""}]
[null,null,null,null,null,null,null,null,null,null,null,"",{"$f":"IF(ISERROR(VLOOKUP($B100,'300ppi Resolution Calc'!$A$2:$E$1001,4,0)),\"\",VLOOKUP($B100,'300ppi Resolution Calc'!$A$2:$E$1001,4,0))","v":""},{"$f":"IF(ISERROR(VLOOKUP($B100,'300ppi Resolution Calc'!$A$2:$E$1001,5,0)),\"\",VLOOKUP($B100,'300ppi Resolution Calc'!$A$2:$E$1001,5,0))","v":""}]
[null,null,null,null,null,null,null,null,null,null,null,"",{"$f":"IF(ISERROR(VLOOKUP($B101,'300ppi Resolution Calc'!$A$2:$E$1001,4,0)),\"\",VLOOKUP($B101,'300ppi Resolution Calc'!$A$2:$E$1001,4,0))","v":""},{"$f":"IF(ISERROR(VLOOKUP($B101,'300ppi Resolution Calc'!$A$2:$E$1001,5,0)),\"\",VLOOKUP($B101,'300ppi Resolution Calc'!$A$2:$E$1001,5,0))","v":""}]
[null,null,null,null,null,null,null,null,null,null,null,"",{"$f":"IF(ISERROR(VLOOKUP($B102,'300ppi Resolution Calc'!$A$2:$E$1001,4,0)),\"\",VLOOKUP($B102,'300ppi Resolution Calc'!$A$2:$E$1001,4,0))","v":""},{"$f":"IF(ISERROR(VLOOKUP($B102,'300ppi Resolution Calc'!$A$2:$E$1001,5,0)),\"\",VLOOKUP($B102,'300ppi Resolution Calc'!$A$2:$E$1001,5,0))","v":""}]
[null,null,null,null,null,null,null,null,null,null,null,"",{"$f":"IF(ISERROR(VLOOKUP($B103,'300ppi Resolution Calc'!$A$2:$E$1001,4,0)),\"\",VLOOKUP($B103,'300ppi Resolution Calc'!$A$2:$E$1001,4,0))","v":""},{"$f":"IF(ISERROR(VLOOKUP($B103,'300ppi Resolution Calc'!$A$2:$E$1001,5,0)),\"\",VLOOKUP($B103,'300ppi Resolution Calc'!$A$2:$E$1001,5,0))","v":""}]
[null,null,null,null,null,null,null,null,null,null,null,"",{"$f":"IF(ISERROR(VLOOKUP($B104,'300ppi Resolution Calc'!$A$2:$E$1001,4,0)),\"\",VLOOKUP($B104,'300ppi Resolution Calc'!$A$2:$E$1001,4,0))","v":""},{"$f":"IF(ISERROR(VLOOKUP($B104,'300ppi Resolution Calc'!$A$2:$E$1001,5,0)),\"\",VLOOKUP($B104,'300ppi Resolution Calc'!$A$2:$E$1001,5,0))","v":""}]
[null,null,null,null,null,null,null,null,null,null,null,"",{"$f":"IF(ISERROR(VLOOKUP($B105,'300ppi Resolution Calc'!$A$2:$E$1001,4,0)),\"\",VLOOKUP($B105,'300ppi Resolution Calc'!$A$2:$E$1001,4,0))","v":""},{"$f":"IF(ISERROR(VLOOKUP($B105,'300ppi Resolution Calc'!$A$2:$E$1001,5,0)),\"\",VLOOKUP($B105,'300ppi Resolution Calc'!$A$2:$E$1001,5,0))","v":""}]
[null,null,null,null,null,null,null,null,null,null,null,"",{"$f":"IF(ISERROR(VLOOKUP($B106,'300ppi Resolution Calc'!$A$2:$E$1001,4,0)),\"\",VLOOKUP($B106,'300ppi Resolution Calc'!$A$2:$E$1001,4,0))","v":""},{"$f":"IF(ISERROR(VLOOKUP($B106,'300ppi Resolution Calc'!$A$2:$E$1001,5,0)),\"\",VLOOKUP($B106,'300ppi Resolution Calc'!$A$2:$E$1001,5,0))","v":""}]
[null,null,null,null,null,null,null,null,null,null,null,"",{"$f":"IF(ISERROR(VLOOKUP($B107,'300ppi Resolution Calc'!$A$2:$E$1001,4,0)),\"\",VLOOKUP($B107,'300ppi Resolution Calc'!$A$2:$E$1001,4,0))","v":""},{"$f":"IF(ISERROR(VLOOKUP($B107,'300ppi Resolution Calc'!$A$2:$E$1001,5,0)),\"\",VLOOKUP($B107,'300ppi Resolution Calc'!$A$2:$E$1001,5,0))","v":""}]
[null,null,null,null,null,null,null,null,null,null,null,"",{"$f":"IF(ISERROR(VLOOKUP($B108,'300ppi Resolution Calc'!$A$2:$E$1001,4,0)),\"\",VLOOKUP($B108,'300ppi Resolution Calc'!$A$2:$E$1001,4,0))","v":""},{"$f":"IF(ISERROR(VLOOKUP($B108,'300ppi Resolution Calc'!$A$2:$E$1001,5,0)),\"\",VLOOKUP($B108,'300ppi Resolution Calc'!$A$2:$E$1001,5,0))","v":""}]
[null,null,null,null,null,null,null,null,null,null,null,"",{"$f":"IF(ISERROR(VLOOKUP($B109,'300ppi Resolution Calc'!$A$2:$E$1001,4,0)),\"\",VLOOKUP($B109,'300ppi Resolution Calc'!$A$2:$E$1001,4,0))","v":""},{"$f":"IF(ISERROR(VLOOKUP($B109,'300ppi Resolution Calc'!$A$2:$E$1001,5,0)),\"\",VLOOKUP($B109,'300ppi Resolution Calc'!$A$2:$E$1001,5,0))","v":""}]
[null,null,null,null,null,null,null,null,null,null,null,"",{"$f":"IF(ISERROR(VLOOKUP($B110,'300ppi Resolution Calc'!$A$2:$E$1001,4,0)),\"\",VLOOKUP($B110,'300ppi Resolution Calc'!$A$2:$E$1001,4,0))","v":""},{"$f":"IF(ISERROR(VLOOKUP($B110,'300ppi Resolution Calc'!$A$2:$E$1001,5,0)),\"\",VLOOKUP($B110,'300ppi Resolution Calc'!$A$2:$E$1001,5,0))","v":""}]
[null,null,null,null,null,null,null,null,null,null,null,"",{"$f":"IF(ISERROR(VLOOKUP($B111,'300ppi Resolution Calc'!$A$2:$E$1001,4,0)),\"\",VLOOKUP($B111,'300ppi Resolution Calc'!$A$2:$E$1001,4,0))","v":""},{"$f":"IF(ISERROR(VLOOKUP($B111,'300ppi Resolution Calc'!$A$2:$E$1001,5,0)),\"\",VLOOKUP($B111,'300ppi Resolution Calc'!$A$2:$E$1001,5,0))","v":""}]
[null,null,null,null,null,null,null,null,null,null,null,"",{"$f":"IF(ISERROR(VLOOKUP($B112,'300ppi Resolution Calc'!$A$2:$E$1001,4,0)),\"\",VLOOKUP($B112,'300ppi Resolution Calc'!$A$2:$E$1001,4,0))","v":""},{"$f":"IF(ISERROR(VLOOKUP($B112,'300ppi Resolution Calc'!$A$2:$E$1001,5,0)),\"\",VLOOKUP($B112,'300ppi Resolution Calc'!$A$2:$E$1001,5,0))","v":""}]
[null,null,null,null,null,null,null,null,null,null,null,"",{"$f":"IF(ISERROR(VLOOKUP($B113,'300ppi Resolution Calc'!$A$2:$E$1001,4,0)),\"\",VLOOKUP($B113,'300ppi Resolution Calc'!$A$2:$E$1001,4,0))","v":""},{"$f":"IF(ISERROR(VLOOKUP($B113,'300ppi Resolution Calc'!$A$2:$E$1001,5,0)),\"\",VLOOKUP($B113,'300ppi Resolution Calc'!$A$2:$E$1001,5,0))","v":""}]
[null,null,null,null,null,null,null,null,null,null,null,"",{"$f":"IF(ISERROR(VLOOKUP($B114,'300ppi Resolution Calc'!$A$2:$E$1001,4,0)),\"\",VLOOKUP($B114,'300ppi Resolution Calc'!$A$2:$E$1001,4,0))","v":""},{"$f":"IF(ISERROR(VLOOKUP($B114,'300ppi Resolution Calc'!$A$2:$E$1001,5,0)),\"\",VLOOKUP($B114,'300ppi Resolution Calc'!$A$2:$E$1001,5,0))","v":""}]
[null,null,null,null,null,null,null,null,null,null,null,"",{"$f":"IF(ISERROR(VLOOKUP($B115,'300ppi Resolution Calc'!$A$2:$E$1001,4,0)),\"\",VLOOKUP($B115,'300ppi Resolution Calc'!$A$2:$E$1001,4,0))","v":""},{"$f":"IF(ISERROR(VLOOKUP($B115,'300ppi Resolution Calc'!$A$2:$E$1001,5,0)),\"\",VLOOKUP($B115,'300ppi Resolution Calc'!$A$2:$E$1001,5,0))","v":""}]
[null,null,null,null,null,null,null,null,null,null,null,"",{"$f":"IF(ISERROR(VLOOKUP($B116,'300ppi Resolution Calc'!$A$2:$E$1001,4,0)),\"\",VLOOKUP($B116,'300ppi Resolution Calc'!$A$2:$E$1001,4,0))","v":""},{"$f":"IF(ISERROR(VLOOKUP($B116,'300ppi Resolution Calc'!$A$2:$E$1001,5,0)),\"\",VLOOKUP($B116,'300ppi Resolution Calc'!$A$2:$E$1001,5,0))","v":""}]
[null,null,null,null,null,null,null,null,null,null,null,"",{"$f":"IF(ISERROR(VLOOKUP($B117,'300ppi Resolution Calc'!$A$2:$E$1001,4,0)),\"\",VLOOKUP($B117,'300ppi Resolution Calc'!$A$2:$E$1001,4,0))","v":""},{"$f":"IF(ISERROR(VLOOKUP($B117,'300ppi Resolution Calc'!$A$2:$E$1001,5,0)),\"\",VLOOKUP($B117,'300ppi Resolution Calc'!$A$2:$E$1001,5,0))","v":""}]
[null,null,null,null,null,null,null,null,null,null,null,"",{"$f":"IF(ISERROR(VLOOKUP($B118,'300ppi Resolution Calc'!$A$2:$E$1001,4,0)),\"\",VLOOKUP($B118,'300ppi Resolution Calc'!$A$2:$E$1001,4,0))","v":""},{"$f":"IF(ISERROR(VLOOKUP($B118,'300ppi Resolution Calc'!$A$2:$E$1001,5,0)),\"\",VLOOKUP($B118,'300ppi Resolution Calc'!$A$2:$E$1001,5,0))","v":""}]
[null,null,null,null,null,null,null,null,null,null,null,"",{"$f":"IF(ISERROR(VLOOKUP($B119,'300ppi Resolution Calc'!$A$2:$E$1001,4,0)),\"\",VLOOKUP($B119,'300ppi Resolution Calc'!$A$2:$E$1001,4,0))","v":""},{"$f":"IF(ISERROR(VLOOKUP($B119,'300ppi Resolution Calc'!$A$2:$E$1001,5,0)),\"\",VLOOKUP($B119,'300ppi Resolution Calc'!$A$2:$E$1001,5,0))","v":""}]
[null,null,null,null,null,null,null,null,null,null,null,"",{"$f":"IF(ISERROR(VLOOKUP($B120,'300ppi Resolution Calc'!$A$2:$E$1001,4,0)),\"\",VLOOKUP($B120,'300ppi Resolution Calc'!$A$2:$E$1001,4,0))","v":""},{"$f":"IF(ISERROR(VLOOKUP($B120,'300ppi Resolution Calc'!$A$2:$E$1001,5,0)),\"\",VLOOKUP($B120,'300ppi Resolution Calc'!$A$2:$E$1001,5,0))","v":""}]
[null,null,null,null,null,null,null,null,null,null,null,"",{"$f":"IF(ISERROR(VLOOKUP($B121,'300ppi Resolution Calc'!$A$2:$E$1001,4,0)),\"\",VLOOKUP($B121,'300ppi Resolution Calc'!$A$2:$E$1001,4,0))","v":""},{"$f":"IF(ISERROR(VLOOKUP($B121,'300ppi Resolution Calc'!$A$2:$E$1001,5,0)),\"\",VLOOKUP($B121,'300ppi Resolution Calc'!$A$2:$E$1001,5,0))","v":""}]
[null,null,null,null,null,null,null,null,null,null,null,"",{"$f":"IF(ISERROR(VLOOKUP($B122,'300ppi Resolution Calc'!$A$2:$E$1001,4,0)),\"\",VLOOKUP($B122,'300ppi Resolution Calc'!$A$2:$E$1001,4,0))","v":""},{"$f":"IF(ISERROR(VLOOKUP($B122,'300ppi Resolution Calc'!$A$2:$E$1001,5,0)),\"\",VLOOKUP($B122,'300ppi Resolution Calc'!$A$2:$E$1001,5,0))","v":""}]
[null,null,null,null,null,null,null,null,null,null,null,"",{"$f":"IF(ISERROR(VLOOKUP($B123,'300ppi Resolution Calc'!$A$2:$E$1001,4,0)),\"\",VLOOKUP($B123,'300ppi Resolution Calc'!$A$2:$E$1001,4,0))","v":""},{"$f":"IF(ISERROR(VLOOKUP($B123,'300ppi Resolution Calc'!$A$2:$E$1001,5,0)),\"\",VLOOKUP($B123,'300ppi Resolution Calc'!$A$2:$E$1001,5,0))","v":""}]
[null,null,null,null,null,null,null,null,null,null,null,"",{"$f":"IF(ISERROR(VLOOKUP($B124,'300ppi Resolution Calc'!$A$2:$E$1001,4,0)),\"\",VLOOKUP($B124,'300ppi Resolution Calc'!$A$2:$E$1001,4,0))","v":""},{"$f":"IF(ISERROR(VLOOKUP($B124,'300ppi Resolution Calc'!$A$2:$E$1001,5,0)),\"\",VLOOKUP($B124,'300ppi Resolution Calc'!$A$2:$E$1001,5,0))","v":""}]
[null,null,null,null,null,null,null,null,null,null,null,"",{"$f":"IF(ISERROR(VLOOKUP($B125,'300ppi Resolution Calc'!$A$2:$E$1001,4,0)),\"\",VLOOKUP($B125,'300ppi Resolution Calc'!$A$2:$E$1001,4,0))","v":""},{"$f":"IF(ISERROR(VLOOKUP($B125,'300ppi Resolution Calc'!$A$2:$E$1001,5,0)),\"\",VLOOKUP($B125,'300ppi Resolution Calc'!$A$2:$E$1001,5,0))","v":""}]
[null,null,null,null,null,null,null,null,null,null,null,"",{"$f":"IF(ISERROR(VLOOKUP($B126,'300ppi Resolution Calc'!$A$2:$E$1001,4,0)),\"\",VLOOKUP($B126,'300ppi Resolution Calc'!$A$2:$E$1001,4,0))","v":""},{"$f":"IF(ISERROR(VLOOKUP($B126,'300ppi Resolution Calc'!$A$2:$E$1001,5,0)),\"\",VLOOKUP($B126,'300ppi Resolution Calc'!$A$2:$E$1001,5,0))","v":""}]
[null,null,null,null,null,null,null,null,null,null,null,"",{"$f":"IF(ISERROR(VLOOKUP($B127,'300ppi Resolution Calc'!$A$2:$E$1001,4,0)),\"\",VLOOKUP($B127,'300ppi Resolution Calc'!$A$2:$E$1001,4,0))","v":""},{"$f":"IF(ISERROR(VLOOKUP($B127,'300ppi Resolution Calc'!$A$2:$E$1001,5,0)),\"\",VLOOKUP($B127,'300ppi Resolution Calc'!$A$2:$E$1001,5,0))","v":""}]
[null,null,null,null,null,null,null,null,null,null,null,"",{"$f":"IF(ISERROR(VLOOKUP($B128,'300ppi Resolution Calc'!$A$2:$E$1001,4,0)),\"\",VLOOKUP($B128,'300ppi Resolution Calc'!$A$2:$E$1001,4,0))","v":""},{"$f":"IF(ISERROR(VLOOKUP($B128,'300ppi Resolution Calc'!$A$2:$E$1001,5,0)),\"\",VLOOKUP($B128,'300ppi Resolution Calc'!$A$2:$E$1001,5,0))","v":""}]
[null,null,null,null,null,null,null,null,null,null,null,"",{"$f":"IF(ISERROR(VLOOKUP($B129,'300ppi Resolution Calc'!$A$2:$E$1001,4,0)),\"\",VLOOKUP($B129,'300ppi Resolution Calc'!$A$2:$E$1001,4,0))","v":""},{"$f":"IF(ISERROR(VLOOKUP($B129,'300ppi Resolution Calc'!$A$2:$E$1001,5,0)),\"\",VLOOKUP($B129,'300ppi Resolution Calc'!$A$2:$E$1001,5,0))","v":""}]
[null,null,null,null,null,null,null,null,null,null,null,"",{"$f":"IF(ISERROR(VLOOKUP($B130,'300ppi Resolution Calc'!$A$2:$E$1001,4,0)),\"\",VLOOKUP($B130,'300ppi Resolution Calc'!$A$2:$E$1001,4,0))","v":""},{"$f":"IF(ISERROR(VLOOKUP($B130,'300ppi Resolution Calc'!$A$2:$E$1001,5,0)),\"\",VLOOKUP($B130,'300ppi Resolution Calc'!$A$2:$E$1001,5,0))","v":""}]
[null,null,null,null,null,null,null,null,null,null,null,"",{"$f":"IF(ISERROR(VLOOKUP($B131,'300ppi Resolution Calc'!$A$2:$E$1001,4,0)),\"\",VLOOKUP($B131,'300ppi Resolution Calc'!$A$2:$E$1001,4,0))","v":""},{"$f":"IF(ISERROR(VLOOKUP($B131,'300ppi Resolution Calc'!$A$2:$E$1001,5,0)),\"\",VLOOKUP($B131,'300ppi Resolution Calc'!$A$2:$E$1001,5,0))","v":""}]
[null,null,null,null,null,null,null,null,null,null,null,"",{"$f":"IF(ISERROR(VLOOKUP($B132,'300ppi Resolution Calc'!$A$2:$E$1001,4,0)),\"\",VLOOKUP($B132,'300ppi Resolution Calc'!$A$2:$E$1001,4,0))","v":""},{"$f":"IF(ISERROR(VLOOKUP($B132,'300ppi Resolution Calc'!$A$2:$E$1001,5,0)),\"\",VLOOKUP($B132,'300ppi Resolution Calc'!$A$2:$E$1001,5,0))","v":""}]
[null,null,null,null,null,null,null,null,null,null,null,"",{"$f":"IF(ISERROR(VLOOKUP($B133,'300ppi Resolution Calc'!$A$2:$E$1001,4,0)),\"\",VLOOKUP($B133,'300ppi Resolution Calc'!$A$2:$E$1001,4,0))","v":""},{"$f":"IF(ISERROR(VLOOKUP($B133,'300ppi Resolution Calc'!$A$2:$E$1001,5,0)),\"\",VLOOKUP($B133,'300ppi Resolution Calc'!$A$2:$E$1001,5,0))","v":""}]
[null,null,null,null,null,null,null,null,null,null,null,"",{"$f":"IF(ISERROR(VLOOKUP($B134,'300ppi Resolution Calc'!$A$2:$E$1001,4,0)),\"\",VLOOKUP($B134,'300ppi Resolution Calc'!$A$2:$E$1001,4,0))","v":""},{"$f":"IF(ISERROR(VLOOKUP($B134,'300ppi Resolution Calc'!$A$2:$E$1001,5,0)),\"\",VLOOKUP($B134,'300ppi Resolution Calc'!$A$2:$E$1001,5,0))","v":""}]
[null,null,null,null,null,null,null,null,null,null,null,"",{"$f":"IF(ISERROR(VLOOKUP($B135,'300ppi Resolution Calc'!$A$2:$E$1001,4,0)),\"\",VLOOKUP($B135,'300ppi Resolution Calc'!$A$2:$E$1001,4,0))","v":""},{"$f":"IF(ISERROR(VLOOKUP($B135,'300ppi Resolution Calc'!$A$2:$E$1001,5,0)),\"\",VLOOKUP($B135,'300ppi Resolution Calc'!$A$2:$E$1001,5,0))","v":""}]
[null,null,null,null,null,null,null,null,null,null,null,{"$f":"IF(AND(I136=\"Creative Commons License\",ISNUMBER(SEARCH(\"(\",J136))),CONCATENATE(B136,\": \",\"Copyright © by \",F136,\" \",J136,\" at \",D136,\".\"),\nIF(AND(I136=\"Creative Commons License\",NOT(ISNUMBER(SEARCH(\"(\",J136)))),CONCATENATE(B136,\": \",\"Copyright © by \",F136,\" (\",J136,\") at \",D136,\".\"),\nIF(I136=\"Public Domain\",CONCATENATE(B136,\": Source: \",D136,\".\"),\nIF(AND(I136=\"Fair Use\",OR(ISNUMBER(SEARCH(\"discuss\",J136)),ISNUMBER(SEARCH(\"critique\",J136)))),CONCATENATE(B136,\": \",\"Copyright © by \",F136,\".\"),\nIF(AND(I136=\"Fair Use\",NOT(OR(ISNUMBER(SEARCH(\"discuss\",J136)),ISNUMBER(SEARCH(\"critique\",J136))))),CONCATENATE(B136,\": Source: \",D136,\".\"),\nIF(AND(I136=\"Request to Rights Holder\",ISBLANK(E136),NOT(ISNUMBER(SEARCH(\"depositphotos\",D136))),NOT(ISNUMBER(SEARCH(\"FAL \",J136))),NOT(ISNUMBER(SEARCH(\"GNU \",J136)))),CONCATENATE(B136,\": \",\"Copyright ©\",\" by \",F136,\".\",\" Reprinted with permission.\"),\nIF(AND(I136=\"Request to Rights Holder\",NOT(ISBLANK(E136)),NOT(ISNUMBER(SEARCH(\"depositphotos\",D136))),NOT(ISNUMBER(SEARCH(\"FAL \",J136))),NOT(ISNUMBER(SEARCH(\"GNU \",J136)))),CONCATENATE(B136,\": \",\"Copyright © \",E136,\" by \",F136,\".\",\" Reprinted with permission.\"),\nIF(AND(I136=\"Request to Rights Holder\",NOT(ISBLANK(E136)),ISNUMBER(SEARCH(\"depositphotos\",D136))),CONCATENATE(B136,\":\",\" Copyright © \",E136,\" Depositphotos\",\"/\",F136,\".\"),\nIF(AND(I136=\"Request to Rights Holder\",ISBLANK(E136),ISNUMBER(SEARCH(\"depositphotos\",D136))),CONCATENATE(B136,\":\",\" Copyright © \",E136,\"Depositphotos\",\"/\",F136,\".\"),\nIF(AND(I136=\"Request to Rights Holder\",ISNUMBER(SEARCH(\"FAL \",J136)),ISNUMBER(SEARCH(\"(\",J136))),CONCATENATE(B136,\": \",\"Copyright © by \",F136,\" \",J136,\" at \",D136,\". A copy of the license can be found here: http://artlibre.org/licence/lal/en.\"),\nIF(AND(I136=\"Request to Rights Holder\",ISNUMBER(SEARCH(\"FAL \",J136)),NOT(ISNUMBER(SEARCH(\"(\",J136)))),CONCATENATE(B136,\": \",\"Copyright © by \",F136,\" (\",J136,\") at \",D136,\". A copy of the license can be found here: http://artlibre.org/licence/lal/en.\"),\nIF(AND(I136=\"Request to Rights Holder\",ISNUMBER(SEARCH(\"GNU \",J136)),ISNUMBER(SEARCH(\"(\",J136))),CONCATENATE(B136,\": \",\"Copyright © by \",F136,\" \",J136,\" at \",D136,\". A copy of the license can be found here: http://www.gnu.org/licenses/gpl.html\"),\nIF(AND(I136=\"Request to Rights Holder\",ISNUMBER(SEARCH(\"GNU \",J136)),NOT(ISNUMBER(SEARCH(\"(\",J136)))),CONCATENATE(B136,\": \",\"Copyright © by \",F136,\" (\",J136,\") at \",D136,\". A copy of the license can be found here: http://www.gnu.org/licenses/gpl.html\"),\n\"\")))))))))))))","v":""},{"$f":"IF(ISERROR(VLOOKUP($B136,'300ppi Resolution Calc'!$A$2:$E$1001,4,0)),\"\",VLOOKUP($B136,'300ppi Resolution Calc'!$A$2:$E$1001,4,0))","v":""},{"$f":"IF(ISERROR(VLOOKUP($B136,'300ppi Resolution Calc'!$A$2:$E$1001,5,0)),\"\",VLOOKUP($B136,'300ppi Resolution Calc'!$A$2:$E$1001,5,0))","v":""}]
[null,null,null,null,null,null,null,null,null,null,null,"",{"$f":"IF(ISERROR(VLOOKUP($B137,'300ppi Resolution Calc'!$A$2:$E$1001,4,0)),\"\",VLOOKUP($B137,'300ppi Resolution Calc'!$A$2:$E$1001,4,0))","v":""},{"$f":"IF(ISERROR(VLOOKUP($B137,'300ppi Resolution Calc'!$A$2:$E$1001,5,0)),\"\",VLOOKUP($B137,'300ppi Resolution Calc'!$A$2:$E$1001,5,0))","v":""}]
[null,null,null,null,null,null,null,null,null,null,null,"",{"$f":"IF(ISERROR(VLOOKUP($B138,'300ppi Resolution Calc'!$A$2:$E$1001,4,0)),\"\",VLOOKUP($B138,'300ppi Resolution Calc'!$A$2:$E$1001,4,0))","v":""},{"$f":"IF(ISERROR(VLOOKUP($B138,'300ppi Resolution Calc'!$A$2:$E$1001,5,0)),\"\",VLOOKUP($B138,'300ppi Resolution Calc'!$A$2:$E$1001,5,0))","v":""}]
[null,null,null,null,null,null,null,null,null,null,null,"",{"$f":"IF(ISERROR(VLOOKUP($B139,'300ppi Resolution Calc'!$A$2:$E$1001,4,0)),\"\",VLOOKUP($B139,'300ppi Resolution Calc'!$A$2:$E$1001,4,0))","v":""},{"$f":"IF(ISERROR(VLOOKUP($B139,'300ppi Resolution Calc'!$A$2:$E$1001,5,0)),\"\",VLOOKUP($B139,'300ppi Resolution Calc'!$A$2:$E$1001,5,0))","v":""}]
[null,null,null,null,null,null,null,null,null,null,null,"",{"$f":"IF(ISERROR(VLOOKUP($B140,'300ppi Resolution Calc'!$A$2:$E$1001,4,0)),\"\",VLOOKUP($B140,'300ppi Resolution Calc'!$A$2:$E$1001,4,0))","v":""},{"$f":"IF(ISERROR(VLOOKUP($B140,'300ppi Resolution Calc'!$A$2:$E$1001,5,0)),\"\",VLOOKUP($B140,'300ppi Resolution Calc'!$A$2:$E$1001,5,0))","v":""}]
[null,null,null,null,null,null,null,null,null,null,null,"",{"$f":"IF(ISERROR(VLOOKUP($B141,'300ppi Resolution Calc'!$A$2:$E$1001,4,0)),\"\",VLOOKUP($B141,'300ppi Resolution Calc'!$A$2:$E$1001,4,0))","v":""},{"$f":"IF(ISERROR(VLOOKUP($B141,'300ppi Resolution Calc'!$A$2:$E$1001,5,0)),\"\",VLOOKUP($B141,'300ppi Resolution Calc'!$A$2:$E$1001,5,0))","v":""}]
[null,null,null,null,null,null,null,null,null,null,null,"",{"$f":"IF(ISERROR(VLOOKUP($B142,'300ppi Resolution Calc'!$A$2:$E$1001,4,0)),\"\",VLOOKUP($B142,'300ppi Resolution Calc'!$A$2:$E$1001,4,0))","v":""},{"$f":"IF(ISERROR(VLOOKUP($B142,'300ppi Resolution Calc'!$A$2:$E$1001,5,0)),\"\",VLOOKUP($B142,'300ppi Resolution Calc'!$A$2:$E$1001,5,0))","v":""}]
[null,null,null,null,null,null,null,null,null,null,null,"",{"$f":"IF(ISERROR(VLOOKUP($B143,'300ppi Resolution Calc'!$A$2:$E$1001,4,0)),\"\",VLOOKUP($B143,'300ppi Resolution Calc'!$A$2:$E$1001,4,0))","v":""},{"$f":"IF(ISERROR(VLOOKUP($B143,'300ppi Resolution Calc'!$A$2:$E$1001,5,0)),\"\",VLOOKUP($B143,'300ppi Resolution Calc'!$A$2:$E$1001,5,0))","v":""}]
[null,null,null,null,null,null,null,null,null,null,null,"",{"$f":"IF(ISERROR(VLOOKUP($B144,'300ppi Resolution Calc'!$A$2:$E$1001,4,0)),\"\",VLOOKUP($B144,'300ppi Resolution Calc'!$A$2:$E$1001,4,0))","v":""},{"$f":"IF(ISERROR(VLOOKUP($B144,'300ppi Resolution Calc'!$A$2:$E$1001,5,0)),\"\",VLOOKUP($B144,'300ppi Resolution Calc'!$A$2:$E$1001,5,0))","v":""}]
[null,null,null,null,null,null,null,null,null,null,null,"",{"$f":"IF(ISERROR(VLOOKUP($B145,'300ppi Resolution Calc'!$A$2:$E$1001,4,0)),\"\",VLOOKUP($B145,'300ppi Resolution Calc'!$A$2:$E$1001,4,0))","v":""},{"$f":"IF(ISERROR(VLOOKUP($B145,'300ppi Resolution Calc'!$A$2:$E$1001,5,0)),\"\",VLOOKUP($B145,'300ppi Resolution Calc'!$A$2:$E$1001,5,0))","v":""}]
[null,null,null,null,null,null,null,null,null,null,null,"",{"$f":"IF(ISERROR(VLOOKUP($B146,'300ppi Resolution Calc'!$A$2:$E$1001,4,0)),\"\",VLOOKUP($B146,'300ppi Resolution Calc'!$A$2:$E$1001,4,0))","v":""},{"$f":"IF(ISERROR(VLOOKUP($B146,'300ppi Resolution Calc'!$A$2:$E$1001,5,0)),\"\",VLOOKUP($B146,'300ppi Resolution Calc'!$A$2:$E$1001,5,0))","v":""}]
[null,null,null,null,null,null,null,null,null,null,null,"",{"$f":"IF(ISERROR(VLOOKUP($B147,'300ppi Resolution Calc'!$A$2:$E$1001,4,0)),\"\",VLOOKUP($B147,'300ppi Resolution Calc'!$A$2:$E$1001,4,0))","v":""},{"$f":"IF(ISERROR(VLOOKUP($B147,'300ppi Resolution Calc'!$A$2:$E$1001,5,0)),\"\",VLOOKUP($B147,'300ppi Resolution Calc'!$A$2:$E$1001,5,0))","v":""}]
[null,null,null,null,null,null,null,null,null,null,null,"",{"$f":"IF(ISERROR(VLOOKUP($B148,'300ppi Resolution Calc'!$A$2:$E$1001,4,0)),\"\",VLOOKUP($B148,'300ppi Resolution Calc'!$A$2:$E$1001,4,0))","v":""},{"$f":"IF(ISERROR(VLOOKUP($B148,'300ppi Resolution Calc'!$A$2:$E$1001,5,0)),\"\",VLOOKUP($B148,'300ppi Resolution Calc'!$A$2:$E$1001,5,0))","v":""}]
[null,null,null,null,null,null,null,null,null,null,null,"",{"$f":"IF(ISERROR(VLOOKUP($B149,'300ppi Resolution Calc'!$A$2:$E$1001,4,0)),\"\",VLOOKUP($B149,'300ppi Resolution Calc'!$A$2:$E$1001,4,0))","v":""},{"$f":"IF(ISERROR(VLOOKUP($B149,'300ppi Resolution Calc'!$A$2:$E$1001,5,0)),\"\",VLOOKUP($B149,'300ppi Resolution Calc'!$A$2:$E$1001,5,0))","v":""}]
[null,null,null,null,null,null,null,null,null,null,null,"",{"$f":"IF(ISERROR(VLOOKUP($B150,'300ppi Resolution Calc'!$A$2:$E$1001,4,0)),\"\",VLOOKUP($B150,'300ppi Resolution Calc'!$A$2:$E$1001,4,0))","v":""},{"$f":"IF(ISERROR(VLOOKUP($B150,'300ppi Resolution Calc'!$A$2:$E$1001,5,0)),\"\",VLOOKUP($B150,'300ppi Resolution Calc'!$A$2:$E$1001,5,0))","v":""}]
[null,null,null,null,null,null,null,null,null,null,null,"",{"$f":"IF(ISERROR(VLOOKUP($B151,'300ppi Resolution Calc'!$A$2:$E$1001,4,0)),\"\",VLOOKUP($B151,'300ppi Resolution Calc'!$A$2:$E$1001,4,0))","v":""},{"$f":"IF(ISERROR(VLOOKUP($B151,'300ppi Resolution Calc'!$A$2:$E$1001,5,0)),\"\",VLOOKUP($B151,'300ppi Resolution Calc'!$A$2:$E$1001,5,0))","v":""}]
[null,null,null,null,null,null,null,null,null,null,null,"",{"$f":"IF(ISERROR(VLOOKUP($B152,'300ppi Resolution Calc'!$A$2:$E$1001,4,0)),\"\",VLOOKUP($B152,'300ppi Resolution Calc'!$A$2:$E$1001,4,0))","v":""},{"$f":"IF(ISERROR(VLOOKUP($B152,'300ppi Resolution Calc'!$A$2:$E$1001,5,0)),\"\",VLOOKUP($B152,'300ppi Resolution Calc'!$A$2:$E$1001,5,0))","v":""}]
[null,null,null,null,null,null,null,null,null,null,null,"",{"$f":"IF(ISERROR(VLOOKUP($B153,'300ppi Resolution Calc'!$A$2:$E$1001,4,0)),\"\",VLOOKUP($B153,'300ppi Resolution Calc'!$A$2:$E$1001,4,0))","v":""},{"$f":"IF(ISERROR(VLOOKUP($B153,'300ppi Resolution Calc'!$A$2:$E$1001,5,0)),\"\",VLOOKUP($B153,'300ppi Resolution Calc'!$A$2:$E$1001,5,0))","v":""}]
[null,null,null,null,null,null,null,null,null,null,null,"",{"$f":"IF(ISERROR(VLOOKUP($B154,'300ppi Resolution Calc'!$A$2:$E$1001,4,0)),\"\",VLOOKUP($B154,'300ppi Resolution Calc'!$A$2:$E$1001,4,0))","v":""},{"$f":"IF(ISERROR(VLOOKUP($B154,'300ppi Resolution Calc'!$A$2:$E$1001,5,0)),\"\",VLOOKUP($B154,'300ppi Resolution Calc'!$A$2:$E$1001,5,0))","v":""}]
[null,null,null,null,null,null,null,null,null,null,null,"",{"$f":"IF(ISERROR(VLOOKUP($B155,'300ppi Resolution Calc'!$A$2:$E$1001,4,0)),\"\",VLOOKUP($B155,'300ppi Resolution Calc'!$A$2:$E$1001,4,0))","v":""},{"$f":"IF(ISERROR(VLOOKUP($B155,'300ppi Resolution Calc'!$A$2:$E$1001,5,0)),\"\",VLOOKUP($B155,'300ppi Resolution Calc'!$A$2:$E$1001,5,0))","v":""}]
[null,null,null,null,null,null,null,null,null,null,null,"",{"$f":"IF(ISERROR(VLOOKUP($B156,'300ppi Resolution Calc'!$A$2:$E$1001,4,0)),\"\",VLOOKUP($B156,'300ppi Resolution Calc'!$A$2:$E$1001,4,0))","v":""},{"$f":"IF(ISERROR(VLOOKUP($B156,'300ppi Resolution Calc'!$A$2:$E$1001,5,0)),\"\",VLOOKUP($B156,'300ppi Resolution Calc'!$A$2:$E$1001,5,0))","v":""}]
[null,null,null,null,null,null,null,null,null,null,null,"",{"$f":"IF(ISERROR(VLOOKUP($B157,'300ppi Resolution Calc'!$A$2:$E$1001,4,0)),\"\",VLOOKUP($B157,'300ppi Resolution Calc'!$A$2:$E$1001,4,0))","v":""},{"$f":"IF(ISERROR(VLOOKUP($B157,'300ppi Resolution Calc'!$A$2:$E$1001,5,0)),\"\",VLOOKUP($B157,'300ppi Resolution Calc'!$A$2:$E$1001,5,0))","v":""}]
[null,null,null,null,null,null,null,null,null,null,null,"",{"$f":"IF(ISERROR(VLOOKUP($B158,'300ppi Resolution Calc'!$A$2:$E$1001,4,0)),\"\",VLOOKUP($B158,'300ppi Resolution Calc'!$A$2:$E$1001,4,0))","v":""},{"$f":"IF(ISERROR(VLOOKUP($B158,'300ppi Resolution Calc'!$A$2:$E$1001,5,0)),\"\",VLOOKUP($B158,'300ppi Resolution Calc'!$A$2:$E$1001,5,0))","v":""}]
[null,null,null,null,null,null,null,null,null,null,null,"",{"$f":"IF(ISERROR(VLOOKUP($B159,'300ppi Resolution Calc'!$A$2:$E$1001,4,0)),\"\",VLOOKUP($B159,'300ppi Resolution Calc'!$A$2:$E$1001,4,0))","v":""},{"$f":"IF(ISERROR(VLOOKUP($B159,'300ppi Resolution Calc'!$A$2:$E$1001,5,0)),\"\",VLOOKUP($B159,'300ppi Resolution Calc'!$A$2:$E$1001,5,0))","v":""}]
[null,null,null,null,null,null,null,null,null,null,null,"",{"$f":"IF(ISERROR(VLOOKUP($B160,'300ppi Resolution Calc'!$A$2:$E$1001,4,0)),\"\",VLOOKUP($B160,'300ppi Resolution Calc'!$A$2:$E$1001,4,0))","v":""},{"$f":"IF(ISERROR(VLOOKUP($B160,'300ppi Resolution Calc'!$A$2:$E$1001,5,0)),\"\",VLOOKUP($B160,'300ppi Resolution Calc'!$A$2:$E$1001,5,0))","v":""}]
[null,null,null,null,null,null,null,null,null,null,null,"",{"$f":"IF(ISERROR(VLOOKUP($B161,'300ppi Resolution Calc'!$A$2:$E$1001,4,0)),\"\",VLOOKUP($B161,'300ppi Resolution Calc'!$A$2:$E$1001,4,0))","v":""},{"$f":"IF(ISERROR(VLOOKUP($B161,'300ppi Resolution Calc'!$A$2:$E$1001,5,0)),\"\",VLOOKUP($B161,'300ppi Resolution Calc'!$A$2:$E$1001,5,0))","v":""}]
[null,null,null,null,null,null,null,null,null,null,null,"",{"$f":"IF(ISERROR(VLOOKUP($B162,'300ppi Resolution Calc'!$A$2:$E$1001,4,0)),\"\",VLOOKUP($B162,'300ppi Resolution Calc'!$A$2:$E$1001,4,0))","v":""},{"$f":"IF(ISERROR(VLOOKUP($B162,'300ppi Resolution Calc'!$A$2:$E$1001,5,0)),\"\",VLOOKUP($B162,'300ppi Resolution Calc'!$A$2:$E$1001,5,0))","v":""}]
[null,null,null,null,null,null,null,null,null,null,null,"",{"$f":"IF(ISERROR(VLOOKUP($B163,'300ppi Resolution Calc'!$A$2:$E$1001,4,0)),\"\",VLOOKUP($B163,'300ppi Resolution Calc'!$A$2:$E$1001,4,0))","v":""},{"$f":"IF(ISERROR(VLOOKUP($B163,'300ppi Resolution Calc'!$A$2:$E$1001,5,0)),\"\",VLOOKUP($B163,'300ppi Resolution Calc'!$A$2:$E$1001,5,0))","v":""}]
[null,null,null,null,null,null,null,null,null,null,null,"",{"$f":"IF(ISERROR(VLOOKUP($B164,'300ppi Resolution Calc'!$A$2:$E$1001,4,0)),\"\",VLOOKUP($B164,'300ppi Resolution Calc'!$A$2:$E$1001,4,0))","v":""},{"$f":"IF(ISERROR(VLOOKUP($B164,'300ppi Resolution Calc'!$A$2:$E$1001,5,0)),\"\",VLOOKUP($B164,'300ppi Resolution Calc'!$A$2:$E$1001,5,0))","v":""}]
[null,null,null,null,null,null,null,null,null,null,null,"",{"$f":"IF(ISERROR(VLOOKUP($B165,'300ppi Resolution Calc'!$A$2:$E$1001,4,0)),\"\",VLOOKUP($B165,'300ppi Resolution Calc'!$A$2:$E$1001,4,0))","v":""},{"$f":"IF(ISERROR(VLOOKUP($B165,'300ppi Resolution Calc'!$A$2:$E$1001,5,0)),\"\",VLOOKUP($B165,'300ppi Resolution Calc'!$A$2:$E$1001,5,0))","v":""}]
[null,null,null,null,null,null,null,null,null,null,null,"",{"$f":"IF(ISERROR(VLOOKUP($B166,'300ppi Resolution Calc'!$A$2:$E$1001,4,0)),\"\",VLOOKUP($B166,'300ppi Resolution Calc'!$A$2:$E$1001,4,0))","v":""},{"$f":"IF(ISERROR(VLOOKUP($B166,'300ppi Resolution Calc'!$A$2:$E$1001,5,0)),\"\",VLOOKUP($B166,'300ppi Resolution Calc'!$A$2:$E$1001,5,0))","v":""}]
[null,null,null,null,null,null,null,null,null,null,null,"",{"$f":"IF(ISERROR(VLOOKUP($B167,'300ppi Resolution Calc'!$A$2:$E$1001,4,0)),\"\",VLOOKUP($B167,'300ppi Resolution Calc'!$A$2:$E$1001,4,0))","v":""},{"$f":"IF(ISERROR(VLOOKUP($B167,'300ppi Resolution Calc'!$A$2:$E$1001,5,0)),\"\",VLOOKUP($B167,'300ppi Resolution Calc'!$A$2:$E$1001,5,0))","v":""}]
[null,null,null,null,null,null,null,null,null,null,null,"",{"$f":"IF(ISERROR(VLOOKUP($B168,'300ppi Resolution Calc'!$A$2:$E$1001,4,0)),\"\",VLOOKUP($B168,'300ppi Resolution Calc'!$A$2:$E$1001,4,0))","v":""},{"$f":"IF(ISERROR(VLOOKUP($B168,'300ppi Resolution Calc'!$A$2:$E$1001,5,0)),\"\",VLOOKUP($B168,'300ppi Resolution Calc'!$A$2:$E$1001,5,0))","v":""}]
[null,null,null,null,null,null,null,null,null,null,null,"",{"$f":"IF(ISERROR(VLOOKUP($B169,'300ppi Resolution Calc'!$A$2:$E$1001,4,0)),\"\",VLOOKUP($B169,'300ppi Resolution Calc'!$A$2:$E$1001,4,0))","v":""},{"$f":"IF(ISERROR(VLOOKUP($B169,'300ppi Resolution Calc'!$A$2:$E$1001,5,0)),\"\",VLOOKUP($B169,'300ppi Resolution Calc'!$A$2:$E$1001,5,0))","v":""}]
[null,null,null,null,null,null,null,null,null,null,null,"",{"$f":"IF(ISERROR(VLOOKUP($B170,'300ppi Resolution Calc'!$A$2:$E$1001,4,0)),\"\",VLOOKUP($B170,'300ppi Resolution Calc'!$A$2:$E$1001,4,0))","v":""},{"$f":"IF(ISERROR(VLOOKUP($B170,'300ppi Resolution Calc'!$A$2:$E$1001,5,0)),\"\",VLOOKUP($B170,'300ppi Resolution Calc'!$A$2:$E$1001,5,0))","v":""}]
[null,null,null,null,null,null,null,null,null,null,null,"",{"$f":"IF(ISERROR(VLOOKUP($B171,'300ppi Resolution Calc'!$A$2:$E$1001,4,0)),\"\",VLOOKUP($B171,'300ppi Resolution Calc'!$A$2:$E$1001,4,0))","v":""},{"$f":"IF(ISERROR(VLOOKUP($B171,'300ppi Resolution Calc'!$A$2:$E$1001,5,0)),\"\",VLOOKUP($B171,'300ppi Resolution Calc'!$A$2:$E$1001,5,0))","v":""}]
[null,null,null,null,null,null,null,null,null,null,null,"",{"$f":"IF(ISERROR(VLOOKUP($B172,'300ppi Resolution Calc'!$A$2:$E$1001,4,0)),\"\",VLOOKUP($B172,'300ppi Resolution Calc'!$A$2:$E$1001,4,0))","v":""},{"$f":"IF(ISERROR(VLOOKUP($B172,'300ppi Resolution Calc'!$A$2:$E$1001,5,0)),\"\",VLOOKUP($B172,'300ppi Resolution Calc'!$A$2:$E$1001,5,0))","v":""}]
[null,null,null,null,null,null,null,null,null,null,null,"",{"$f":"IF(ISERROR(VLOOKUP($B173,'300ppi Resolution Calc'!$A$2:$E$1001,4,0)),\"\",VLOOKUP($B173,'300ppi Resolution Calc'!$A$2:$E$1001,4,0))","v":""},{"$f":"IF(ISERROR(VLOOKUP($B173,'300ppi Resolution Calc'!$A$2:$E$1001,5,0)),\"\",VLOOKUP($B173,'300ppi Resolution Calc'!$A$2:$E$1001,5,0))","v":""}]
[null,null,null,null,null,null,null,null,null,null,null,"",{"$f":"IF(ISERROR(VLOOKUP($B174,'300ppi Resolution Calc'!$A$2:$E$1001,4,0)),\"\",VLOOKUP($B174,'300ppi Resolution Calc'!$A$2:$E$1001,4,0))","v":""},{"$f":"IF(ISERROR(VLOOKUP($B174,'300ppi Resolution Calc'!$A$2:$E$1001,5,0)),\"\",VLOOKUP($B174,'300ppi Resolution Calc'!$A$2:$E$1001,5,0))","v":""}]
[null,null,null,null,null,null,null,null,null,null,null,"",{"$f":"IF(ISERROR(VLOOKUP($B175,'300ppi Resolution Calc'!$A$2:$E$1001,4,0)),\"\",VLOOKUP($B175,'300ppi Resolution Calc'!$A$2:$E$1001,4,0))","v":""},{"$f":"IF(ISERROR(VLOOKUP($B175,'300ppi Resolution Calc'!$A$2:$E$1001,5,0)),\"\",VLOOKUP($B175,'300ppi Resolution Calc'!$A$2:$E$1001,5,0))","v":""}]
[null,null,null,null,null,null,null,null,null,null,null,"",{"$f":"IF(ISERROR(VLOOKUP($B176,'300ppi Resolution Calc'!$A$2:$E$1001,4,0)),\"\",VLOOKUP($B176,'300ppi Resolution Calc'!$A$2:$E$1001,4,0))","v":""},{"$f":"IF(ISERROR(VLOOKUP($B176,'300ppi Resolution Calc'!$A$2:$E$1001,5,0)),\"\",VLOOKUP($B176,'300ppi Resolution Calc'!$A$2:$E$1001,5,0))","v":""}]
[null,null,null,null,null,null,null,null,null,null,null,"",{"$f":"IF(ISERROR(VLOOKUP($B177,'300ppi Resolution Calc'!$A$2:$E$1001,4,0)),\"\",VLOOKUP($B177,'300ppi Resolution Calc'!$A$2:$E$1001,4,0))","v":""},{"$f":"IF(ISERROR(VLOOKUP($B177,'300ppi Resolution Calc'!$A$2:$E$1001,5,0)),\"\",VLOOKUP($B177,'300ppi Resolution Calc'!$A$2:$E$1001,5,0))","v":""}]
[null,null,null,null,null,null,null,null,null,null,null,"",{"$f":"IF(ISERROR(VLOOKUP($B178,'300ppi Resolution Calc'!$A$2:$E$1001,4,0)),\"\",VLOOKUP($B178,'300ppi Resolution Calc'!$A$2:$E$1001,4,0))","v":""},{"$f":"IF(ISERROR(VLOOKUP($B178,'300ppi Resolution Calc'!$A$2:$E$1001,5,0)),\"\",VLOOKUP($B178,'300ppi Resolution Calc'!$A$2:$E$1001,5,0))","v":""}]
[null,null,null,null,null,null,null,null,null,null,null,"",{"$f":"IF(ISERROR(VLOOKUP($B179,'300ppi Resolution Calc'!$A$2:$E$1001,4,0)),\"\",VLOOKUP($B179,'300ppi Resolution Calc'!$A$2:$E$1001,4,0))","v":""},{"$f":"IF(ISERROR(VLOOKUP($B179,'300ppi Resolution Calc'!$A$2:$E$1001,5,0)),\"\",VLOOKUP($B179,'300ppi Resolution Calc'!$A$2:$E$1001,5,0))","v":""}]
[null,null,null,null,null,null,null,null,null,null,null,"",{"$f":"IF(ISERROR(VLOOKUP($B180,'300ppi Resolution Calc'!$A$2:$E$1001,4,0)),\"\",VLOOKUP($B180,'300ppi Resolution Calc'!$A$2:$E$1001,4,0))","v":""},{"$f":"IF(ISERROR(VLOOKUP($B180,'300ppi Resolution Calc'!$A$2:$E$1001,5,0)),\"\",VLOOKUP($B180,'300ppi Resolution Calc'!$A$2:$E$1001,5,0))","v":""}]
[null,null,null,null,null,null,null,null,null,null,null,"",{"$f":"IF(ISERROR(VLOOKUP($B181,'300ppi Resolution Calc'!$A$2:$E$1001,4,0)),\"\",VLOOKUP($B181,'300ppi Resolution Calc'!$A$2:$E$1001,4,0))","v":""},{"$f":"IF(ISERROR(VLOOKUP($B181,'300ppi Resolution Calc'!$A$2:$E$1001,5,0)),\"\",VLOOKUP($B181,'300ppi Resolution Calc'!$A$2:$E$1001,5,0))","v":""}]
[null,null,null,null,null,null,null,null,null,null,null,"",{"$f":"IF(ISERROR(VLOOKUP($B182,'300ppi Resolution Calc'!$A$2:$E$1001,4,0)),\"\",VLOOKUP($B182,'300ppi Resolution Calc'!$A$2:$E$1001,4,0))","v":""},{"$f":"IF(ISERROR(VLOOKUP($B182,'300ppi Resolution Calc'!$A$2:$E$1001,5,0)),\"\",VLOOKUP($B182,'300ppi Resolution Calc'!$A$2:$E$1001,5,0))","v":""}]
[null,null,null,null,null,null,null,null,null,null,null,"",{"$f":"IF(ISERROR(VLOOKUP($B183,'300ppi Resolution Calc'!$A$2:$E$1001,4,0)),\"\",VLOOKUP($B183,'300ppi Resolution Calc'!$A$2:$E$1001,4,0))","v":""},{"$f":"IF(ISERROR(VLOOKUP($B183,'300ppi Resolution Calc'!$A$2:$E$1001,5,0)),\"\",VLOOKUP($B183,'300ppi Resolution Calc'!$A$2:$E$1001,5,0))","v":""}]
[null,null,null,null,null,null,null,null,null,null,null,"",{"$f":"IF(ISERROR(VLOOKUP($B184,'300ppi Resolution Calc'!$A$2:$E$1001,4,0)),\"\",VLOOKUP($B184,'300ppi Resolution Calc'!$A$2:$E$1001,4,0))","v":""},{"$f":"IF(ISERROR(VLOOKUP($B184,'300ppi Resolution Calc'!$A$2:$E$1001,5,0)),\"\",VLOOKUP($B184,'300ppi Resolution Calc'!$A$2:$E$1001,5,0))","v":""}]
[null,null,null,null,null,null,null,null,null,null,null,"",{"$f":"IF(ISERROR(VLOOKUP($B185,'300ppi Resolution Calc'!$A$2:$E$1001,4,0)),\"\",VLOOKUP($B185,'300ppi Resolution Calc'!$A$2:$E$1001,4,0))","v":""},{"$f":"IF(ISERROR(VLOOKUP($B185,'300ppi Resolution Calc'!$A$2:$E$1001,5,0)),\"\",VLOOKUP($B185,'300ppi Resolution Calc'!$A$2:$E$1001,5,0))","v":""}]
[null,null,null,null,null,null,null,null,null,null,null,"",{"$f":"IF(ISERROR(VLOOKUP($B186,'300ppi Resolution Calc'!$A$2:$E$1001,4,0)),\"\",VLOOKUP($B186,'300ppi Resolution Calc'!$A$2:$E$1001,4,0))","v":""},{"$f":"IF(ISERROR(VLOOKUP($B186,'300ppi Resolution Calc'!$A$2:$E$1001,5,0)),\"\",VLOOKUP($B186,'300ppi Resolution Calc'!$A$2:$E$1001,5,0))","v":""}]
[null,null,null,null,null,null,null,null,null,null,null,"",{"$f":"IF(ISERROR(VLOOKUP($B187,'300ppi Resolution Calc'!$A$2:$E$1001,4,0)),\"\",VLOOKUP($B187,'300ppi Resolution Calc'!$A$2:$E$1001,4,0))","v":""},{"$f":"IF(ISERROR(VLOOKUP($B187,'300ppi Resolution Calc'!$A$2:$E$1001,5,0)),\"\",VLOOKUP($B187,'300ppi Resolution Calc'!$A$2:$E$1001,5,0))","v":""}]
[null,null,null,null,null,null,null,null,null,null,null,"",{"$f":"IF(ISERROR(VLOOKUP($B188,'300ppi Resolution Calc'!$A$2:$E$1001,4,0)),\"\",VLOOKUP($B188,'300ppi Resolution Calc'!$A$2:$E$1001,4,0))","v":""},{"$f":"IF(ISERROR(VLOOKUP($B188,'300ppi Resolution Calc'!$A$2:$E$1001,5,0)),\"\",VLOOKUP($B188,'300ppi Resolution Calc'!$A$2:$E$1001,5,0))","v":""}]
[null,null,null,null,null,null,null,null,null,null,null,"",{"$f":"IF(ISERROR(VLOOKUP($B189,'300ppi Resolution Calc'!$A$2:$E$1001,4,0)),\"\",VLOOKUP($B189,'300ppi Resolution Calc'!$A$2:$E$1001,4,0))","v":""},{"$f":"IF(ISERROR(VLOOKUP($B189,'300ppi Resolution Calc'!$A$2:$E$1001,5,0)),\"\",VLOOKUP($B189,'300ppi Resolution Calc'!$A$2:$E$1001,5,0))","v":""}]
[null,null,null,null,null,null,null,null,null,null,null,"",{"$f":"IF(ISERROR(VLOOKUP($B190,'300ppi Resolution Calc'!$A$2:$E$1001,4,0)),\"\",VLOOKUP($B190,'300ppi Resolution Calc'!$A$2:$E$1001,4,0))","v":""},{"$f":"IF(ISERROR(VLOOKUP($B190,'300ppi Resolution Calc'!$A$2:$E$1001,5,0)),\"\",VLOOKUP($B190,'300ppi Resolution Calc'!$A$2:$E$1001,5,0))","v":""}]
[null,null,null,null,null,null,null,null,null,null,null,"",{"$f":"IF(ISERROR(VLOOKUP($B191,'300ppi Resolution Calc'!$A$2:$E$1001,4,0)),\"\",VLOOKUP($B191,'300ppi Resolution Calc'!$A$2:$E$1001,4,0))","v":""},{"$f":"IF(ISERROR(VLOOKUP($B191,'300ppi Resolution Calc'!$A$2:$E$1001,5,0)),\"\",VLOOKUP($B191,'300ppi Resolution Calc'!$A$2:$E$1001,5,0))","v":""}]
[null,null,null,null,null,null,null,null,null,null,null,"",{"$f":"IF(ISERROR(VLOOKUP($B192,'300ppi Resolution Calc'!$A$2:$E$1001,4,0)),\"\",VLOOKUP($B192,'300ppi Resolution Calc'!$A$2:$E$1001,4,0))","v":""},{"$f":"IF(ISERROR(VLOOKUP($B192,'300ppi Resolution Calc'!$A$2:$E$1001,5,0)),\"\",VLOOKUP($B192,'300ppi Resolution Calc'!$A$2:$E$1001,5,0))","v":""}]
[null,null,null,null,null,null,null,null,null,null,null,"",{"$f":"IF(ISERROR(VLOOKUP($B193,'300ppi Resolution Calc'!$A$2:$E$1001,4,0)),\"\",VLOOKUP($B193,'300ppi Resolution Calc'!$A$2:$E$1001,4,0))","v":""},{"$f":"IF(ISERROR(VLOOKUP($B193,'300ppi Resolution Calc'!$A$2:$E$1001,5,0)),\"\",VLOOKUP($B193,'300ppi Resolution Calc'!$A$2:$E$1001,5,0))","v":""}]
[null,null,null,null,null,null,null,null,null,null,null,"",{"$f":"IF(ISERROR(VLOOKUP($B194,'300ppi Resolution Calc'!$A$2:$E$1001,4,0)),\"\",VLOOKUP($B194,'300ppi Resolution Calc'!$A$2:$E$1001,4,0))","v":""},{"$f":"IF(ISERROR(VLOOKUP($B194,'300ppi Resolution Calc'!$A$2:$E$1001,5,0)),\"\",VLOOKUP($B194,'300ppi Resolution Calc'!$A$2:$E$1001,5,0))","v":""}]
[null,null,null,null,null,null,null,null,null,null,null,"",{"$f":"IF(ISERROR(VLOOKUP($B195,'300ppi Resolution Calc'!$A$2:$E$1001,4,0)),\"\",VLOOKUP($B195,'300ppi Resolution Calc'!$A$2:$E$1001,4,0))","v":""},{"$f":"IF(ISERROR(VLOOKUP($B195,'300ppi Resolution Calc'!$A$2:$E$1001,5,0)),\"\",VLOOKUP($B195,'300ppi Resolution Calc'!$A$2:$E$1001,5,0))","v":""}]
[null,null,null,null,null,null,null,null,null,null,null,"",{"$f":"IF(ISERROR(VLOOKUP($B196,'300ppi Resolution Calc'!$A$2:$E$1001,4,0)),\"\",VLOOKUP($B196,'300ppi Resolution Calc'!$A$2:$E$1001,4,0))","v":""},{"$f":"IF(ISERROR(VLOOKUP($B196,'300ppi Resolution Calc'!$A$2:$E$1001,5,0)),\"\",VLOOKUP($B196,'300ppi Resolution Calc'!$A$2:$E$1001,5,0))","v":""}]
[null,null,null,null,null,null,null,null,null,null,null,"",{"$f":"IF(ISERROR(VLOOKUP($B197,'300ppi Resolution Calc'!$A$2:$E$1001,4,0)),\"\",VLOOKUP($B197,'300ppi Resolution Calc'!$A$2:$E$1001,4,0))","v":""},{"$f":"IF(ISERROR(VLOOKUP($B197,'300ppi Resolution Calc'!$A$2:$E$1001,5,0)),\"\",VLOOKUP($B197,'300ppi Resolution Calc'!$A$2:$E$1001,5,0))","v":""}]
[null,null,null,null,null,null,null,null,null,null,null,"",{"$f":"IF(ISERROR(VLOOKUP($B198,'300ppi Resolution Calc'!$A$2:$E$1001,4,0)),\"\",VLOOKUP($B198,'300ppi Resolution Calc'!$A$2:$E$1001,4,0))","v":""},{"$f":"IF(ISERROR(VLOOKUP($B198,'300ppi Resolution Calc'!$A$2:$E$1001,5,0)),\"\",VLOOKUP($B198,'300ppi Resolution Calc'!$A$2:$E$1001,5,0))","v":""}]
[null,null,null,null,null,null,null,null,null,null,null,"",{"$f":"IF(ISERROR(VLOOKUP($B199,'300ppi Resolution Calc'!$A$2:$E$1001,4,0)),\"\",VLOOKUP($B199,'300ppi Resolution Calc'!$A$2:$E$1001,4,0))","v":""},{"$f":"IF(ISERROR(VLOOKUP($B199,'300ppi Resolution Calc'!$A$2:$E$1001,5,0)),\"\",VLOOKUP($B199,'300ppi Resolution Calc'!$A$2:$E$1001,5,0))","v":""}]
[null,null,null,null,null,null,null,null,null,null,null,{"$f":"IF(AND(I200=\"Creative Commons License\",ISNUMBER(SEARCH(\"(\",J200))),CONCATENATE(B200,\": \",\"Copyright © by \",F200,\" \",J200,\" at \",D200,\".\"),\nIF(AND(I200=\"Creative Commons License\",NOT(ISNUMBER(SEARCH(\"(\",J200)))),CONCATENATE(B200,\": \",\"Copyright © by \",F200,\" (\",J200,\") at \",D200,\".\"),\nIF(I200=\"Public Domain\",CONCATENATE(B200,\": Source: \",D200,\".\"),\nIF(AND(I200=\"Fair Use\",OR(ISNUMBER(SEARCH(\"discuss\",J200)),ISNUMBER(SEARCH(\"critique\",J200)))),CONCATENATE(B200,\": \",\"Copyright © by \",F200,\".\"),\nIF(AND(I200=\"Fair Use\",NOT(OR(ISNUMBER(SEARCH(\"discuss\",J200)),ISNUMBER(SEARCH(\"critique\",J200))))),CONCATENATE(B200,\": Source: \",D200,\".\"),\nIF(AND(I200=\"Request to Rights Holder\",ISBLANK(E200),NOT(ISNUMBER(SEARCH(\"depositphotos\",D200))),NOT(ISNUMBER(SEARCH(\"FAL \",J200))),NOT(ISNUMBER(SEARCH(\"GNU \",J200)))),CONCATENATE(B200,\": \",\"Copyright ©\",\" by \",F200,\".\",\" Reprinted with permission.\"),\nIF(AND(I200=\"Request to Rights Holder\",NOT(ISBLANK(E200)),NOT(ISNUMBER(SEARCH(\"depositphotos\",D200))),NOT(ISNUMBER(SEARCH(\"FAL \",J200))),NOT(ISNUMBER(SEARCH(\"GNU \",J200)))),CONCATENATE(B200,\": \",\"Copyright © \",E200,\" by \",F200,\".\",\" Reprinted with permission.\"),\nIF(AND(I200=\"Request to Rights Holder\",NOT(ISBLANK(E200)),ISNUMBER(SEARCH(\"depositphotos\",D200))),CONCATENATE(B200,\":\",\" Copyright © \",E200,\" Depositphotos\",\"/\",F200,\".\"),\nIF(AND(I200=\"Request to Rights Holder\",ISBLANK(E200),ISNUMBER(SEARCH(\"depositphotos\",D200))),CONCATENATE(B200,\":\",\" Copyright © \",E200,\"Depositphotos\",\"/\",F200,\".\"),\nIF(AND(I200=\"Request to Rights Holder\",ISNUMBER(SEARCH(\"FAL \",J200)),ISNUMBER(SEARCH(\"(\",J200))),CONCATENATE(B200,\": \",\"Copyright © by \",F200,\" \",J200,\" at \",D200,\". A copy of the license can be found here: http://artlibre.org/licence/lal/en.\"),\nIF(AND(I200=\"Request to Rights Holder\",ISNUMBER(SEARCH(\"FAL \",J200)),NOT(ISNUMBER(SEARCH(\"(\",J200)))),CONCATENATE(B200,\": \",\"Copyright © by \",F200,\" (\",J200,\") at \",D200,\". A copy of the license can be found here: http://artlibre.org/licence/lal/en.\"),\nIF(AND(I200=\"Request to Rights Holder\",ISNUMBER(SEARCH(\"GNU \",J200)),ISNUMBER(SEARCH(\"(\",J200))),CONCATENATE(B200,\": \",\"Copyright © by \",F200,\" \",J200,\" at \",D200,\". A copy of the license can be found here: http://www.gnu.org/licenses/gpl.html\"),\nIF(AND(I200=\"Request to Rights Holder\",ISNUMBER(SEARCH(\"GNU \",J200)),NOT(ISNUMBER(SEARCH(\"(\",J200)))),CONCATENATE(B200,\": \",\"Copyright © by \",F200,\" (\",J200,\") at \",D200,\". A copy of the license can be found here: http://www.gnu.org/licenses/gpl.html\"),\n\"\")))))))))))))","v":""},{"$f":"IF(ISERROR(VLOOKUP($B200,'300ppi Resolution Calc'!$A$2:$E$1001,4,0)),\"\",VLOOKUP($B200,'300ppi Resolution Calc'!$A$2:$E$1001,4,0))","v":""},{"$f":"IF(ISERROR(VLOOKUP($B200,'300ppi Resolution Calc'!$A$2:$E$1001,5,0)),\"\",VLOOKUP($B200,'300ppi Resolution Calc'!$A$2:$E$1001,5,0))","v":""}]
[null,null,null,null,null,null,null,null,null,null,null,"",{"$f":"IF(ISERROR(VLOOKUP($B201,'300ppi Resolution Calc'!$A$2:$E$1001,4,0)),\"\",VLOOKUP($B201,'300ppi Resolution Calc'!$A$2:$E$1001,4,0))","v":""},{"$f":"IF(ISERROR(VLOOKUP($B201,'300ppi Resolution Calc'!$A$2:$E$1001,5,0)),\"\",VLOOKUP($B201,'300ppi Resolution Calc'!$A$2:$E$1001,5,0))","v":""}]
[null,null,null,null,null,null,null,null,null,null,null,"",{"$f":"IF(ISERROR(VLOOKUP($B202,'300ppi Resolution Calc'!$A$2:$E$1001,4,0)),\"\",VLOOKUP($B202,'300ppi Resolution Calc'!$A$2:$E$1001,4,0))","v":""},{"$f":"IF(ISERROR(VLOOKUP($B202,'300ppi Resolution Calc'!$A$2:$E$1001,5,0)),\"\",VLOOKUP($B202,'300ppi Resolution Calc'!$A$2:$E$1001,5,0))","v":""}]
[null,null,null,null,null,null,null,null,null,null,null,"",{"$f":"IF(ISERROR(VLOOKUP($B203,'300ppi Resolution Calc'!$A$2:$E$1001,4,0)),\"\",VLOOKUP($B203,'300ppi Resolution Calc'!$A$2:$E$1001,4,0))","v":""},{"$f":"IF(ISERROR(VLOOKUP($B203,'300ppi Resolution Calc'!$A$2:$E$1001,5,0)),\"\",VLOOKUP($B203,'300ppi Resolution Calc'!$A$2:$E$1001,5,0))","v":""}]
[null,null,null,null,null,null,null,null,null,null,null,"",{"$f":"IF(ISERROR(VLOOKUP($B204,'300ppi Resolution Calc'!$A$2:$E$1001,4,0)),\"\",VLOOKUP($B204,'300ppi Resolution Calc'!$A$2:$E$1001,4,0))","v":""},{"$f":"IF(ISERROR(VLOOKUP($B204,'300ppi Resolution Calc'!$A$2:$E$1001,5,0)),\"\",VLOOKUP($B204,'300ppi Resolution Calc'!$A$2:$E$1001,5,0))","v":""}]
[null,null,null,null,null,null,null,null,null,null,null,"",{"$f":"IF(ISERROR(VLOOKUP($B205,'300ppi Resolution Calc'!$A$2:$E$1001,4,0)),\"\",VLOOKUP($B205,'300ppi Resolution Calc'!$A$2:$E$1001,4,0))","v":""},{"$f":"IF(ISERROR(VLOOKUP($B205,'300ppi Resolution Calc'!$A$2:$E$1001,5,0)),\"\",VLOOKUP($B205,'300ppi Resolution Calc'!$A$2:$E$1001,5,0))","v":""}]
[null,null,null,null,null,null,null,null,null,null,null,"",{"$f":"IF(ISERROR(VLOOKUP($B206,'300ppi Resolution Calc'!$A$2:$E$1001,4,0)),\"\",VLOOKUP($B206,'300ppi Resolution Calc'!$A$2:$E$1001,4,0))","v":""},{"$f":"IF(ISERROR(VLOOKUP($B206,'300ppi Resolution Calc'!$A$2:$E$1001,5,0)),\"\",VLOOKUP($B206,'300ppi Resolution Calc'!$A$2:$E$1001,5,0))","v":""}]
[null,null,null,null,null,null,null,null,null,null,null,"",{"$f":"IF(ISERROR(VLOOKUP($B207,'300ppi Resolution Calc'!$A$2:$E$1001,4,0)),\"\",VLOOKUP($B207,'300ppi Resolution Calc'!$A$2:$E$1001,4,0))","v":""},{"$f":"IF(ISERROR(VLOOKUP($B207,'300ppi Resolution Calc'!$A$2:$E$1001,5,0)),\"\",VLOOKUP($B207,'300ppi Resolution Calc'!$A$2:$E$1001,5,0))","v":""}]
[null,null,null,null,null,null,null,null,null,null,null,"",{"$f":"IF(ISERROR(VLOOKUP($B208,'300ppi Resolution Calc'!$A$2:$E$1001,4,0)),\"\",VLOOKUP($B208,'300ppi Resolution Calc'!$A$2:$E$1001,4,0))","v":""},{"$f":"IF(ISERROR(VLOOKUP($B208,'300ppi Resolution Calc'!$A$2:$E$1001,5,0)),\"\",VLOOKUP($B208,'300ppi Resolution Calc'!$A$2:$E$1001,5,0))","v":""}]
[null,null,null,null,null,null,null,null,null,null,null,"",{"$f":"IF(ISERROR(VLOOKUP($B209,'300ppi Resolution Calc'!$A$2:$E$1001,4,0)),\"\",VLOOKUP($B209,'300ppi Resolution Calc'!$A$2:$E$1001,4,0))","v":""},{"$f":"IF(ISERROR(VLOOKUP($B209,'300ppi Resolution Calc'!$A$2:$E$1001,5,0)),\"\",VLOOKUP($B209,'300ppi Resolution Calc'!$A$2:$E$1001,5,0))","v":""}]
[null,null,null,null,null,null,null,null,null,null,null,"",{"$f":"IF(ISERROR(VLOOKUP($B210,'300ppi Resolution Calc'!$A$2:$E$1001,4,0)),\"\",VLOOKUP($B210,'300ppi Resolution Calc'!$A$2:$E$1001,4,0))","v":""},{"$f":"IF(ISERROR(VLOOKUP($B210,'300ppi Resolution Calc'!$A$2:$E$1001,5,0)),\"\",VLOOKUP($B210,'300ppi Resolution Calc'!$A$2:$E$1001,5,0))","v":""}]
[null,null,null,null,null,null,null,null,null,null,null,"",{"$f":"IF(ISERROR(VLOOKUP($B211,'300ppi Resolution Calc'!$A$2:$E$1001,4,0)),\"\",VLOOKUP($B211,'300ppi Resolution Calc'!$A$2:$E$1001,4,0))","v":""},{"$f":"IF(ISERROR(VLOOKUP($B211,'300ppi Resolution Calc'!$A$2:$E$1001,5,0)),\"\",VLOOKUP($B211,'300ppi Resolution Calc'!$A$2:$E$1001,5,0))","v":""}]
[null,null,null,null,null,null,null,null,null,null,null,"",{"$f":"IF(ISERROR(VLOOKUP($B212,'300ppi Resolution Calc'!$A$2:$E$1001,4,0)),\"\",VLOOKUP($B212,'300ppi Resolution Calc'!$A$2:$E$1001,4,0))","v":""},{"$f":"IF(ISERROR(VLOOKUP($B212,'300ppi Resolution Calc'!$A$2:$E$1001,5,0)),\"\",VLOOKUP($B212,'300ppi Resolution Calc'!$A$2:$E$1001,5,0))","v":""}]
[null,null,null,null,null,null,null,null,null,null,null,"",{"$f":"IF(ISERROR(VLOOKUP($B213,'300ppi Resolution Calc'!$A$2:$E$1001,4,0)),\"\",VLOOKUP($B213,'300ppi Resolution Calc'!$A$2:$E$1001,4,0))","v":""},{"$f":"IF(ISERROR(VLOOKUP($B213,'300ppi Resolution Calc'!$A$2:$E$1001,5,0)),\"\",VLOOKUP($B213,'300ppi Resolution Calc'!$A$2:$E$1001,5,0))","v":""}]
[null,null,null,null,null,null,null,null,null,null,null,"",{"$f":"IF(ISERROR(VLOOKUP($B214,'300ppi Resolution Calc'!$A$2:$E$1001,4,0)),\"\",VLOOKUP($B214,'300ppi Resolution Calc'!$A$2:$E$1001,4,0))","v":""},{"$f":"IF(ISERROR(VLOOKUP($B214,'300ppi Resolution Calc'!$A$2:$E$1001,5,0)),\"\",VLOOKUP($B214,'300ppi Resolution Calc'!$A$2:$E$1001,5,0))","v":""}]
[null,null,null,null,null,null,null,null,null,null,null,"",{"$f":"IF(ISERROR(VLOOKUP($B215,'300ppi Resolution Calc'!$A$2:$E$1001,4,0)),\"\",VLOOKUP($B215,'300ppi Resolution Calc'!$A$2:$E$1001,4,0))","v":""},{"$f":"IF(ISERROR(VLOOKUP($B215,'300ppi Resolution Calc'!$A$2:$E$1001,5,0)),\"\",VLOOKUP($B215,'300ppi Resolution Calc'!$A$2:$E$1001,5,0))","v":""}]
[null,null,null,null,null,null,null,null,null,null,null,"",{"$f":"IF(ISERROR(VLOOKUP($B216,'300ppi Resolution Calc'!$A$2:$E$1001,4,0)),\"\",VLOOKUP($B216,'300ppi Resolution Calc'!$A$2:$E$1001,4,0))","v":""},{"$f":"IF(ISERROR(VLOOKUP($B216,'300ppi Resolution Calc'!$A$2:$E$1001,5,0)),\"\",VLOOKUP($B216,'300ppi Resolution Calc'!$A$2:$E$1001,5,0))","v":""}]
[null,null,null,null,null,null,null,null,null,null,null,"",{"$f":"IF(ISERROR(VLOOKUP($B217,'300ppi Resolution Calc'!$A$2:$E$1001,4,0)),\"\",VLOOKUP($B217,'300ppi Resolution Calc'!$A$2:$E$1001,4,0))","v":""},{"$f":"IF(ISERROR(VLOOKUP($B217,'300ppi Resolution Calc'!$A$2:$E$1001,5,0)),\"\",VLOOKUP($B217,'300ppi Resolution Calc'!$A$2:$E$1001,5,0))","v":""}]
[null,null,null,null,null,null,null,null,null,null,null,"",{"$f":"IF(ISERROR(VLOOKUP($B218,'300ppi Resolution Calc'!$A$2:$E$1001,4,0)),\"\",VLOOKUP($B218,'300ppi Resolution Calc'!$A$2:$E$1001,4,0))","v":""},{"$f":"IF(ISERROR(VLOOKUP($B218,'300ppi Resolution Calc'!$A$2:$E$1001,5,0)),\"\",VLOOKUP($B218,'300ppi Resolution Calc'!$A$2:$E$1001,5,0))","v":""}]
[null,null,null,null,null,null,null,null,null,null,null,"",{"$f":"IF(ISERROR(VLOOKUP($B219,'300ppi Resolution Calc'!$A$2:$E$1001,4,0)),\"\",VLOOKUP($B219,'300ppi Resolution Calc'!$A$2:$E$1001,4,0))","v":""},{"$f":"IF(ISERROR(VLOOKUP($B219,'300ppi Resolution Calc'!$A$2:$E$1001,5,0)),\"\",VLOOKUP($B219,'300ppi Resolution Calc'!$A$2:$E$1001,5,0))","v":""}]
[null,null,null,null,null,null,null,null,null,null,null,"",{"$f":"IF(ISERROR(VLOOKUP($B220,'300ppi Resolution Calc'!$A$2:$E$1001,4,0)),\"\",VLOOKUP($B220,'300ppi Resolution Calc'!$A$2:$E$1001,4,0))","v":""},{"$f":"IF(ISERROR(VLOOKUP($B220,'300ppi Resolution Calc'!$A$2:$E$1001,5,0)),\"\",VLOOKUP($B220,'300ppi Resolution Calc'!$A$2:$E$1001,5,0))","v":""}]
[null,null,null,null,null,null,null,null,null,null,null,"",{"$f":"IF(ISERROR(VLOOKUP($B221,'300ppi Resolution Calc'!$A$2:$E$1001,4,0)),\"\",VLOOKUP($B221,'300ppi Resolution Calc'!$A$2:$E$1001,4,0))","v":""},{"$f":"IF(ISERROR(VLOOKUP($B221,'300ppi Resolution Calc'!$A$2:$E$1001,5,0)),\"\",VLOOKUP($B221,'300ppi Resolution Calc'!$A$2:$E$1001,5,0))","v":""}]
[null,null,null,null,null,null,null,null,null,null,null,"",{"$f":"IF(ISERROR(VLOOKUP($B222,'300ppi Resolution Calc'!$A$2:$E$1001,4,0)),\"\",VLOOKUP($B222,'300ppi Resolution Calc'!$A$2:$E$1001,4,0))","v":""},{"$f":"IF(ISERROR(VLOOKUP($B222,'300ppi Resolution Calc'!$A$2:$E$1001,5,0)),\"\",VLOOKUP($B222,'300ppi Resolution Calc'!$A$2:$E$1001,5,0))","v":""}]
[null,null,null,null,null,null,null,null,null,null,null,"",{"$f":"IF(ISERROR(VLOOKUP($B223,'300ppi Resolution Calc'!$A$2:$E$1001,4,0)),\"\",VLOOKUP($B223,'300ppi Resolution Calc'!$A$2:$E$1001,4,0))","v":""},{"$f":"IF(ISERROR(VLOOKUP($B223,'300ppi Resolution Calc'!$A$2:$E$1001,5,0)),\"\",VLOOKUP($B223,'300ppi Resolution Calc'!$A$2:$E$1001,5,0))","v":""}]
[null,null,null,null,null,null,null,null,null,null,null,"",{"$f":"IF(ISERROR(VLOOKUP($B224,'300ppi Resolution Calc'!$A$2:$E$1001,4,0)),\"\",VLOOKUP($B224,'300ppi Resolution Calc'!$A$2:$E$1001,4,0))","v":""},{"$f":"IF(ISERROR(VLOOKUP($B224,'300ppi Resolution Calc'!$A$2:$E$1001,5,0)),\"\",VLOOKUP($B224,'300ppi Resolution Calc'!$A$2:$E$1001,5,0))","v":""}]
[null,null,null,null,null,null,null,null,null,null,null,"",{"$f":"IF(ISERROR(VLOOKUP($B225,'300ppi Resolution Calc'!$A$2:$E$1001,4,0)),\"\",VLOOKUP($B225,'300ppi Resolution Calc'!$A$2:$E$1001,4,0))","v":""},{"$f":"IF(ISERROR(VLOOKUP($B225,'300ppi Resolution Calc'!$A$2:$E$1001,5,0)),\"\",VLOOKUP($B225,'300ppi Resolution Calc'!$A$2:$E$1001,5,0))","v":""}]
[null,null,null,null,null,null,null,null,null,null,null,"",{"$f":"IF(ISERROR(VLOOKUP($B226,'300ppi Resolution Calc'!$A$2:$E$1001,4,0)),\"\",VLOOKUP($B226,'300ppi Resolution Calc'!$A$2:$E$1001,4,0))","v":""},{"$f":"IF(ISERROR(VLOOKUP($B226,'300ppi Resolution Calc'!$A$2:$E$1001,5,0)),\"\",VLOOKUP($B226,'300ppi Resolution Calc'!$A$2:$E$1001,5,0))","v":""}]
[null,null,null,null,null,null,null,null,null,null,null,"",{"$f":"IF(ISERROR(VLOOKUP($B227,'300ppi Resolution Calc'!$A$2:$E$1001,4,0)),\"\",VLOOKUP($B227,'300ppi Resolution Calc'!$A$2:$E$1001,4,0))","v":""},{"$f":"IF(ISERROR(VLOOKUP($B227,'300ppi Resolution Calc'!$A$2:$E$1001,5,0)),\"\",VLOOKUP($B227,'300ppi Resolution Calc'!$A$2:$E$1001,5,0))","v":""}]
[null,null,null,null,null,null,null,null,null,null,null,"",{"$f":"IF(ISERROR(VLOOKUP($B228,'300ppi Resolution Calc'!$A$2:$E$1001,4,0)),\"\",VLOOKUP($B228,'300ppi Resolution Calc'!$A$2:$E$1001,4,0))","v":""},{"$f":"IF(ISERROR(VLOOKUP($B228,'300ppi Resolution Calc'!$A$2:$E$1001,5,0)),\"\",VLOOKUP($B228,'300ppi Resolution Calc'!$A$2:$E$1001,5,0))","v":""}]
[null,null,null,null,null,null,null,null,null,null,null,"",{"$f":"IF(ISERROR(VLOOKUP($B229,'300ppi Resolution Calc'!$A$2:$E$1001,4,0)),\"\",VLOOKUP($B229,'300ppi Resolution Calc'!$A$2:$E$1001,4,0))","v":""},{"$f":"IF(ISERROR(VLOOKUP($B229,'300ppi Resolution Calc'!$A$2:$E$1001,5,0)),\"\",VLOOKUP($B229,'300ppi Resolution Calc'!$A$2:$E$1001,5,0))","v":""}]
[null,null,null,null,null,null,null,null,null,null,null,"",{"$f":"IF(ISERROR(VLOOKUP($B230,'300ppi Resolution Calc'!$A$2:$E$1001,4,0)),\"\",VLOOKUP($B230,'300ppi Resolution Calc'!$A$2:$E$1001,4,0))","v":""},{"$f":"IF(ISERROR(VLOOKUP($B230,'300ppi Resolution Calc'!$A$2:$E$1001,5,0)),\"\",VLOOKUP($B230,'300ppi Resolution Calc'!$A$2:$E$1001,5,0))","v":""}]
[null,null,null,null,null,null,null,null,null,null,null,"",{"$f":"IF(ISERROR(VLOOKUP($B231,'300ppi Resolution Calc'!$A$2:$E$1001,4,0)),\"\",VLOOKUP($B231,'300ppi Resolution Calc'!$A$2:$E$1001,4,0))","v":""},{"$f":"IF(ISERROR(VLOOKUP($B231,'300ppi Resolution Calc'!$A$2:$E$1001,5,0)),\"\",VLOOKUP($B231,'300ppi Resolution Calc'!$A$2:$E$1001,5,0))","v":""}]
[null,null,null,null,null,null,null,null,null,null,null,"",{"$f":"IF(ISERROR(VLOOKUP($B232,'300ppi Resolution Calc'!$A$2:$E$1001,4,0)),\"\",VLOOKUP($B232,'300ppi Resolution Calc'!$A$2:$E$1001,4,0))","v":""},{"$f":"IF(ISERROR(VLOOKUP($B232,'300ppi Resolution Calc'!$A$2:$E$1001,5,0)),\"\",VLOOKUP($B232,'300ppi Resolution Calc'!$A$2:$E$1001,5,0))","v":""}]
[null,null,null,null,null,null,null,null,null,null,null,"",{"$f":"IF(ISERROR(VLOOKUP($B233,'300ppi Resolution Calc'!$A$2:$E$1001,4,0)),\"\",VLOOKUP($B233,'300ppi Resolution Calc'!$A$2:$E$1001,4,0))","v":""},{"$f":"IF(ISERROR(VLOOKUP($B233,'300ppi Resolution Calc'!$A$2:$E$1001,5,0)),\"\",VLOOKUP($B233,'300ppi Resolution Calc'!$A$2:$E$1001,5,0))","v":""}]
[null,null,null,null,null,null,null,null,null,null,null,"",{"$f":"IF(ISERROR(VLOOKUP($B234,'300ppi Resolution Calc'!$A$2:$E$1001,4,0)),\"\",VLOOKUP($B234,'300ppi Resolution Calc'!$A$2:$E$1001,4,0))","v":""},{"$f":"IF(ISERROR(VLOOKUP($B234,'300ppi Resolution Calc'!$A$2:$E$1001,5,0)),\"\",VLOOKUP($B234,'300ppi Resolution Calc'!$A$2:$E$1001,5,0))","v":""}]
[null,null,null,null,null,null,null,null,null,null,null,"",{"$f":"IF(ISERROR(VLOOKUP($B235,'300ppi Resolution Calc'!$A$2:$E$1001,4,0)),\"\",VLOOKUP($B235,'300ppi Resolution Calc'!$A$2:$E$1001,4,0))","v":""},{"$f":"IF(ISERROR(VLOOKUP($B235,'300ppi Resolution Calc'!$A$2:$E$1001,5,0)),\"\",VLOOKUP($B235,'300ppi Resolution Calc'!$A$2:$E$1001,5,0))","v":""}]
[null,null,null,null,null,null,null,null,null,null,null,"",{"$f":"IF(ISERROR(VLOOKUP($B236,'300ppi Resolution Calc'!$A$2:$E$1001,4,0)),\"\",VLOOKUP($B236,'300ppi Resolution Calc'!$A$2:$E$1001,4,0))","v":""},{"$f":"IF(ISERROR(VLOOKUP($B236,'300ppi Resolution Calc'!$A$2:$E$1001,5,0)),\"\",VLOOKUP($B236,'300ppi Resolution Calc'!$A$2:$E$1001,5,0))","v":""}]
[null,null,null,null,null,null,null,null,null,null,null,"",{"$f":"IF(ISERROR(VLOOKUP($B237,'300ppi Resolution Calc'!$A$2:$E$1001,4,0)),\"\",VLOOKUP($B237,'300ppi Resolution Calc'!$A$2:$E$1001,4,0))","v":""},{"$f":"IF(ISERROR(VLOOKUP($B237,'300ppi Resolution Calc'!$A$2:$E$1001,5,0)),\"\",VLOOKUP($B237,'300ppi Resolution Calc'!$A$2:$E$1001,5,0))","v":""}]
[null,null,null,null,null,null,null,null,null,null,null,"",{"$f":"IF(ISERROR(VLOOKUP($B238,'300ppi Resolution Calc'!$A$2:$E$1001,4,0)),\"\",VLOOKUP($B238,'300ppi Resolution Calc'!$A$2:$E$1001,4,0))","v":""},{"$f":"IF(ISERROR(VLOOKUP($B238,'300ppi Resolution Calc'!$A$2:$E$1001,5,0)),\"\",VLOOKUP($B238,'300ppi Resolution Calc'!$A$2:$E$1001,5,0))","v":""}]
[null,null,null,null,null,null,null,null,null,null,null,"",{"$f":"IF(ISERROR(VLOOKUP($B239,'300ppi Resolution Calc'!$A$2:$E$1001,4,0)),\"\",VLOOKUP($B239,'300ppi Resolution Calc'!$A$2:$E$1001,4,0))","v":""},{"$f":"IF(ISERROR(VLOOKUP($B239,'300ppi Resolution Calc'!$A$2:$E$1001,5,0)),\"\",VLOOKUP($B239,'300ppi Resolution Calc'!$A$2:$E$1001,5,0))","v":""}]
[null,null,null,null,null,null,null,null,null,null,null,"",{"$f":"IF(ISERROR(VLOOKUP($B240,'300ppi Resolution Calc'!$A$2:$E$1001,4,0)),\"\",VLOOKUP($B240,'300ppi Resolution Calc'!$A$2:$E$1001,4,0))","v":""},{"$f":"IF(ISERROR(VLOOKUP($B240,'300ppi Resolution Calc'!$A$2:$E$1001,5,0)),\"\",VLOOKUP($B240,'300ppi Resolution Calc'!$A$2:$E$1001,5,0))","v":""}]
[null,null,null,null,null,null,null,null,null,null,null,"",{"$f":"IF(ISERROR(VLOOKUP($B241,'300ppi Resolution Calc'!$A$2:$E$1001,4,0)),\"\",VLOOKUP($B241,'300ppi Resolution Calc'!$A$2:$E$1001,4,0))","v":""},{"$f":"IF(ISERROR(VLOOKUP($B241,'300ppi Resolution Calc'!$A$2:$E$1001,5,0)),\"\",VLOOKUP($B241,'300ppi Resolution Calc'!$A$2:$E$1001,5,0))","v":""}]
[null,null,null,null,null,null,null,null,null,null,null,"",{"$f":"IF(ISERROR(VLOOKUP($B242,'300ppi Resolution Calc'!$A$2:$E$1001,4,0)),\"\",VLOOKUP($B242,'300ppi Resolution Calc'!$A$2:$E$1001,4,0))","v":""},{"$f":"IF(ISERROR(VLOOKUP($B242,'300ppi Resolution Calc'!$A$2:$E$1001,5,0)),\"\",VLOOKUP($B242,'300ppi Resolution Calc'!$A$2:$E$1001,5,0))","v":""}]
[null,null,null,null,null,null,null,null,null,null,null,"",{"$f":"IF(ISERROR(VLOOKUP($B243,'300ppi Resolution Calc'!$A$2:$E$1001,4,0)),\"\",VLOOKUP($B243,'300ppi Resolution Calc'!$A$2:$E$1001,4,0))","v":""},{"$f":"IF(ISERROR(VLOOKUP($B243,'300ppi Resolution Calc'!$A$2:$E$1001,5,0)),\"\",VLOOKUP($B243,'300ppi Resolution Calc'!$A$2:$E$1001,5,0))","v":""}]
[null,null,null,null,null,null,null,null,null,null,null,"",{"$f":"IF(ISERROR(VLOOKUP($B244,'300ppi Resolution Calc'!$A$2:$E$1001,4,0)),\"\",VLOOKUP($B244,'300ppi Resolution Calc'!$A$2:$E$1001,4,0))","v":""},{"$f":"IF(ISERROR(VLOOKUP($B244,'300ppi Resolution Calc'!$A$2:$E$1001,5,0)),\"\",VLOOKUP($B244,'300ppi Resolution Calc'!$A$2:$E$1001,5,0))","v":""}]
[null,null,null,null,null,null,null,null,null,null,null,"",{"$f":"IF(ISERROR(VLOOKUP($B245,'300ppi Resolution Calc'!$A$2:$E$1001,4,0)),\"\",VLOOKUP($B245,'300ppi Resolution Calc'!$A$2:$E$1001,4,0))","v":""},{"$f":"IF(ISERROR(VLOOKUP($B245,'300ppi Resolution Calc'!$A$2:$E$1001,5,0)),\"\",VLOOKUP($B245,'300ppi Resolution Calc'!$A$2:$E$1001,5,0))","v":""}]
[null,null,null,null,null,null,null,null,null,null,null,"",{"$f":"IF(ISERROR(VLOOKUP($B246,'300ppi Resolution Calc'!$A$2:$E$1001,4,0)),\"\",VLOOKUP($B246,'300ppi Resolution Calc'!$A$2:$E$1001,4,0))","v":""},{"$f":"IF(ISERROR(VLOOKUP($B246,'300ppi Resolution Calc'!$A$2:$E$1001,5,0)),\"\",VLOOKUP($B246,'300ppi Resolution Calc'!$A$2:$E$1001,5,0))","v":""}]
[null,null,null,null,null,null,null,null,null,null,null,"",{"$f":"IF(ISERROR(VLOOKUP($B247,'300ppi Resolution Calc'!$A$2:$E$1001,4,0)),\"\",VLOOKUP($B247,'300ppi Resolution Calc'!$A$2:$E$1001,4,0))","v":""},{"$f":"IF(ISERROR(VLOOKUP($B247,'300ppi Resolution Calc'!$A$2:$E$1001,5,0)),\"\",VLOOKUP($B247,'300ppi Resolution Calc'!$A$2:$E$1001,5,0))","v":""}]
[null,null,null,null,null,null,null,null,null,null,null,"",{"$f":"IF(ISERROR(VLOOKUP($B248,'300ppi Resolution Calc'!$A$2:$E$1001,4,0)),\"\",VLOOKUP($B248,'300ppi Resolution Calc'!$A$2:$E$1001,4,0))","v":""},{"$f":"IF(ISERROR(VLOOKUP($B248,'300ppi Resolution Calc'!$A$2:$E$1001,5,0)),\"\",VLOOKUP($B248,'300ppi Resolution Calc'!$A$2:$E$1001,5,0))","v":""}]
[null,null,null,null,null,null,null,null,null,null,null,"",{"$f":"IF(ISERROR(VLOOKUP($B249,'300ppi Resolution Calc'!$A$2:$E$1001,4,0)),\"\",VLOOKUP($B249,'300ppi Resolution Calc'!$A$2:$E$1001,4,0))","v":""},{"$f":"IF(ISERROR(VLOOKUP($B249,'300ppi Resolution Calc'!$A$2:$E$1001,5,0)),\"\",VLOOKUP($B249,'300ppi Resolution Calc'!$A$2:$E$1001,5,0))","v":""}]
[null,null,null,null,null,null,null,null,null,null,null,"",{"$f":"IF(ISERROR(VLOOKUP($B250,'300ppi Resolution Calc'!$A$2:$E$1001,4,0)),\"\",VLOOKUP($B250,'300ppi Resolution Calc'!$A$2:$E$1001,4,0))","v":""},{"$f":"IF(ISERROR(VLOOKUP($B250,'300ppi Resolution Calc'!$A$2:$E$1001,5,0)),\"\",VLOOKUP($B250,'300ppi Resolution Calc'!$A$2:$E$1001,5,0))","v":""}]
[null,null,null,null,null,null,null,null,null,null,null,"",{"$f":"IF(ISERROR(VLOOKUP($B251,'300ppi Resolution Calc'!$A$2:$E$1001,4,0)),\"\",VLOOKUP($B251,'300ppi Resolution Calc'!$A$2:$E$1001,4,0))","v":""},{"$f":"IF(ISERROR(VLOOKUP($B251,'300ppi Resolution Calc'!$A$2:$E$1001,5,0)),\"\",VLOOKUP($B251,'300ppi Resolution Calc'!$A$2:$E$1001,5,0))","v":""}]
[null,null,null,null,null,null,null,null,null,null,null,"",{"$f":"IF(ISERROR(VLOOKUP($B252,'300ppi Resolution Calc'!$A$2:$E$1001,4,0)),\"\",VLOOKUP($B252,'300ppi Resolution Calc'!$A$2:$E$1001,4,0))","v":""},{"$f":"IF(ISERROR(VLOOKUP($B252,'300ppi Resolution Calc'!$A$2:$E$1001,5,0)),\"\",VLOOKUP($B252,'300ppi Resolution Calc'!$A$2:$E$1001,5,0))","v":""}]
[null,null,null,null,null,null,null,null,null,null,null,"",{"$f":"IF(ISERROR(VLOOKUP($B253,'300ppi Resolution Calc'!$A$2:$E$1001,4,0)),\"\",VLOOKUP($B253,'300ppi Resolution Calc'!$A$2:$E$1001,4,0))","v":""},{"$f":"IF(ISERROR(VLOOKUP($B253,'300ppi Resolution Calc'!$A$2:$E$1001,5,0)),\"\",VLOOKUP($B253,'300ppi Resolution Calc'!$A$2:$E$1001,5,0))","v":""}]
[null,null,null,null,null,null,null,null,null,null,null,"",{"$f":"IF(ISERROR(VLOOKUP($B254,'300ppi Resolution Calc'!$A$2:$E$1001,4,0)),\"\",VLOOKUP($B254,'300ppi Resolution Calc'!$A$2:$E$1001,4,0))","v":""},{"$f":"IF(ISERROR(VLOOKUP($B254,'300ppi Resolution Calc'!$A$2:$E$1001,5,0)),\"\",VLOOKUP($B254,'300ppi Resolution Calc'!$A$2:$E$1001,5,0))","v":""}]
[null,null,null,null,null,null,null,null,null,null,null,"",{"$f":"IF(ISERROR(VLOOKUP($B255,'300ppi Resolution Calc'!$A$2:$E$1001,4,0)),\"\",VLOOKUP($B255,'300ppi Resolution Calc'!$A$2:$E$1001,4,0))","v":""},{"$f":"IF(ISERROR(VLOOKUP($B255,'300ppi Resolution Calc'!$A$2:$E$1001,5,0)),\"\",VLOOKUP($B255,'300ppi Resolution Calc'!$A$2:$E$1001,5,0))","v":""}]
[null,null,null,null,null,null,null,null,null,null,null,"",{"$f":"IF(ISERROR(VLOOKUP($B256,'300ppi Resolution Calc'!$A$2:$E$1001,4,0)),\"\",VLOOKUP($B256,'300ppi Resolution Calc'!$A$2:$E$1001,4,0))","v":""},{"$f":"IF(ISERROR(VLOOKUP($B256,'300ppi Resolution Calc'!$A$2:$E$1001,5,0)),\"\",VLOOKUP($B256,'300ppi Resolution Calc'!$A$2:$E$1001,5,0))","v":""}]
[null,null,null,null,null,null,null,null,null,null,null,"",{"$f":"IF(ISERROR(VLOOKUP($B257,'300ppi Resolution Calc'!$A$2:$E$1001,4,0)),\"\",VLOOKUP($B257,'300ppi Resolution Calc'!$A$2:$E$1001,4,0))","v":""},{"$f":"IF(ISERROR(VLOOKUP($B257,'300ppi Resolution Calc'!$A$2:$E$1001,5,0)),\"\",VLOOKUP($B257,'300ppi Resolution Calc'!$A$2:$E$1001,5,0))","v":""}]
[null,null,null,null,null,null,null,null,null,null,null,"",{"$f":"IF(ISERROR(VLOOKUP($B258,'300ppi Resolution Calc'!$A$2:$E$1001,4,0)),\"\",VLOOKUP($B258,'300ppi Resolution Calc'!$A$2:$E$1001,4,0))","v":""},{"$f":"IF(ISERROR(VLOOKUP($B258,'300ppi Resolution Calc'!$A$2:$E$1001,5,0)),\"\",VLOOKUP($B258,'300ppi Resolution Calc'!$A$2:$E$1001,5,0))","v":""}]
[null,null,null,null,null,null,null,null,null,null,null,"",{"$f":"IF(ISERROR(VLOOKUP($B259,'300ppi Resolution Calc'!$A$2:$E$1001,4,0)),\"\",VLOOKUP($B259,'300ppi Resolution Calc'!$A$2:$E$1001,4,0))","v":""},{"$f":"IF(ISERROR(VLOOKUP($B259,'300ppi Resolution Calc'!$A$2:$E$1001,5,0)),\"\",VLOOKUP($B259,'300ppi Resolution Calc'!$A$2:$E$1001,5,0))","v":""}]
[null,null,null,null,null,null,null,null,null,null,null,"",{"$f":"IF(ISERROR(VLOOKUP($B260,'300ppi Resolution Calc'!$A$2:$E$1001,4,0)),\"\",VLOOKUP($B260,'300ppi Resolution Calc'!$A$2:$E$1001,4,0))","v":""},{"$f":"IF(ISERROR(VLOOKUP($B260,'300ppi Resolution Calc'!$A$2:$E$1001,5,0)),\"\",VLOOKUP($B260,'300ppi Resolution Calc'!$A$2:$E$1001,5,0))","v":""}]
[null,null,null,null,null,null,null,null,null,null,null,"",{"$f":"IF(ISERROR(VLOOKUP($B261,'300ppi Resolution Calc'!$A$2:$E$1001,4,0)),\"\",VLOOKUP($B261,'300ppi Resolution Calc'!$A$2:$E$1001,4,0))","v":""},{"$f":"IF(ISERROR(VLOOKUP($B261,'300ppi Resolution Calc'!$A$2:$E$1001,5,0)),\"\",VLOOKUP($B261,'300ppi Resolution Calc'!$A$2:$E$1001,5,0))","v":""}]
[null,null,null,null,null,null,null,null,null,null,null,"",{"$f":"IF(ISERROR(VLOOKUP($B262,'300ppi Resolution Calc'!$A$2:$E$1001,4,0)),\"\",VLOOKUP($B262,'300ppi Resolution Calc'!$A$2:$E$1001,4,0))","v":""},{"$f":"IF(ISERROR(VLOOKUP($B262,'300ppi Resolution Calc'!$A$2:$E$1001,5,0)),\"\",VLOOKUP($B262,'300ppi Resolution Calc'!$A$2:$E$1001,5,0))","v":""}]
[null,null,null,null,null,null,null,null,null,null,null,"",{"$f":"IF(ISERROR(VLOOKUP($B263,'300ppi Resolution Calc'!$A$2:$E$1001,4,0)),\"\",VLOOKUP($B263,'300ppi Resolution Calc'!$A$2:$E$1001,4,0))","v":""},{"$f":"IF(ISERROR(VLOOKUP($B263,'300ppi Resolution Calc'!$A$2:$E$1001,5,0)),\"\",VLOOKUP($B263,'300ppi Resolution Calc'!$A$2:$E$1001,5,0))","v":""}]
[null,null,null,null,null,null,null,null,null,null,null,{"$f":"IF(AND(I264=\"Creative Commons License\",ISNUMBER(SEARCH(\"(\",J264))),CONCATENATE(B264,\": \",\"Copyright © by \",F264,\" \",J264,\" at \",D264,\".\"),\nIF(AND(I264=\"Creative Commons License\",NOT(ISNUMBER(SEARCH(\"(\",J264)))),CONCATENATE(B264,\": \",\"Copyright © by \",F264,\" (\",J264,\") at \",D264,\".\"),\nIF(I264=\"Public Domain\",CONCATENATE(B264,\": Source: \",D264,\".\"),\nIF(AND(I264=\"Fair Use\",OR(ISNUMBER(SEARCH(\"discuss\",J264)),ISNUMBER(SEARCH(\"critique\",J264)))),CONCATENATE(B264,\": \",\"Copyright © by \",F264,\".\"),\nIF(AND(I264=\"Fair Use\",NOT(OR(ISNUMBER(SEARCH(\"discuss\",J264)),ISNUMBER(SEARCH(\"critique\",J264))))),CONCATENATE(B264,\": Source: \",D264,\".\"),\nIF(AND(I264=\"Request to Rights Holder\",ISBLANK(E264),NOT(ISNUMBER(SEARCH(\"depositphotos\",D264))),NOT(ISNUMBER(SEARCH(\"FAL \",J264))),NOT(ISNUMBER(SEARCH(\"GNU \",J264)))),CONCATENATE(B264,\": \",\"Copyright ©\",\" by \",F264,\".\",\" Reprinted with permission.\"),\nIF(AND(I264=\"Request to Rights Holder\",NOT(ISBLANK(E264)),NOT(ISNUMBER(SEARCH(\"depositphotos\",D264))),NOT(ISNUMBER(SEARCH(\"FAL \",J264))),NOT(ISNUMBER(SEARCH(\"GNU \",J264)))),CONCATENATE(B264,\": \",\"Copyright © \",E264,\" by \",F264,\".\",\" Reprinted with permission.\"),\nIF(AND(I264=\"Request to Rights Holder\",NOT(ISBLANK(E264)),ISNUMBER(SEARCH(\"depositphotos\",D264))),CONCATENATE(B264,\":\",\" Copyright © \",E264,\" Depositphotos\",\"/\",F264,\".\"),\nIF(AND(I264=\"Request to Rights Holder\",ISBLANK(E264),ISNUMBER(SEARCH(\"depositphotos\",D264))),CONCATENATE(B264,\":\",\" Copyright © \",E264,\"Depositphotos\",\"/\",F264,\".\"),\nIF(AND(I264=\"Request to Rights Holder\",ISNUMBER(SEARCH(\"FAL \",J264)),ISNUMBER(SEARCH(\"(\",J264))),CONCATENATE(B264,\": \",\"Copyright © by \",F264,\" \",J264,\" at \",D264,\". A copy of the license can be found here: http://artlibre.org/licence/lal/en.\"),\nIF(AND(I264=\"Request to Rights Holder\",ISNUMBER(SEARCH(\"FAL \",J264)),NOT(ISNUMBER(SEARCH(\"(\",J264)))),CONCATENATE(B264,\": \",\"Copyright © by \",F264,\" (\",J264,\") at \",D264,\". A copy of the license can be found here: http://artlibre.org/licence/lal/en.\"),\nIF(AND(I264=\"Request to Rights Holder\",ISNUMBER(SEARCH(\"GNU \",J264)),ISNUMBER(SEARCH(\"(\",J264))),CONCATENATE(B264,\": \",\"Copyright © by \",F264,\" \",J264,\" at \",D264,\". A copy of the license can be found here: http://www.gnu.org/licenses/gpl.html\"),\nIF(AND(I264=\"Request to Rights Holder\",ISNUMBER(SEARCH(\"GNU \",J264)),NOT(ISNUMBER(SEARCH(\"(\",J264)))),CONCATENATE(B264,\": \",\"Copyright © by \",F264,\" (\",J264,\") at \",D264,\". A copy of the license can be found here: http://www.gnu.org/licenses/gpl.html\"),\n\"\")))))))))))))","v":""},{"$f":"IF(ISERROR(VLOOKUP($B264,'300ppi Resolution Calc'!$A$2:$E$1001,4,0)),\"\",VLOOKUP($B264,'300ppi Resolution Calc'!$A$2:$E$1001,4,0))","v":""},{"$f":"IF(ISERROR(VLOOKUP($B264,'300ppi Resolution Calc'!$A$2:$E$1001,5,0)),\"\",VLOOKUP($B264,'300ppi Resolution Calc'!$A$2:$E$1001,5,0))","v":""}]
[null,null,null,null,null,null,null,null,null,null,null,"",{"$f":"IF(ISERROR(VLOOKUP($B265,'300ppi Resolution Calc'!$A$2:$E$1001,4,0)),\"\",VLOOKUP($B265,'300ppi Resolution Calc'!$A$2:$E$1001,4,0))","v":""},{"$f":"IF(ISERROR(VLOOKUP($B265,'300ppi Resolution Calc'!$A$2:$E$1001,5,0)),\"\",VLOOKUP($B265,'300ppi Resolution Calc'!$A$2:$E$1001,5,0))","v":""}]
[null,null,null,null,null,null,null,null,null,null,null,"",{"$f":"IF(ISERROR(VLOOKUP($B266,'300ppi Resolution Calc'!$A$2:$E$1001,4,0)),\"\",VLOOKUP($B266,'300ppi Resolution Calc'!$A$2:$E$1001,4,0))","v":""},{"$f":"IF(ISERROR(VLOOKUP($B266,'300ppi Resolution Calc'!$A$2:$E$1001,5,0)),\"\",VLOOKUP($B266,'300ppi Resolution Calc'!$A$2:$E$1001,5,0))","v":""}]
[null,null,null,null,null,null,null,null,null,null,null,"",{"$f":"IF(ISERROR(VLOOKUP($B267,'300ppi Resolution Calc'!$A$2:$E$1001,4,0)),\"\",VLOOKUP($B267,'300ppi Resolution Calc'!$A$2:$E$1001,4,0))","v":""},{"$f":"IF(ISERROR(VLOOKUP($B267,'300ppi Resolution Calc'!$A$2:$E$1001,5,0)),\"\",VLOOKUP($B267,'300ppi Resolution Calc'!$A$2:$E$1001,5,0))","v":""}]
[null,null,null,null,null,null,null,null,null,null,null,"",{"$f":"IF(ISERROR(VLOOKUP($B268,'300ppi Resolution Calc'!$A$2:$E$1001,4,0)),\"\",VLOOKUP($B268,'300ppi Resolution Calc'!$A$2:$E$1001,4,0))","v":""},{"$f":"IF(ISERROR(VLOOKUP($B268,'300ppi Resolution Calc'!$A$2:$E$1001,5,0)),\"\",VLOOKUP($B268,'300ppi Resolution Calc'!$A$2:$E$1001,5,0))","v":""}]
[null,null,null,null,null,null,null,null,null,null,null,"",{"$f":"IF(ISERROR(VLOOKUP($B269,'300ppi Resolution Calc'!$A$2:$E$1001,4,0)),\"\",VLOOKUP($B269,'300ppi Resolution Calc'!$A$2:$E$1001,4,0))","v":""},{"$f":"IF(ISERROR(VLOOKUP($B269,'300ppi Resolution Calc'!$A$2:$E$1001,5,0)),\"\",VLOOKUP($B269,'300ppi Resolution Calc'!$A$2:$E$1001,5,0))","v":""}]
[null,null,null,null,null,null,null,null,null,null,null,"",{"$f":"IF(ISERROR(VLOOKUP($B270,'300ppi Resolution Calc'!$A$2:$E$1001,4,0)),\"\",VLOOKUP($B270,'300ppi Resolution Calc'!$A$2:$E$1001,4,0))","v":""},{"$f":"IF(ISERROR(VLOOKUP($B270,'300ppi Resolution Calc'!$A$2:$E$1001,5,0)),\"\",VLOOKUP($B270,'300ppi Resolution Calc'!$A$2:$E$1001,5,0))","v":""}]
[null,null,null,null,null,null,null,null,null,null,null,"",{"$f":"IF(ISERROR(VLOOKUP($B271,'300ppi Resolution Calc'!$A$2:$E$1001,4,0)),\"\",VLOOKUP($B271,'300ppi Resolution Calc'!$A$2:$E$1001,4,0))","v":""},{"$f":"IF(ISERROR(VLOOKUP($B271,'300ppi Resolution Calc'!$A$2:$E$1001,5,0)),\"\",VLOOKUP($B271,'300ppi Resolution Calc'!$A$2:$E$1001,5,0))","v":""}]
[null,null,null,null,null,null,null,null,null,null,null,"",{"$f":"IF(ISERROR(VLOOKUP($B272,'300ppi Resolution Calc'!$A$2:$E$1001,4,0)),\"\",VLOOKUP($B272,'300ppi Resolution Calc'!$A$2:$E$1001,4,0))","v":""},{"$f":"IF(ISERROR(VLOOKUP($B272,'300ppi Resolution Calc'!$A$2:$E$1001,5,0)),\"\",VLOOKUP($B272,'300ppi Resolution Calc'!$A$2:$E$1001,5,0))","v":""}]
[null,null,null,null,null,null,null,null,null,null,null,"",{"$f":"IF(ISERROR(VLOOKUP($B273,'300ppi Resolution Calc'!$A$2:$E$1001,4,0)),\"\",VLOOKUP($B273,'300ppi Resolution Calc'!$A$2:$E$1001,4,0))","v":""},{"$f":"IF(ISERROR(VLOOKUP($B273,'300ppi Resolution Calc'!$A$2:$E$1001,5,0)),\"\",VLOOKUP($B273,'300ppi Resolution Calc'!$A$2:$E$1001,5,0))","v":""}]
[null,null,null,null,null,null,null,null,null,null,null,"",{"$f":"IF(ISERROR(VLOOKUP($B274,'300ppi Resolution Calc'!$A$2:$E$1001,4,0)),\"\",VLOOKUP($B274,'300ppi Resolution Calc'!$A$2:$E$1001,4,0))","v":""},{"$f":"IF(ISERROR(VLOOKUP($B274,'300ppi Resolution Calc'!$A$2:$E$1001,5,0)),\"\",VLOOKUP($B274,'300ppi Resolution Calc'!$A$2:$E$1001,5,0))","v":""}]
[null,null,null,null,null,null,null,null,null,null,null,"",{"$f":"IF(ISERROR(VLOOKUP($B275,'300ppi Resolution Calc'!$A$2:$E$1001,4,0)),\"\",VLOOKUP($B275,'300ppi Resolution Calc'!$A$2:$E$1001,4,0))","v":""},{"$f":"IF(ISERROR(VLOOKUP($B275,'300ppi Resolution Calc'!$A$2:$E$1001,5,0)),\"\",VLOOKUP($B275,'300ppi Resolution Calc'!$A$2:$E$1001,5,0))","v":""}]
[null,null,null,null,null,null,null,null,null,null,null,"",{"$f":"IF(ISERROR(VLOOKUP($B276,'300ppi Resolution Calc'!$A$2:$E$1001,4,0)),\"\",VLOOKUP($B276,'300ppi Resolution Calc'!$A$2:$E$1001,4,0))","v":""},{"$f":"IF(ISERROR(VLOOKUP($B276,'300ppi Resolution Calc'!$A$2:$E$1001,5,0)),\"\",VLOOKUP($B276,'300ppi Resolution Calc'!$A$2:$E$1001,5,0))","v":""}]
[null,null,null,null,null,null,null,null,null,null,null,"",{"$f":"IF(ISERROR(VLOOKUP($B277,'300ppi Resolution Calc'!$A$2:$E$1001,4,0)),\"\",VLOOKUP($B277,'300ppi Resolution Calc'!$A$2:$E$1001,4,0))","v":""},{"$f":"IF(ISERROR(VLOOKUP($B277,'300ppi Resolution Calc'!$A$2:$E$1001,5,0)),\"\",VLOOKUP($B277,'300ppi Resolution Calc'!$A$2:$E$1001,5,0))","v":""}]
[null,null,null,null,null,null,null,null,null,null,null,"",{"$f":"IF(ISERROR(VLOOKUP($B278,'300ppi Resolution Calc'!$A$2:$E$1001,4,0)),\"\",VLOOKUP($B278,'300ppi Resolution Calc'!$A$2:$E$1001,4,0))","v":""},{"$f":"IF(ISERROR(VLOOKUP($B278,'300ppi Resolution Calc'!$A$2:$E$1001,5,0)),\"\",VLOOKUP($B278,'300ppi Resolution Calc'!$A$2:$E$1001,5,0))","v":""}]
[null,null,null,null,null,null,null,null,null,null,null,"",{"$f":"IF(ISERROR(VLOOKUP($B279,'300ppi Resolution Calc'!$A$2:$E$1001,4,0)),\"\",VLOOKUP($B279,'300ppi Resolution Calc'!$A$2:$E$1001,4,0))","v":""},{"$f":"IF(ISERROR(VLOOKUP($B279,'300ppi Resolution Calc'!$A$2:$E$1001,5,0)),\"\",VLOOKUP($B279,'300ppi Resolution Calc'!$A$2:$E$1001,5,0))","v":""}]
[null,null,null,null,null,null,null,null,null,null,null,"",{"$f":"IF(ISERROR(VLOOKUP($B280,'300ppi Resolution Calc'!$A$2:$E$1001,4,0)),\"\",VLOOKUP($B280,'300ppi Resolution Calc'!$A$2:$E$1001,4,0))","v":""},{"$f":"IF(ISERROR(VLOOKUP($B280,'300ppi Resolution Calc'!$A$2:$E$1001,5,0)),\"\",VLOOKUP($B280,'300ppi Resolution Calc'!$A$2:$E$1001,5,0))","v":""}]
[null,null,null,null,null,null,null,null,null,null,null,"",{"$f":"IF(ISERROR(VLOOKUP($B281,'300ppi Resolution Calc'!$A$2:$E$1001,4,0)),\"\",VLOOKUP($B281,'300ppi Resolution Calc'!$A$2:$E$1001,4,0))","v":""},{"$f":"IF(ISERROR(VLOOKUP($B281,'300ppi Resolution Calc'!$A$2:$E$1001,5,0)),\"\",VLOOKUP($B281,'300ppi Resolution Calc'!$A$2:$E$1001,5,0))","v":""}]
[null,null,null,null,null,null,null,null,null,null,null,"",{"$f":"IF(ISERROR(VLOOKUP($B282,'300ppi Resolution Calc'!$A$2:$E$1001,4,0)),\"\",VLOOKUP($B282,'300ppi Resolution Calc'!$A$2:$E$1001,4,0))","v":""},{"$f":"IF(ISERROR(VLOOKUP($B282,'300ppi Resolution Calc'!$A$2:$E$1001,5,0)),\"\",VLOOKUP($B282,'300ppi Resolution Calc'!$A$2:$E$1001,5,0))","v":""}]
[null,null,null,null,null,null,null,null,null,null,null,"",{"$f":"IF(ISERROR(VLOOKUP($B283,'300ppi Resolution Calc'!$A$2:$E$1001,4,0)),\"\",VLOOKUP($B283,'300ppi Resolution Calc'!$A$2:$E$1001,4,0))","v":""},{"$f":"IF(ISERROR(VLOOKUP($B283,'300ppi Resolution Calc'!$A$2:$E$1001,5,0)),\"\",VLOOKUP($B283,'300ppi Resolution Calc'!$A$2:$E$1001,5,0))","v":""}]
[null,null,null,null,null,null,null,null,null,null,null,"",{"$f":"IF(ISERROR(VLOOKUP($B284,'300ppi Resolution Calc'!$A$2:$E$1001,4,0)),\"\",VLOOKUP($B284,'300ppi Resolution Calc'!$A$2:$E$1001,4,0))","v":""},{"$f":"IF(ISERROR(VLOOKUP($B284,'300ppi Resolution Calc'!$A$2:$E$1001,5,0)),\"\",VLOOKUP($B284,'300ppi Resolution Calc'!$A$2:$E$1001,5,0))","v":""}]
[null,null,null,null,null,null,null,null,null,null,null,"",{"$f":"IF(ISERROR(VLOOKUP($B285,'300ppi Resolution Calc'!$A$2:$E$1001,4,0)),\"\",VLOOKUP($B285,'300ppi Resolution Calc'!$A$2:$E$1001,4,0))","v":""},{"$f":"IF(ISERROR(VLOOKUP($B285,'300ppi Resolution Calc'!$A$2:$E$1001,5,0)),\"\",VLOOKUP($B285,'300ppi Resolution Calc'!$A$2:$E$1001,5,0))","v":""}]
[null,null,null,null,null,null,null,null,null,null,null,"",{"$f":"IF(ISERROR(VLOOKUP($B286,'300ppi Resolution Calc'!$A$2:$E$1001,4,0)),\"\",VLOOKUP($B286,'300ppi Resolution Calc'!$A$2:$E$1001,4,0))","v":""},{"$f":"IF(ISERROR(VLOOKUP($B286,'300ppi Resolution Calc'!$A$2:$E$1001,5,0)),\"\",VLOOKUP($B286,'300ppi Resolution Calc'!$A$2:$E$1001,5,0))","v":""}]
[null,null,null,null,null,null,null,null,null,null,null,"",{"$f":"IF(ISERROR(VLOOKUP($B287,'300ppi Resolution Calc'!$A$2:$E$1001,4,0)),\"\",VLOOKUP($B287,'300ppi Resolution Calc'!$A$2:$E$1001,4,0))","v":""},{"$f":"IF(ISERROR(VLOOKUP($B287,'300ppi Resolution Calc'!$A$2:$E$1001,5,0)),\"\",VLOOKUP($B287,'300ppi Resolution Calc'!$A$2:$E$1001,5,0))","v":""}]
[null,null,null,null,null,null,null,null,null,null,null,"",{"$f":"IF(ISERROR(VLOOKUP($B288,'300ppi Resolution Calc'!$A$2:$E$1001,4,0)),\"\",VLOOKUP($B288,'300ppi Resolution Calc'!$A$2:$E$1001,4,0))","v":""},{"$f":"IF(ISERROR(VLOOKUP($B288,'300ppi Resolution Calc'!$A$2:$E$1001,5,0)),\"\",VLOOKUP($B288,'300ppi Resolution Calc'!$A$2:$E$1001,5,0))","v":""}]
[null,null,null,null,null,null,null,null,null,null,null,"",{"$f":"IF(ISERROR(VLOOKUP($B289,'300ppi Resolution Calc'!$A$2:$E$1001,4,0)),\"\",VLOOKUP($B289,'300ppi Resolution Calc'!$A$2:$E$1001,4,0))","v":""},{"$f":"IF(ISERROR(VLOOKUP($B289,'300ppi Resolution Calc'!$A$2:$E$1001,5,0)),\"\",VLOOKUP($B289,'300ppi Resolution Calc'!$A$2:$E$1001,5,0))","v":""}]
[null,null,null,null,null,null,null,null,null,null,null,"",{"$f":"IF(ISERROR(VLOOKUP($B290,'300ppi Resolution Calc'!$A$2:$E$1001,4,0)),\"\",VLOOKUP($B290,'300ppi Resolution Calc'!$A$2:$E$1001,4,0))","v":""},{"$f":"IF(ISERROR(VLOOKUP($B290,'300ppi Resolution Calc'!$A$2:$E$1001,5,0)),\"\",VLOOKUP($B290,'300ppi Resolution Calc'!$A$2:$E$1001,5,0))","v":""}]
[null,null,null,null,null,null,null,null,null,null,null,"",{"$f":"IF(ISERROR(VLOOKUP($B291,'300ppi Resolution Calc'!$A$2:$E$1001,4,0)),\"\",VLOOKUP($B291,'300ppi Resolution Calc'!$A$2:$E$1001,4,0))","v":""},{"$f":"IF(ISERROR(VLOOKUP($B291,'300ppi Resolution Calc'!$A$2:$E$1001,5,0)),\"\",VLOOKUP($B291,'300ppi Resolution Calc'!$A$2:$E$1001,5,0))","v":""}]
[null,null,null,null,null,null,null,null,null,null,null,"",{"$f":"IF(ISERROR(VLOOKUP($B292,'300ppi Resolution Calc'!$A$2:$E$1001,4,0)),\"\",VLOOKUP($B292,'300ppi Resolution Calc'!$A$2:$E$1001,4,0))","v":""},{"$f":"IF(ISERROR(VLOOKUP($B292,'300ppi Resolution Calc'!$A$2:$E$1001,5,0)),\"\",VLOOKUP($B292,'300ppi Resolution Calc'!$A$2:$E$1001,5,0))","v":""}]
[null,null,null,null,null,null,null,null,null,null,null,"",{"$f":"IF(ISERROR(VLOOKUP($B293,'300ppi Resolution Calc'!$A$2:$E$1001,4,0)),\"\",VLOOKUP($B293,'300ppi Resolution Calc'!$A$2:$E$1001,4,0))","v":""},{"$f":"IF(ISERROR(VLOOKUP($B293,'300ppi Resolution Calc'!$A$2:$E$1001,5,0)),\"\",VLOOKUP($B293,'300ppi Resolution Calc'!$A$2:$E$1001,5,0))","v":""}]
[null,null,null,null,null,null,null,null,null,null,null,"",{"$f":"IF(ISERROR(VLOOKUP($B294,'300ppi Resolution Calc'!$A$2:$E$1001,4,0)),\"\",VLOOKUP($B294,'300ppi Resolution Calc'!$A$2:$E$1001,4,0))","v":""},{"$f":"IF(ISERROR(VLOOKUP($B294,'300ppi Resolution Calc'!$A$2:$E$1001,5,0)),\"\",VLOOKUP($B294,'300ppi Resolution Calc'!$A$2:$E$1001,5,0))","v":""}]
[null,null,null,null,null,null,null,null,null,null,null,"",{"$f":"IF(ISERROR(VLOOKUP($B295,'300ppi Resolution Calc'!$A$2:$E$1001,4,0)),\"\",VLOOKUP($B295,'300ppi Resolution Calc'!$A$2:$E$1001,4,0))","v":""},{"$f":"IF(ISERROR(VLOOKUP($B295,'300ppi Resolution Calc'!$A$2:$E$1001,5,0)),\"\",VLOOKUP($B295,'300ppi Resolution Calc'!$A$2:$E$1001,5,0))","v":""}]
[null,null,null,null,null,null,null,null,null,null,null,"",{"$f":"IF(ISERROR(VLOOKUP($B296,'300ppi Resolution Calc'!$A$2:$E$1001,4,0)),\"\",VLOOKUP($B296,'300ppi Resolution Calc'!$A$2:$E$1001,4,0))","v":""},{"$f":"IF(ISERROR(VLOOKUP($B296,'300ppi Resolution Calc'!$A$2:$E$1001,5,0)),\"\",VLOOKUP($B296,'300ppi Resolution Calc'!$A$2:$E$1001,5,0))","v":""}]
[null,null,null,null,null,null,null,null,null,null,null,"",{"$f":"IF(ISERROR(VLOOKUP($B297,'300ppi Resolution Calc'!$A$2:$E$1001,4,0)),\"\",VLOOKUP($B297,'300ppi Resolution Calc'!$A$2:$E$1001,4,0))","v":""},{"$f":"IF(ISERROR(VLOOKUP($B297,'300ppi Resolution Calc'!$A$2:$E$1001,5,0)),\"\",VLOOKUP($B297,'300ppi Resolution Calc'!$A$2:$E$1001,5,0))","v":""}]
[null,null,null,null,null,null,null,null,null,null,null,"",{"$f":"IF(ISERROR(VLOOKUP($B298,'300ppi Resolution Calc'!$A$2:$E$1001,4,0)),\"\",VLOOKUP($B298,'300ppi Resolution Calc'!$A$2:$E$1001,4,0))","v":""},{"$f":"IF(ISERROR(VLOOKUP($B298,'300ppi Resolution Calc'!$A$2:$E$1001,5,0)),\"\",VLOOKUP($B298,'300ppi Resolution Calc'!$A$2:$E$1001,5,0))","v":""}]
[null,null,null,null,null,null,null,null,null,null,null,"",{"$f":"IF(ISERROR(VLOOKUP($B299,'300ppi Resolution Calc'!$A$2:$E$1001,4,0)),\"\",VLOOKUP($B299,'300ppi Resolution Calc'!$A$2:$E$1001,4,0))","v":""},{"$f":"IF(ISERROR(VLOOKUP($B299,'300ppi Resolution Calc'!$A$2:$E$1001,5,0)),\"\",VLOOKUP($B299,'300ppi Resolution Calc'!$A$2:$E$1001,5,0))","v":""}]
[null,null,null,null,null,null,null,null,null,null,null,"",{"$f":"IF(ISERROR(VLOOKUP($B300,'300ppi Resolution Calc'!$A$2:$E$1001,4,0)),\"\",VLOOKUP($B300,'300ppi Resolution Calc'!$A$2:$E$1001,4,0))","v":""},{"$f":"IF(ISERROR(VLOOKUP($B300,'300ppi Resolution Calc'!$A$2:$E$1001,5,0)),\"\",VLOOKUP($B300,'300ppi Resolution Calc'!$A$2:$E$1001,5,0))","v":""}]
[null,null,null,null,null,null,null,null,null,null,null,"",{"$f":"IF(ISERROR(VLOOKUP($B301,'300ppi Resolution Calc'!$A$2:$E$1001,4,0)),\"\",VLOOKUP($B301,'300ppi Resolution Calc'!$A$2:$E$1001,4,0))","v":""},{"$f":"IF(ISERROR(VLOOKUP($B301,'300ppi Resolution Calc'!$A$2:$E$1001,5,0)),\"\",VLOOKUP($B301,'300ppi Resolution Calc'!$A$2:$E$1001,5,0))","v":""}]
[null,null,null,null,null,null,null,null,null,null,null,"",{"$f":"IF(ISERROR(VLOOKUP($B302,'300ppi Resolution Calc'!$A$2:$E$1001,4,0)),\"\",VLOOKUP($B302,'300ppi Resolution Calc'!$A$2:$E$1001,4,0))","v":""},{"$f":"IF(ISERROR(VLOOKUP($B302,'300ppi Resolution Calc'!$A$2:$E$1001,5,0)),\"\",VLOOKUP($B302,'300ppi Resolution Calc'!$A$2:$E$1001,5,0))","v":""}]
[null,null,null,null,null,null,null,null,null,null,null,"",{"$f":"IF(ISERROR(VLOOKUP($B303,'300ppi Resolution Calc'!$A$2:$E$1001,4,0)),\"\",VLOOKUP($B303,'300ppi Resolution Calc'!$A$2:$E$1001,4,0))","v":""},{"$f":"IF(ISERROR(VLOOKUP($B303,'300ppi Resolution Calc'!$A$2:$E$1001,5,0)),\"\",VLOOKUP($B303,'300ppi Resolution Calc'!$A$2:$E$1001,5,0))","v":""}]
[null,null,null,null,null,null,null,null,null,null,null,"",{"$f":"IF(ISERROR(VLOOKUP($B304,'300ppi Resolution Calc'!$A$2:$E$1001,4,0)),\"\",VLOOKUP($B304,'300ppi Resolution Calc'!$A$2:$E$1001,4,0))","v":""},{"$f":"IF(ISERROR(VLOOKUP($B304,'300ppi Resolution Calc'!$A$2:$E$1001,5,0)),\"\",VLOOKUP($B304,'300ppi Resolution Calc'!$A$2:$E$1001,5,0))","v":""}]
[null,null,null,null,null,null,null,null,null,null,null,"",{"$f":"IF(ISERROR(VLOOKUP($B305,'300ppi Resolution Calc'!$A$2:$E$1001,4,0)),\"\",VLOOKUP($B305,'300ppi Resolution Calc'!$A$2:$E$1001,4,0))","v":""},{"$f":"IF(ISERROR(VLOOKUP($B305,'300ppi Resolution Calc'!$A$2:$E$1001,5,0)),\"\",VLOOKUP($B305,'300ppi Resolution Calc'!$A$2:$E$1001,5,0))","v":""}]
[null,null,null,null,null,null,null,null,null,null,null,"",{"$f":"IF(ISERROR(VLOOKUP($B306,'300ppi Resolution Calc'!$A$2:$E$1001,4,0)),\"\",VLOOKUP($B306,'300ppi Resolution Calc'!$A$2:$E$1001,4,0))","v":""},{"$f":"IF(ISERROR(VLOOKUP($B306,'300ppi Resolution Calc'!$A$2:$E$1001,5,0)),\"\",VLOOKUP($B306,'300ppi Resolution Calc'!$A$2:$E$1001,5,0))","v":""}]
[null,null,null,null,null,null,null,null,null,null,null,"",{"$f":"IF(ISERROR(VLOOKUP($B307,'300ppi Resolution Calc'!$A$2:$E$1001,4,0)),\"\",VLOOKUP($B307,'300ppi Resolution Calc'!$A$2:$E$1001,4,0))","v":""},{"$f":"IF(ISERROR(VLOOKUP($B307,'300ppi Resolution Calc'!$A$2:$E$1001,5,0)),\"\",VLOOKUP($B307,'300ppi Resolution Calc'!$A$2:$E$1001,5,0))","v":""}]
[null,null,null,null,null,null,null,null,null,null,null,"",{"$f":"IF(ISERROR(VLOOKUP($B308,'300ppi Resolution Calc'!$A$2:$E$1001,4,0)),\"\",VLOOKUP($B308,'300ppi Resolution Calc'!$A$2:$E$1001,4,0))","v":""},{"$f":"IF(ISERROR(VLOOKUP($B308,'300ppi Resolution Calc'!$A$2:$E$1001,5,0)),\"\",VLOOKUP($B308,'300ppi Resolution Calc'!$A$2:$E$1001,5,0))","v":""}]
[null,null,null,null,null,null,null,null,null,null,null,"",{"$f":"IF(ISERROR(VLOOKUP($B309,'300ppi Resolution Calc'!$A$2:$E$1001,4,0)),\"\",VLOOKUP($B309,'300ppi Resolution Calc'!$A$2:$E$1001,4,0))","v":""},{"$f":"IF(ISERROR(VLOOKUP($B309,'300ppi Resolution Calc'!$A$2:$E$1001,5,0)),\"\",VLOOKUP($B309,'300ppi Resolution Calc'!$A$2:$E$1001,5,0))","v":""}]
[null,null,null,null,null,null,null,null,null,null,null,"",{"$f":"IF(ISERROR(VLOOKUP($B310,'300ppi Resolution Calc'!$A$2:$E$1001,4,0)),\"\",VLOOKUP($B310,'300ppi Resolution Calc'!$A$2:$E$1001,4,0))","v":""},{"$f":"IF(ISERROR(VLOOKUP($B310,'300ppi Resolution Calc'!$A$2:$E$1001,5,0)),\"\",VLOOKUP($B310,'300ppi Resolution Calc'!$A$2:$E$1001,5,0))","v":""}]
[null,null,null,null,null,null,null,null,null,null,null,"",{"$f":"IF(ISERROR(VLOOKUP($B311,'300ppi Resolution Calc'!$A$2:$E$1001,4,0)),\"\",VLOOKUP($B311,'300ppi Resolution Calc'!$A$2:$E$1001,4,0))","v":""},{"$f":"IF(ISERROR(VLOOKUP($B311,'300ppi Resolution Calc'!$A$2:$E$1001,5,0)),\"\",VLOOKUP($B311,'300ppi Resolution Calc'!$A$2:$E$1001,5,0))","v":""}]
[null,null,null,null,null,null,null,null,null,null,null,"",{"$f":"IF(ISERROR(VLOOKUP($B312,'300ppi Resolution Calc'!$A$2:$E$1001,4,0)),\"\",VLOOKUP($B312,'300ppi Resolution Calc'!$A$2:$E$1001,4,0))","v":""},{"$f":"IF(ISERROR(VLOOKUP($B312,'300ppi Resolution Calc'!$A$2:$E$1001,5,0)),\"\",VLOOKUP($B312,'300ppi Resolution Calc'!$A$2:$E$1001,5,0))","v":""}]
[null,null,null,null,null,null,null,null,null,null,null,"",{"$f":"IF(ISERROR(VLOOKUP($B313,'300ppi Resolution Calc'!$A$2:$E$1001,4,0)),\"\",VLOOKUP($B313,'300ppi Resolution Calc'!$A$2:$E$1001,4,0))","v":""},{"$f":"IF(ISERROR(VLOOKUP($B313,'300ppi Resolution Calc'!$A$2:$E$1001,5,0)),\"\",VLOOKUP($B313,'300ppi Resolution Calc'!$A$2:$E$1001,5,0))","v":""}]
[null,null,null,null,null,null,null,null,null,null,null,"",{"$f":"IF(ISERROR(VLOOKUP($B314,'300ppi Resolution Calc'!$A$2:$E$1001,4,0)),\"\",VLOOKUP($B314,'300ppi Resolution Calc'!$A$2:$E$1001,4,0))","v":""},{"$f":"IF(ISERROR(VLOOKUP($B314,'300ppi Resolution Calc'!$A$2:$E$1001,5,0)),\"\",VLOOKUP($B314,'300ppi Resolution Calc'!$A$2:$E$1001,5,0))","v":""}]
[null,null,null,null,null,null,null,null,null,null,null,"",{"$f":"IF(ISERROR(VLOOKUP($B315,'300ppi Resolution Calc'!$A$2:$E$1001,4,0)),\"\",VLOOKUP($B315,'300ppi Resolution Calc'!$A$2:$E$1001,4,0))","v":""},{"$f":"IF(ISERROR(VLOOKUP($B315,'300ppi Resolution Calc'!$A$2:$E$1001,5,0)),\"\",VLOOKUP($B315,'300ppi Resolution Calc'!$A$2:$E$1001,5,0))","v":""}]
[null,null,null,null,null,null,null,null,null,null,null,"",{"$f":"IF(ISERROR(VLOOKUP($B316,'300ppi Resolution Calc'!$A$2:$E$1001,4,0)),\"\",VLOOKUP($B316,'300ppi Resolution Calc'!$A$2:$E$1001,4,0))","v":""},{"$f":"IF(ISERROR(VLOOKUP($B316,'300ppi Resolution Calc'!$A$2:$E$1001,5,0)),\"\",VLOOKUP($B316,'300ppi Resolution Calc'!$A$2:$E$1001,5,0))","v":""}]
[null,null,null,null,null,null,null,null,null,null,null,"",{"$f":"IF(ISERROR(VLOOKUP($B317,'300ppi Resolution Calc'!$A$2:$E$1001,4,0)),\"\",VLOOKUP($B317,'300ppi Resolution Calc'!$A$2:$E$1001,4,0))","v":""},{"$f":"IF(ISERROR(VLOOKUP($B317,'300ppi Resolution Calc'!$A$2:$E$1001,5,0)),\"\",VLOOKUP($B317,'300ppi Resolution Calc'!$A$2:$E$1001,5,0))","v":""}]
[null,null,null,null,null,null,null,null,null,null,null,"",{"$f":"IF(ISERROR(VLOOKUP($B318,'300ppi Resolution Calc'!$A$2:$E$1001,4,0)),\"\",VLOOKUP($B318,'300ppi Resolution Calc'!$A$2:$E$1001,4,0))","v":""},{"$f":"IF(ISERROR(VLOOKUP($B318,'300ppi Resolution Calc'!$A$2:$E$1001,5,0)),\"\",VLOOKUP($B318,'300ppi Resolution Calc'!$A$2:$E$1001,5,0))","v":""}]
[null,null,null,null,null,null,null,null,null,null,null,"",{"$f":"IF(ISERROR(VLOOKUP($B319,'300ppi Resolution Calc'!$A$2:$E$1001,4,0)),\"\",VLOOKUP($B319,'300ppi Resolution Calc'!$A$2:$E$1001,4,0))","v":""},{"$f":"IF(ISERROR(VLOOKUP($B319,'300ppi Resolution Calc'!$A$2:$E$1001,5,0)),\"\",VLOOKUP($B319,'300ppi Resolution Calc'!$A$2:$E$1001,5,0))","v":""}]
[null,null,null,null,null,null,null,null,null,null,null,"",{"$f":"IF(ISERROR(VLOOKUP($B320,'300ppi Resolution Calc'!$A$2:$E$1001,4,0)),\"\",VLOOKUP($B320,'300ppi Resolution Calc'!$A$2:$E$1001,4,0))","v":""},{"$f":"IF(ISERROR(VLOOKUP($B320,'300ppi Resolution Calc'!$A$2:$E$1001,5,0)),\"\",VLOOKUP($B320,'300ppi Resolution Calc'!$A$2:$E$1001,5,0))","v":""}]
[null,null,null,null,null,null,null,null,null,null,null,"",{"$f":"IF(ISERROR(VLOOKUP($B321,'300ppi Resolution Calc'!$A$2:$E$1001,4,0)),\"\",VLOOKUP($B321,'300ppi Resolution Calc'!$A$2:$E$1001,4,0))","v":""},{"$f":"IF(ISERROR(VLOOKUP($B321,'300ppi Resolution Calc'!$A$2:$E$1001,5,0)),\"\",VLOOKUP($B321,'300ppi Resolution Calc'!$A$2:$E$1001,5,0))","v":""}]
[null,null,null,null,null,null,null,null,null,null,null,"",{"$f":"IF(ISERROR(VLOOKUP($B322,'300ppi Resolution Calc'!$A$2:$E$1001,4,0)),\"\",VLOOKUP($B322,'300ppi Resolution Calc'!$A$2:$E$1001,4,0))","v":""},{"$f":"IF(ISERROR(VLOOKUP($B322,'300ppi Resolution Calc'!$A$2:$E$1001,5,0)),\"\",VLOOKUP($B322,'300ppi Resolution Calc'!$A$2:$E$1001,5,0))","v":""}]
[null,null,null,null,null,null,null,null,null,null,null,"",{"$f":"IF(ISERROR(VLOOKUP($B323,'300ppi Resolution Calc'!$A$2:$E$1001,4,0)),\"\",VLOOKUP($B323,'300ppi Resolution Calc'!$A$2:$E$1001,4,0))","v":""},{"$f":"IF(ISERROR(VLOOKUP($B323,'300ppi Resolution Calc'!$A$2:$E$1001,5,0)),\"\",VLOOKUP($B323,'300ppi Resolution Calc'!$A$2:$E$1001,5,0))","v":""}]
[null,null,null,null,null,null,null,null,null,null,null,"",{"$f":"IF(ISERROR(VLOOKUP($B324,'300ppi Resolution Calc'!$A$2:$E$1001,4,0)),\"\",VLOOKUP($B324,'300ppi Resolution Calc'!$A$2:$E$1001,4,0))","v":""},{"$f":"IF(ISERROR(VLOOKUP($B324,'300ppi Resolution Calc'!$A$2:$E$1001,5,0)),\"\",VLOOKUP($B324,'300ppi Resolution Calc'!$A$2:$E$1001,5,0))","v":""}]
[null,null,null,null,null,null,null,null,null,null,null,"",{"$f":"IF(ISERROR(VLOOKUP($B325,'300ppi Resolution Calc'!$A$2:$E$1001,4,0)),\"\",VLOOKUP($B325,'300ppi Resolution Calc'!$A$2:$E$1001,4,0))","v":""},{"$f":"IF(ISERROR(VLOOKUP($B325,'300ppi Resolution Calc'!$A$2:$E$1001,5,0)),\"\",VLOOKUP($B325,'300ppi Resolution Calc'!$A$2:$E$1001,5,0))","v":""}]
[null,null,null,null,null,null,null,null,null,null,null,"",{"$f":"IF(ISERROR(VLOOKUP($B326,'300ppi Resolution Calc'!$A$2:$E$1001,4,0)),\"\",VLOOKUP($B326,'300ppi Resolution Calc'!$A$2:$E$1001,4,0))","v":""},{"$f":"IF(ISERROR(VLOOKUP($B326,'300ppi Resolution Calc'!$A$2:$E$1001,5,0)),\"\",VLOOKUP($B326,'300ppi Resolution Calc'!$A$2:$E$1001,5,0))","v":""}]
[null,null,null,null,null,null,null,null,null,null,null,"",{"$f":"IF(ISERROR(VLOOKUP($B327,'300ppi Resolution Calc'!$A$2:$E$1001,4,0)),\"\",VLOOKUP($B327,'300ppi Resolution Calc'!$A$2:$E$1001,4,0))","v":""},{"$f":"IF(ISERROR(VLOOKUP($B327,'300ppi Resolution Calc'!$A$2:$E$1001,5,0)),\"\",VLOOKUP($B327,'300ppi Resolution Calc'!$A$2:$E$1001,5,0))","v":""}]
[null,null,null,null,null,null,null,null,null,null,null,{"$f":"IF(AND(I328=\"Creative Commons License\",ISNUMBER(SEARCH(\"(\",J328))),CONCATENATE(B328,\": \",\"Copyright © by \",F328,\" \",J328,\" at \",D328,\".\"),\nIF(AND(I328=\"Creative Commons License\",NOT(ISNUMBER(SEARCH(\"(\",J328)))),CONCATENATE(B328,\": \",\"Copyright © by \",F328,\" (\",J328,\") at \",D328,\".\"),\nIF(I328=\"Public Domain\",CONCATENATE(B328,\": Source: \",D328,\".\"),\nIF(AND(I328=\"Fair Use\",OR(ISNUMBER(SEARCH(\"discuss\",J328)),ISNUMBER(SEARCH(\"critique\",J328)))),CONCATENATE(B328,\": \",\"Copyright © by \",F328,\".\"),\nIF(AND(I328=\"Fair Use\",NOT(OR(ISNUMBER(SEARCH(\"discuss\",J328)),ISNUMBER(SEARCH(\"critique\",J328))))),CONCATENATE(B328,\": Source: \",D328,\".\"),\nIF(AND(I328=\"Request to Rights Holder\",ISBLANK(E328),NOT(ISNUMBER(SEARCH(\"depositphotos\",D328))),NOT(ISNUMBER(SEARCH(\"FAL \",J328))),NOT(ISNUMBER(SEARCH(\"GNU \",J328)))),CONCATENATE(B328,\": \",\"Copyright ©\",\" by \",F328,\".\",\" Reprinted with permission.\"),\nIF(AND(I328=\"Request to Rights Holder\",NOT(ISBLANK(E328)),NOT(ISNUMBER(SEARCH(\"depositphotos\",D328))),NOT(ISNUMBER(SEARCH(\"FAL \",J328))),NOT(ISNUMBER(SEARCH(\"GNU \",J328)))),CONCATENATE(B328,\": \",\"Copyright © \",E328,\" by \",F328,\".\",\" Reprinted with permission.\"),\nIF(AND(I328=\"Request to Rights Holder\",NOT(ISBLANK(E328)),ISNUMBER(SEARCH(\"depositphotos\",D328))),CONCATENATE(B328,\":\",\" Copyright © \",E328,\" Depositphotos\",\"/\",F328,\".\"),\nIF(AND(I328=\"Request to Rights Holder\",ISBLANK(E328),ISNUMBER(SEARCH(\"depositphotos\",D328))),CONCATENATE(B328,\":\",\" Copyright © \",E328,\"Depositphotos\",\"/\",F328,\".\"),\nIF(AND(I328=\"Request to Rights Holder\",ISNUMBER(SEARCH(\"FAL \",J328)),ISNUMBER(SEARCH(\"(\",J328))),CONCATENATE(B328,\": \",\"Copyright © by \",F328,\" \",J328,\" at \",D328,\". A copy of the license can be found here: http://artlibre.org/licence/lal/en.\"),\nIF(AND(I328=\"Request to Rights Holder\",ISNUMBER(SEARCH(\"FAL \",J328)),NOT(ISNUMBER(SEARCH(\"(\",J328)))),CONCATENATE(B328,\": \",\"Copyright © by \",F328,\" (\",J328,\") at \",D328,\". A copy of the license can be found here: http://artlibre.org/licence/lal/en.\"),\nIF(AND(I328=\"Request to Rights Holder\",ISNUMBER(SEARCH(\"GNU \",J328)),ISNUMBER(SEARCH(\"(\",J328))),CONCATENATE(B328,\": \",\"Copyright © by \",F328,\" \",J328,\" at \",D328,\". A copy of the license can be found here: http://www.gnu.org/licenses/gpl.html\"),\nIF(AND(I328=\"Request to Rights Holder\",ISNUMBER(SEARCH(\"GNU \",J328)),NOT(ISNUMBER(SEARCH(\"(\",J328)))),CONCATENATE(B328,\": \",\"Copyright © by \",F328,\" (\",J328,\") at \",D328,\". A copy of the license can be found here: http://www.gnu.org/licenses/gpl.html\"),\n\"\")))))))))))))","v":""},{"$f":"IF(ISERROR(VLOOKUP($B328,'300ppi Resolution Calc'!$A$2:$E$1001,4,0)),\"\",VLOOKUP($B328,'300ppi Resolution Calc'!$A$2:$E$1001,4,0))","v":""},{"$f":"IF(ISERROR(VLOOKUP($B328,'300ppi Resolution Calc'!$A$2:$E$1001,5,0)),\"\",VLOOKUP($B328,'300ppi Resolution Calc'!$A$2:$E$1001,5,0))","v":""}]
[null,null,null,null,null,null,null,null,null,null,null,"",{"$f":"IF(ISERROR(VLOOKUP($B329,'300ppi Resolution Calc'!$A$2:$E$1001,4,0)),\"\",VLOOKUP($B329,'300ppi Resolution Calc'!$A$2:$E$1001,4,0))","v":""},{"$f":"IF(ISERROR(VLOOKUP($B329,'300ppi Resolution Calc'!$A$2:$E$1001,5,0)),\"\",VLOOKUP($B329,'300ppi Resolution Calc'!$A$2:$E$1001,5,0))","v":""}]
[null,null,null,null,null,null,null,null,null,null,null,"",{"$f":"IF(ISERROR(VLOOKUP($B330,'300ppi Resolution Calc'!$A$2:$E$1001,4,0)),\"\",VLOOKUP($B330,'300ppi Resolution Calc'!$A$2:$E$1001,4,0))","v":""},{"$f":"IF(ISERROR(VLOOKUP($B330,'300ppi Resolution Calc'!$A$2:$E$1001,5,0)),\"\",VLOOKUP($B330,'300ppi Resolution Calc'!$A$2:$E$1001,5,0))","v":""}]
[null,null,null,null,null,null,null,null,null,null,null,"",{"$f":"IF(ISERROR(VLOOKUP($B331,'300ppi Resolution Calc'!$A$2:$E$1001,4,0)),\"\",VLOOKUP($B331,'300ppi Resolution Calc'!$A$2:$E$1001,4,0))","v":""},{"$f":"IF(ISERROR(VLOOKUP($B331,'300ppi Resolution Calc'!$A$2:$E$1001,5,0)),\"\",VLOOKUP($B331,'300ppi Resolution Calc'!$A$2:$E$1001,5,0))","v":""}]
[null,null,null,null,null,null,null,null,null,null,null,"",{"$f":"IF(ISERROR(VLOOKUP($B332,'300ppi Resolution Calc'!$A$2:$E$1001,4,0)),\"\",VLOOKUP($B332,'300ppi Resolution Calc'!$A$2:$E$1001,4,0))","v":""},{"$f":"IF(ISERROR(VLOOKUP($B332,'300ppi Resolution Calc'!$A$2:$E$1001,5,0)),\"\",VLOOKUP($B332,'300ppi Resolution Calc'!$A$2:$E$1001,5,0))","v":""}]
[null,null,null,null,null,null,null,null,null,null,null,"",{"$f":"IF(ISERROR(VLOOKUP($B333,'300ppi Resolution Calc'!$A$2:$E$1001,4,0)),\"\",VLOOKUP($B333,'300ppi Resolution Calc'!$A$2:$E$1001,4,0))","v":""},{"$f":"IF(ISERROR(VLOOKUP($B333,'300ppi Resolution Calc'!$A$2:$E$1001,5,0)),\"\",VLOOKUP($B333,'300ppi Resolution Calc'!$A$2:$E$1001,5,0))","v":""}]
[null,null,null,null,null,null,null,null,null,null,null,"",{"$f":"IF(ISERROR(VLOOKUP($B334,'300ppi Resolution Calc'!$A$2:$E$1001,4,0)),\"\",VLOOKUP($B334,'300ppi Resolution Calc'!$A$2:$E$1001,4,0))","v":""},{"$f":"IF(ISERROR(VLOOKUP($B334,'300ppi Resolution Calc'!$A$2:$E$1001,5,0)),\"\",VLOOKUP($B334,'300ppi Resolution Calc'!$A$2:$E$1001,5,0))","v":""}]
[null,null,null,null,null,null,null,null,null,null,null,"",{"$f":"IF(ISERROR(VLOOKUP($B335,'300ppi Resolution Calc'!$A$2:$E$1001,4,0)),\"\",VLOOKUP($B335,'300ppi Resolution Calc'!$A$2:$E$1001,4,0))","v":""},{"$f":"IF(ISERROR(VLOOKUP($B335,'300ppi Resolution Calc'!$A$2:$E$1001,5,0)),\"\",VLOOKUP($B335,'300ppi Resolution Calc'!$A$2:$E$1001,5,0))","v":""}]
[null,null,null,null,null,null,null,null,null,null,null,"",{"$f":"IF(ISERROR(VLOOKUP($B336,'300ppi Resolution Calc'!$A$2:$E$1001,4,0)),\"\",VLOOKUP($B336,'300ppi Resolution Calc'!$A$2:$E$1001,4,0))","v":""},{"$f":"IF(ISERROR(VLOOKUP($B336,'300ppi Resolution Calc'!$A$2:$E$1001,5,0)),\"\",VLOOKUP($B336,'300ppi Resolution Calc'!$A$2:$E$1001,5,0))","v":""}]
[null,null,null,null,null,null,null,null,null,null,null,"",{"$f":"IF(ISERROR(VLOOKUP($B337,'300ppi Resolution Calc'!$A$2:$E$1001,4,0)),\"\",VLOOKUP($B337,'300ppi Resolution Calc'!$A$2:$E$1001,4,0))","v":""},{"$f":"IF(ISERROR(VLOOKUP($B337,'300ppi Resolution Calc'!$A$2:$E$1001,5,0)),\"\",VLOOKUP($B337,'300ppi Resolution Calc'!$A$2:$E$1001,5,0))","v":""}]
[null,null,null,null,null,null,null,null,null,null,null,"",{"$f":"IF(ISERROR(VLOOKUP($B338,'300ppi Resolution Calc'!$A$2:$E$1001,4,0)),\"\",VLOOKUP($B338,'300ppi Resolution Calc'!$A$2:$E$1001,4,0))","v":""},{"$f":"IF(ISERROR(VLOOKUP($B338,'300ppi Resolution Calc'!$A$2:$E$1001,5,0)),\"\",VLOOKUP($B338,'300ppi Resolution Calc'!$A$2:$E$1001,5,0))","v":""}]
[null,null,null,null,null,null,null,null,null,null,null,"",{"$f":"IF(ISERROR(VLOOKUP($B339,'300ppi Resolution Calc'!$A$2:$E$1001,4,0)),\"\",VLOOKUP($B339,'300ppi Resolution Calc'!$A$2:$E$1001,4,0))","v":""},{"$f":"IF(ISERROR(VLOOKUP($B339,'300ppi Resolution Calc'!$A$2:$E$1001,5,0)),\"\",VLOOKUP($B339,'300ppi Resolution Calc'!$A$2:$E$1001,5,0))","v":""}]
[null,null,null,null,null,null,null,null,null,null,null,"",{"$f":"IF(ISERROR(VLOOKUP($B340,'300ppi Resolution Calc'!$A$2:$E$1001,4,0)),\"\",VLOOKUP($B340,'300ppi Resolution Calc'!$A$2:$E$1001,4,0))","v":""},{"$f":"IF(ISERROR(VLOOKUP($B340,'300ppi Resolution Calc'!$A$2:$E$1001,5,0)),\"\",VLOOKUP($B340,'300ppi Resolution Calc'!$A$2:$E$1001,5,0))","v":""}]
[null,null,null,null,null,null,null,null,null,null,null,"",{"$f":"IF(ISERROR(VLOOKUP($B341,'300ppi Resolution Calc'!$A$2:$E$1001,4,0)),\"\",VLOOKUP($B341,'300ppi Resolution Calc'!$A$2:$E$1001,4,0))","v":""},{"$f":"IF(ISERROR(VLOOKUP($B341,'300ppi Resolution Calc'!$A$2:$E$1001,5,0)),\"\",VLOOKUP($B341,'300ppi Resolution Calc'!$A$2:$E$1001,5,0))","v":""}]
[null,null,null,null,null,null,null,null,null,null,null,"",{"$f":"IF(ISERROR(VLOOKUP($B342,'300ppi Resolution Calc'!$A$2:$E$1001,4,0)),\"\",VLOOKUP($B342,'300ppi Resolution Calc'!$A$2:$E$1001,4,0))","v":""},{"$f":"IF(ISERROR(VLOOKUP($B342,'300ppi Resolution Calc'!$A$2:$E$1001,5,0)),\"\",VLOOKUP($B342,'300ppi Resolution Calc'!$A$2:$E$1001,5,0))","v":""}]
[null,null,null,null,null,null,null,null,null,null,null,"",{"$f":"IF(ISERROR(VLOOKUP($B343,'300ppi Resolution Calc'!$A$2:$E$1001,4,0)),\"\",VLOOKUP($B343,'300ppi Resolution Calc'!$A$2:$E$1001,4,0))","v":""},{"$f":"IF(ISERROR(VLOOKUP($B343,'300ppi Resolution Calc'!$A$2:$E$1001,5,0)),\"\",VLOOKUP($B343,'300ppi Resolution Calc'!$A$2:$E$1001,5,0))","v":""}]
[null,null,null,null,null,null,null,null,null,null,null,"",{"$f":"IF(ISERROR(VLOOKUP($B344,'300ppi Resolution Calc'!$A$2:$E$1001,4,0)),\"\",VLOOKUP($B344,'300ppi Resolution Calc'!$A$2:$E$1001,4,0))","v":""},{"$f":"IF(ISERROR(VLOOKUP($B344,'300ppi Resolution Calc'!$A$2:$E$1001,5,0)),\"\",VLOOKUP($B344,'300ppi Resolution Calc'!$A$2:$E$1001,5,0))","v":""}]
[null,null,null,null,null,null,null,null,null,null,null,"",{"$f":"IF(ISERROR(VLOOKUP($B345,'300ppi Resolution Calc'!$A$2:$E$1001,4,0)),\"\",VLOOKUP($B345,'300ppi Resolution Calc'!$A$2:$E$1001,4,0))","v":""},{"$f":"IF(ISERROR(VLOOKUP($B345,'300ppi Resolution Calc'!$A$2:$E$1001,5,0)),\"\",VLOOKUP($B345,'300ppi Resolution Calc'!$A$2:$E$1001,5,0))","v":""}]
[null,null,null,null,null,null,null,null,null,null,null,"",{"$f":"IF(ISERROR(VLOOKUP($B346,'300ppi Resolution Calc'!$A$2:$E$1001,4,0)),\"\",VLOOKUP($B346,'300ppi Resolution Calc'!$A$2:$E$1001,4,0))","v":""},{"$f":"IF(ISERROR(VLOOKUP($B346,'300ppi Resolution Calc'!$A$2:$E$1001,5,0)),\"\",VLOOKUP($B346,'300ppi Resolution Calc'!$A$2:$E$1001,5,0))","v":""}]
[null,null,null,null,null,null,null,null,null,null,null,"",{"$f":"IF(ISERROR(VLOOKUP($B347,'300ppi Resolution Calc'!$A$2:$E$1001,4,0)),\"\",VLOOKUP($B347,'300ppi Resolution Calc'!$A$2:$E$1001,4,0))","v":""},{"$f":"IF(ISERROR(VLOOKUP($B347,'300ppi Resolution Calc'!$A$2:$E$1001,5,0)),\"\",VLOOKUP($B347,'300ppi Resolution Calc'!$A$2:$E$1001,5,0))","v":""}]
[null,null,null,null,null,null,null,null,null,null,null,"",{"$f":"IF(ISERROR(VLOOKUP($B348,'300ppi Resolution Calc'!$A$2:$E$1001,4,0)),\"\",VLOOKUP($B348,'300ppi Resolution Calc'!$A$2:$E$1001,4,0))","v":""},{"$f":"IF(ISERROR(VLOOKUP($B348,'300ppi Resolution Calc'!$A$2:$E$1001,5,0)),\"\",VLOOKUP($B348,'300ppi Resolution Calc'!$A$2:$E$1001,5,0))","v":""}]
[null,null,null,null,null,null,null,null,null,null,null,"",{"$f":"IF(ISERROR(VLOOKUP($B349,'300ppi Resolution Calc'!$A$2:$E$1001,4,0)),\"\",VLOOKUP($B349,'300ppi Resolution Calc'!$A$2:$E$1001,4,0))","v":""},{"$f":"IF(ISERROR(VLOOKUP($B349,'300ppi Resolution Calc'!$A$2:$E$1001,5,0)),\"\",VLOOKUP($B349,'300ppi Resolution Calc'!$A$2:$E$1001,5,0))","v":""}]
[null,null,null,null,null,null,null,null,null,null,null,"",{"$f":"IF(ISERROR(VLOOKUP($B350,'300ppi Resolution Calc'!$A$2:$E$1001,4,0)),\"\",VLOOKUP($B350,'300ppi Resolution Calc'!$A$2:$E$1001,4,0))","v":""},{"$f":"IF(ISERROR(VLOOKUP($B350,'300ppi Resolution Calc'!$A$2:$E$1001,5,0)),\"\",VLOOKUP($B350,'300ppi Resolution Calc'!$A$2:$E$1001,5,0))","v":""}]
[null,null,null,null,null,null,null,null,null,null,null,"",{"$f":"IF(ISERROR(VLOOKUP($B351,'300ppi Resolution Calc'!$A$2:$E$1001,4,0)),\"\",VLOOKUP($B351,'300ppi Resolution Calc'!$A$2:$E$1001,4,0))","v":""},{"$f":"IF(ISERROR(VLOOKUP($B351,'300ppi Resolution Calc'!$A$2:$E$1001,5,0)),\"\",VLOOKUP($B351,'300ppi Resolution Calc'!$A$2:$E$1001,5,0))","v":""}]
[null,null,null,null,null,null,null,null,null,null,null,"",{"$f":"IF(ISERROR(VLOOKUP($B352,'300ppi Resolution Calc'!$A$2:$E$1001,4,0)),\"\",VLOOKUP($B352,'300ppi Resolution Calc'!$A$2:$E$1001,4,0))","v":""},{"$f":"IF(ISERROR(VLOOKUP($B352,'300ppi Resolution Calc'!$A$2:$E$1001,5,0)),\"\",VLOOKUP($B352,'300ppi Resolution Calc'!$A$2:$E$1001,5,0))","v":""}]
[null,null,null,null,null,null,null,null,null,null,null,"",{"$f":"IF(ISERROR(VLOOKUP($B353,'300ppi Resolution Calc'!$A$2:$E$1001,4,0)),\"\",VLOOKUP($B353,'300ppi Resolution Calc'!$A$2:$E$1001,4,0))","v":""},{"$f":"IF(ISERROR(VLOOKUP($B353,'300ppi Resolution Calc'!$A$2:$E$1001,5,0)),\"\",VLOOKUP($B353,'300ppi Resolution Calc'!$A$2:$E$1001,5,0))","v":""}]
[null,null,null,null,null,null,null,null,null,null,null,"",{"$f":"IF(ISERROR(VLOOKUP($B354,'300ppi Resolution Calc'!$A$2:$E$1001,4,0)),\"\",VLOOKUP($B354,'300ppi Resolution Calc'!$A$2:$E$1001,4,0))","v":""},{"$f":"IF(ISERROR(VLOOKUP($B354,'300ppi Resolution Calc'!$A$2:$E$1001,5,0)),\"\",VLOOKUP($B354,'300ppi Resolution Calc'!$A$2:$E$1001,5,0))","v":""}]
[null,null,null,null,null,null,null,null,null,null,null,"",{"$f":"IF(ISERROR(VLOOKUP($B355,'300ppi Resolution Calc'!$A$2:$E$1001,4,0)),\"\",VLOOKUP($B355,'300ppi Resolution Calc'!$A$2:$E$1001,4,0))","v":""},{"$f":"IF(ISERROR(VLOOKUP($B355,'300ppi Resolution Calc'!$A$2:$E$1001,5,0)),\"\",VLOOKUP($B355,'300ppi Resolution Calc'!$A$2:$E$1001,5,0))","v":""}]
[null,null,null,null,null,null,null,null,null,null,null,"",{"$f":"IF(ISERROR(VLOOKUP($B356,'300ppi Resolution Calc'!$A$2:$E$1001,4,0)),\"\",VLOOKUP($B356,'300ppi Resolution Calc'!$A$2:$E$1001,4,0))","v":""},{"$f":"IF(ISERROR(VLOOKUP($B356,'300ppi Resolution Calc'!$A$2:$E$1001,5,0)),\"\",VLOOKUP($B356,'300ppi Resolution Calc'!$A$2:$E$1001,5,0))","v":""}]
[null,null,null,null,null,null,null,null,null,null,null,"",{"$f":"IF(ISERROR(VLOOKUP($B357,'300ppi Resolution Calc'!$A$2:$E$1001,4,0)),\"\",VLOOKUP($B357,'300ppi Resolution Calc'!$A$2:$E$1001,4,0))","v":""},{"$f":"IF(ISERROR(VLOOKUP($B357,'300ppi Resolution Calc'!$A$2:$E$1001,5,0)),\"\",VLOOKUP($B357,'300ppi Resolution Calc'!$A$2:$E$1001,5,0))","v":""}]
[null,null,null,null,null,null,null,null,null,null,null,"",{"$f":"IF(ISERROR(VLOOKUP($B358,'300ppi Resolution Calc'!$A$2:$E$1001,4,0)),\"\",VLOOKUP($B358,'300ppi Resolution Calc'!$A$2:$E$1001,4,0))","v":""},{"$f":"IF(ISERROR(VLOOKUP($B358,'300ppi Resolution Calc'!$A$2:$E$1001,5,0)),\"\",VLOOKUP($B358,'300ppi Resolution Calc'!$A$2:$E$1001,5,0))","v":""}]
[null,null,null,null,null,null,null,null,null,null,null,"",{"$f":"IF(ISERROR(VLOOKUP($B359,'300ppi Resolution Calc'!$A$2:$E$1001,4,0)),\"\",VLOOKUP($B359,'300ppi Resolution Calc'!$A$2:$E$1001,4,0))","v":""},{"$f":"IF(ISERROR(VLOOKUP($B359,'300ppi Resolution Calc'!$A$2:$E$1001,5,0)),\"\",VLOOKUP($B359,'300ppi Resolution Calc'!$A$2:$E$1001,5,0))","v":""}]
[null,null,null,null,null,null,null,null,null,null,null,"",{"$f":"IF(ISERROR(VLOOKUP($B360,'300ppi Resolution Calc'!$A$2:$E$1001,4,0)),\"\",VLOOKUP($B360,'300ppi Resolution Calc'!$A$2:$E$1001,4,0))","v":""},{"$f":"IF(ISERROR(VLOOKUP($B360,'300ppi Resolution Calc'!$A$2:$E$1001,5,0)),\"\",VLOOKUP($B360,'300ppi Resolution Calc'!$A$2:$E$1001,5,0))","v":""}]
[null,null,null,null,null,null,null,null,null,null,null,"",{"$f":"IF(ISERROR(VLOOKUP($B361,'300ppi Resolution Calc'!$A$2:$E$1001,4,0)),\"\",VLOOKUP($B361,'300ppi Resolution Calc'!$A$2:$E$1001,4,0))","v":""},{"$f":"IF(ISERROR(VLOOKUP($B361,'300ppi Resolution Calc'!$A$2:$E$1001,5,0)),\"\",VLOOKUP($B361,'300ppi Resolution Calc'!$A$2:$E$1001,5,0))","v":""}]
[null,null,null,null,null,null,null,null,null,null,null,"",{"$f":"IF(ISERROR(VLOOKUP($B362,'300ppi Resolution Calc'!$A$2:$E$1001,4,0)),\"\",VLOOKUP($B362,'300ppi Resolution Calc'!$A$2:$E$1001,4,0))","v":""},{"$f":"IF(ISERROR(VLOOKUP($B362,'300ppi Resolution Calc'!$A$2:$E$1001,5,0)),\"\",VLOOKUP($B362,'300ppi Resolution Calc'!$A$2:$E$1001,5,0))","v":""}]
[null,null,null,null,null,null,null,null,null,null,null,"",{"$f":"IF(ISERROR(VLOOKUP($B363,'300ppi Resolution Calc'!$A$2:$E$1001,4,0)),\"\",VLOOKUP($B363,'300ppi Resolution Calc'!$A$2:$E$1001,4,0))","v":""},{"$f":"IF(ISERROR(VLOOKUP($B363,'300ppi Resolution Calc'!$A$2:$E$1001,5,0)),\"\",VLOOKUP($B363,'300ppi Resolution Calc'!$A$2:$E$1001,5,0))","v":""}]
[null,null,null,null,null,null,null,null,null,null,null,"",{"$f":"IF(ISERROR(VLOOKUP($B364,'300ppi Resolution Calc'!$A$2:$E$1001,4,0)),\"\",VLOOKUP($B364,'300ppi Resolution Calc'!$A$2:$E$1001,4,0))","v":""},{"$f":"IF(ISERROR(VLOOKUP($B364,'300ppi Resolution Calc'!$A$2:$E$1001,5,0)),\"\",VLOOKUP($B364,'300ppi Resolution Calc'!$A$2:$E$1001,5,0))","v":""}]
[null,null,null,null,null,null,null,null,null,null,null,"",{"$f":"IF(ISERROR(VLOOKUP($B365,'300ppi Resolution Calc'!$A$2:$E$1001,4,0)),\"\",VLOOKUP($B365,'300ppi Resolution Calc'!$A$2:$E$1001,4,0))","v":""},{"$f":"IF(ISERROR(VLOOKUP($B365,'300ppi Resolution Calc'!$A$2:$E$1001,5,0)),\"\",VLOOKUP($B365,'300ppi Resolution Calc'!$A$2:$E$1001,5,0))","v":""}]
[null,null,null,null,null,null,null,null,null,null,null,"",{"$f":"IF(ISERROR(VLOOKUP($B366,'300ppi Resolution Calc'!$A$2:$E$1001,4,0)),\"\",VLOOKUP($B366,'300ppi Resolution Calc'!$A$2:$E$1001,4,0))","v":""},{"$f":"IF(ISERROR(VLOOKUP($B366,'300ppi Resolution Calc'!$A$2:$E$1001,5,0)),\"\",VLOOKUP($B366,'300ppi Resolution Calc'!$A$2:$E$1001,5,0))","v":""}]
[null,null,null,null,null,null,null,null,null,null,null,"",{"$f":"IF(ISERROR(VLOOKUP($B367,'300ppi Resolution Calc'!$A$2:$E$1001,4,0)),\"\",VLOOKUP($B367,'300ppi Resolution Calc'!$A$2:$E$1001,4,0))","v":""},{"$f":"IF(ISERROR(VLOOKUP($B367,'300ppi Resolution Calc'!$A$2:$E$1001,5,0)),\"\",VLOOKUP($B367,'300ppi Resolution Calc'!$A$2:$E$1001,5,0))","v":""}]
[null,null,null,null,null,null,null,null,null,null,null,"",{"$f":"IF(ISERROR(VLOOKUP($B368,'300ppi Resolution Calc'!$A$2:$E$1001,4,0)),\"\",VLOOKUP($B368,'300ppi Resolution Calc'!$A$2:$E$1001,4,0))","v":""},{"$f":"IF(ISERROR(VLOOKUP($B368,'300ppi Resolution Calc'!$A$2:$E$1001,5,0)),\"\",VLOOKUP($B368,'300ppi Resolution Calc'!$A$2:$E$1001,5,0))","v":""}]
[null,null,null,null,null,null,null,null,null,null,null,"",{"$f":"IF(ISERROR(VLOOKUP($B369,'300ppi Resolution Calc'!$A$2:$E$1001,4,0)),\"\",VLOOKUP($B369,'300ppi Resolution Calc'!$A$2:$E$1001,4,0))","v":""},{"$f":"IF(ISERROR(VLOOKUP($B369,'300ppi Resolution Calc'!$A$2:$E$1001,5,0)),\"\",VLOOKUP($B369,'300ppi Resolution Calc'!$A$2:$E$1001,5,0))","v":""}]
[null,null,null,null,null,null,null,null,null,null,null,"",{"$f":"IF(ISERROR(VLOOKUP($B370,'300ppi Resolution Calc'!$A$2:$E$1001,4,0)),\"\",VLOOKUP($B370,'300ppi Resolution Calc'!$A$2:$E$1001,4,0))","v":""},{"$f":"IF(ISERROR(VLOOKUP($B370,'300ppi Resolution Calc'!$A$2:$E$1001,5,0)),\"\",VLOOKUP($B370,'300ppi Resolution Calc'!$A$2:$E$1001,5,0))","v":""}]
[null,null,null,null,null,null,null,null,null,null,null,"",{"$f":"IF(ISERROR(VLOOKUP($B371,'300ppi Resolution Calc'!$A$2:$E$1001,4,0)),\"\",VLOOKUP($B371,'300ppi Resolution Calc'!$A$2:$E$1001,4,0))","v":""},{"$f":"IF(ISERROR(VLOOKUP($B371,'300ppi Resolution Calc'!$A$2:$E$1001,5,0)),\"\",VLOOKUP($B371,'300ppi Resolution Calc'!$A$2:$E$1001,5,0))","v":""}]
[null,null,null,null,null,null,null,null,null,null,null,"",{"$f":"IF(ISERROR(VLOOKUP($B372,'300ppi Resolution Calc'!$A$2:$E$1001,4,0)),\"\",VLOOKUP($B372,'300ppi Resolution Calc'!$A$2:$E$1001,4,0))","v":""},{"$f":"IF(ISERROR(VLOOKUP($B372,'300ppi Resolution Calc'!$A$2:$E$1001,5,0)),\"\",VLOOKUP($B372,'300ppi Resolution Calc'!$A$2:$E$1001,5,0))","v":""}]
[null,null,null,null,null,null,null,null,null,null,null,"",{"$f":"IF(ISERROR(VLOOKUP($B373,'300ppi Resolution Calc'!$A$2:$E$1001,4,0)),\"\",VLOOKUP($B373,'300ppi Resolution Calc'!$A$2:$E$1001,4,0))","v":""},{"$f":"IF(ISERROR(VLOOKUP($B373,'300ppi Resolution Calc'!$A$2:$E$1001,5,0)),\"\",VLOOKUP($B373,'300ppi Resolution Calc'!$A$2:$E$1001,5,0))","v":""}]
[null,null,null,null,null,null,null,null,null,null,null,"",{"$f":"IF(ISERROR(VLOOKUP($B374,'300ppi Resolution Calc'!$A$2:$E$1001,4,0)),\"\",VLOOKUP($B374,'300ppi Resolution Calc'!$A$2:$E$1001,4,0))","v":""},{"$f":"IF(ISERROR(VLOOKUP($B374,'300ppi Resolution Calc'!$A$2:$E$1001,5,0)),\"\",VLOOKUP($B374,'300ppi Resolution Calc'!$A$2:$E$1001,5,0))","v":""}]
[null,null,null,null,null,null,null,null,null,null,null,"",{"$f":"IF(ISERROR(VLOOKUP($B375,'300ppi Resolution Calc'!$A$2:$E$1001,4,0)),\"\",VLOOKUP($B375,'300ppi Resolution Calc'!$A$2:$E$1001,4,0))","v":""},{"$f":"IF(ISERROR(VLOOKUP($B375,'300ppi Resolution Calc'!$A$2:$E$1001,5,0)),\"\",VLOOKUP($B375,'300ppi Resolution Calc'!$A$2:$E$1001,5,0))","v":""}]
[null,null,null,null,null,null,null,null,null,null,null,"",{"$f":"IF(ISERROR(VLOOKUP($B376,'300ppi Resolution Calc'!$A$2:$E$1001,4,0)),\"\",VLOOKUP($B376,'300ppi Resolution Calc'!$A$2:$E$1001,4,0))","v":""},{"$f":"IF(ISERROR(VLOOKUP($B376,'300ppi Resolution Calc'!$A$2:$E$1001,5,0)),\"\",VLOOKUP($B376,'300ppi Resolution Calc'!$A$2:$E$1001,5,0))","v":""}]
[null,null,null,null,null,null,null,null,null,null,null,"",{"$f":"IF(ISERROR(VLOOKUP($B377,'300ppi Resolution Calc'!$A$2:$E$1001,4,0)),\"\",VLOOKUP($B377,'300ppi Resolution Calc'!$A$2:$E$1001,4,0))","v":""},{"$f":"IF(ISERROR(VLOOKUP($B377,'300ppi Resolution Calc'!$A$2:$E$1001,5,0)),\"\",VLOOKUP($B377,'300ppi Resolution Calc'!$A$2:$E$1001,5,0))","v":""}]
[null,null,null,null,null,null,null,null,null,null,null,"",{"$f":"IF(ISERROR(VLOOKUP($B378,'300ppi Resolution Calc'!$A$2:$E$1001,4,0)),\"\",VLOOKUP($B378,'300ppi Resolution Calc'!$A$2:$E$1001,4,0))","v":""},{"$f":"IF(ISERROR(VLOOKUP($B378,'300ppi Resolution Calc'!$A$2:$E$1001,5,0)),\"\",VLOOKUP($B378,'300ppi Resolution Calc'!$A$2:$E$1001,5,0))","v":""}]
[null,null,null,null,null,null,null,null,null,null,null,"",{"$f":"IF(ISERROR(VLOOKUP($B379,'300ppi Resolution Calc'!$A$2:$E$1001,4,0)),\"\",VLOOKUP($B379,'300ppi Resolution Calc'!$A$2:$E$1001,4,0))","v":""},{"$f":"IF(ISERROR(VLOOKUP($B379,'300ppi Resolution Calc'!$A$2:$E$1001,5,0)),\"\",VLOOKUP($B379,'300ppi Resolution Calc'!$A$2:$E$1001,5,0))","v":""}]
[null,null,null,null,null,null,null,null,null,null,null,"",{"$f":"IF(ISERROR(VLOOKUP($B380,'300ppi Resolution Calc'!$A$2:$E$1001,4,0)),\"\",VLOOKUP($B380,'300ppi Resolution Calc'!$A$2:$E$1001,4,0))","v":""},{"$f":"IF(ISERROR(VLOOKUP($B380,'300ppi Resolution Calc'!$A$2:$E$1001,5,0)),\"\",VLOOKUP($B380,'300ppi Resolution Calc'!$A$2:$E$1001,5,0))","v":""}]
[null,null,null,null,null,null,null,null,null,null,null,"",{"$f":"IF(ISERROR(VLOOKUP($B381,'300ppi Resolution Calc'!$A$2:$E$1001,4,0)),\"\",VLOOKUP($B381,'300ppi Resolution Calc'!$A$2:$E$1001,4,0))","v":""},{"$f":"IF(ISERROR(VLOOKUP($B381,'300ppi Resolution Calc'!$A$2:$E$1001,5,0)),\"\",VLOOKUP($B381,'300ppi Resolution Calc'!$A$2:$E$1001,5,0))","v":""}]
[null,null,null,null,null,null,null,null,null,null,null,"",{"$f":"IF(ISERROR(VLOOKUP($B382,'300ppi Resolution Calc'!$A$2:$E$1001,4,0)),\"\",VLOOKUP($B382,'300ppi Resolution Calc'!$A$2:$E$1001,4,0))","v":""},{"$f":"IF(ISERROR(VLOOKUP($B382,'300ppi Resolution Calc'!$A$2:$E$1001,5,0)),\"\",VLOOKUP($B382,'300ppi Resolution Calc'!$A$2:$E$1001,5,0))","v":""}]
[null,null,null,null,null,null,null,null,null,null,null,"",{"$f":"IF(ISERROR(VLOOKUP($B383,'300ppi Resolution Calc'!$A$2:$E$1001,4,0)),\"\",VLOOKUP($B383,'300ppi Resolution Calc'!$A$2:$E$1001,4,0))","v":""},{"$f":"IF(ISERROR(VLOOKUP($B383,'300ppi Resolution Calc'!$A$2:$E$1001,5,0)),\"\",VLOOKUP($B383,'300ppi Resolution Calc'!$A$2:$E$1001,5,0))","v":""}]
[null,null,null,null,null,null,null,null,null,null,null,"",{"$f":"IF(ISERROR(VLOOKUP($B384,'300ppi Resolution Calc'!$A$2:$E$1001,4,0)),\"\",VLOOKUP($B384,'300ppi Resolution Calc'!$A$2:$E$1001,4,0))","v":""},{"$f":"IF(ISERROR(VLOOKUP($B384,'300ppi Resolution Calc'!$A$2:$E$1001,5,0)),\"\",VLOOKUP($B384,'300ppi Resolution Calc'!$A$2:$E$1001,5,0))","v":""}]
[null,null,null,null,null,null,null,null,null,null,null,"",{"$f":"IF(ISERROR(VLOOKUP($B385,'300ppi Resolution Calc'!$A$2:$E$1001,4,0)),\"\",VLOOKUP($B385,'300ppi Resolution Calc'!$A$2:$E$1001,4,0))","v":""},{"$f":"IF(ISERROR(VLOOKUP($B385,'300ppi Resolution Calc'!$A$2:$E$1001,5,0)),\"\",VLOOKUP($B385,'300ppi Resolution Calc'!$A$2:$E$1001,5,0))","v":""}]
[null,null,null,null,null,null,null,null,null,null,null,"",{"$f":"IF(ISERROR(VLOOKUP($B386,'300ppi Resolution Calc'!$A$2:$E$1001,4,0)),\"\",VLOOKUP($B386,'300ppi Resolution Calc'!$A$2:$E$1001,4,0))","v":""},{"$f":"IF(ISERROR(VLOOKUP($B386,'300ppi Resolution Calc'!$A$2:$E$1001,5,0)),\"\",VLOOKUP($B386,'300ppi Resolution Calc'!$A$2:$E$1001,5,0))","v":""}]
[null,null,null,null,null,null,null,null,null,null,null,"",{"$f":"IF(ISERROR(VLOOKUP($B387,'300ppi Resolution Calc'!$A$2:$E$1001,4,0)),\"\",VLOOKUP($B387,'300ppi Resolution Calc'!$A$2:$E$1001,4,0))","v":""},{"$f":"IF(ISERROR(VLOOKUP($B387,'300ppi Resolution Calc'!$A$2:$E$1001,5,0)),\"\",VLOOKUP($B387,'300ppi Resolution Calc'!$A$2:$E$1001,5,0))","v":""}]
[null,null,null,null,null,null,null,null,null,null,null,"",{"$f":"IF(ISERROR(VLOOKUP($B388,'300ppi Resolution Calc'!$A$2:$E$1001,4,0)),\"\",VLOOKUP($B388,'300ppi Resolution Calc'!$A$2:$E$1001,4,0))","v":""},{"$f":"IF(ISERROR(VLOOKUP($B388,'300ppi Resolution Calc'!$A$2:$E$1001,5,0)),\"\",VLOOKUP($B388,'300ppi Resolution Calc'!$A$2:$E$1001,5,0))","v":""}]
[null,null,null,null,null,null,null,null,null,null,null,"",{"$f":"IF(ISERROR(VLOOKUP($B389,'300ppi Resolution Calc'!$A$2:$E$1001,4,0)),\"\",VLOOKUP($B389,'300ppi Resolution Calc'!$A$2:$E$1001,4,0))","v":""},{"$f":"IF(ISERROR(VLOOKUP($B389,'300ppi Resolution Calc'!$A$2:$E$1001,5,0)),\"\",VLOOKUP($B389,'300ppi Resolution Calc'!$A$2:$E$1001,5,0))","v":""}]
[null,null,null,null,null,null,null,null,null,null,null,"",{"$f":"IF(ISERROR(VLOOKUP($B390,'300ppi Resolution Calc'!$A$2:$E$1001,4,0)),\"\",VLOOKUP($B390,'300ppi Resolution Calc'!$A$2:$E$1001,4,0))","v":""},{"$f":"IF(ISERROR(VLOOKUP($B390,'300ppi Resolution Calc'!$A$2:$E$1001,5,0)),\"\",VLOOKUP($B390,'300ppi Resolution Calc'!$A$2:$E$1001,5,0))","v":""}]
[null,null,null,null,null,null,null,null,null,null,null,"",{"$f":"IF(ISERROR(VLOOKUP($B391,'300ppi Resolution Calc'!$A$2:$E$1001,4,0)),\"\",VLOOKUP($B391,'300ppi Resolution Calc'!$A$2:$E$1001,4,0))","v":""},{"$f":"IF(ISERROR(VLOOKUP($B391,'300ppi Resolution Calc'!$A$2:$E$1001,5,0)),\"\",VLOOKUP($B391,'300ppi Resolution Calc'!$A$2:$E$1001,5,0))","v":""}]
[null,null,null,null,null,null,null,null,null,null,null,{"$f":"IF(AND(I392=\"Creative Commons License\",ISNUMBER(SEARCH(\"(\",J392))),CONCATENATE(B392,\": \",\"Copyright © by \",F392,\" \",J392,\" at \",D392,\".\"),\nIF(AND(I392=\"Creative Commons License\",NOT(ISNUMBER(SEARCH(\"(\",J392)))),CONCATENATE(B392,\": \",\"Copyright © by \",F392,\" (\",J392,\") at \",D392,\".\"),\nIF(I392=\"Public Domain\",CONCATENATE(B392,\": Source: \",D392,\".\"),\nIF(AND(I392=\"Fair Use\",OR(ISNUMBER(SEARCH(\"discuss\",J392)),ISNUMBER(SEARCH(\"critique\",J392)))),CONCATENATE(B392,\": \",\"Copyright © by \",F392,\".\"),\nIF(AND(I392=\"Fair Use\",NOT(OR(ISNUMBER(SEARCH(\"discuss\",J392)),ISNUMBER(SEARCH(\"critique\",J392))))),CONCATENATE(B392,\": Source: \",D392,\".\"),\nIF(AND(I392=\"Request to Rights Holder\",ISBLANK(E392),NOT(ISNUMBER(SEARCH(\"depositphotos\",D392))),NOT(ISNUMBER(SEARCH(\"FAL \",J392))),NOT(ISNUMBER(SEARCH(\"GNU \",J392)))),CONCATENATE(B392,\": \",\"Copyright ©\",\" by \",F392,\".\",\" Reprinted with permission.\"),\nIF(AND(I392=\"Request to Rights Holder\",NOT(ISBLANK(E392)),NOT(ISNUMBER(SEARCH(\"depositphotos\",D392))),NOT(ISNUMBER(SEARCH(\"FAL \",J392))),NOT(ISNUMBER(SEARCH(\"GNU \",J392)))),CONCATENATE(B392,\": \",\"Copyright © \",E392,\" by \",F392,\".\",\" Reprinted with permission.\"),\nIF(AND(I392=\"Request to Rights Holder\",NOT(ISBLANK(E392)),ISNUMBER(SEARCH(\"depositphotos\",D392))),CONCATENATE(B392,\":\",\" Copyright © \",E392,\" Depositphotos\",\"/\",F392,\".\"),\nIF(AND(I392=\"Request to Rights Holder\",ISBLANK(E392),ISNUMBER(SEARCH(\"depositphotos\",D392))),CONCATENATE(B392,\":\",\" Copyright © \",E392,\"Depositphotos\",\"/\",F392,\".\"),\nIF(AND(I392=\"Request to Rights Holder\",ISNUMBER(SEARCH(\"FAL \",J392)),ISNUMBER(SEARCH(\"(\",J392))),CONCATENATE(B392,\": \",\"Copyright © by \",F392,\" \",J392,\" at \",D392,\". A copy of the license can be found here: http://artlibre.org/licence/lal/en.\"),\nIF(AND(I392=\"Request to Rights Holder\",ISNUMBER(SEARCH(\"FAL \",J392)),NOT(ISNUMBER(SEARCH(\"(\",J392)))),CONCATENATE(B392,\": \",\"Copyright © by \",F392,\" (\",J392,\") at \",D392,\". A copy of the license can be found here: http://artlibre.org/licence/lal/en.\"),\nIF(AND(I392=\"Request to Rights Holder\",ISNUMBER(SEARCH(\"GNU \",J392)),ISNUMBER(SEARCH(\"(\",J392))),CONCATENATE(B392,\": \",\"Copyright © by \",F392,\" \",J392,\" at \",D392,\". A copy of the license can be found here: http://www.gnu.org/licenses/gpl.html\"),\nIF(AND(I392=\"Request to Rights Holder\",ISNUMBER(SEARCH(\"GNU \",J392)),NOT(ISNUMBER(SEARCH(\"(\",J392)))),CONCATENATE(B392,\": \",\"Copyright © by \",F392,\" (\",J392,\") at \",D392,\". A copy of the license can be found here: http://www.gnu.org/licenses/gpl.html\"),\n\"\")))))))))))))","v":""},{"$f":"IF(ISERROR(VLOOKUP($B392,'300ppi Resolution Calc'!$A$2:$E$1001,4,0)),\"\",VLOOKUP($B392,'300ppi Resolution Calc'!$A$2:$E$1001,4,0))","v":""},{"$f":"IF(ISERROR(VLOOKUP($B392,'300ppi Resolution Calc'!$A$2:$E$1001,5,0)),\"\",VLOOKUP($B392,'300ppi Resolution Calc'!$A$2:$E$1001,5,0))","v":""}]
[null,null,null,null,null,null,null,null,null,null,null,"",{"$f":"IF(ISERROR(VLOOKUP($B393,'300ppi Resolution Calc'!$A$2:$E$1001,4,0)),\"\",VLOOKUP($B393,'300ppi Resolution Calc'!$A$2:$E$1001,4,0))","v":""},{"$f":"IF(ISERROR(VLOOKUP($B393,'300ppi Resolution Calc'!$A$2:$E$1001,5,0)),\"\",VLOOKUP($B393,'300ppi Resolution Calc'!$A$2:$E$1001,5,0))","v":""}]
[null,null,null,null,null,null,null,null,null,null,null,"",{"$f":"IF(ISERROR(VLOOKUP($B394,'300ppi Resolution Calc'!$A$2:$E$1001,4,0)),\"\",VLOOKUP($B394,'300ppi Resolution Calc'!$A$2:$E$1001,4,0))","v":""},{"$f":"IF(ISERROR(VLOOKUP($B394,'300ppi Resolution Calc'!$A$2:$E$1001,5,0)),\"\",VLOOKUP($B394,'300ppi Resolution Calc'!$A$2:$E$1001,5,0))","v":""}]
[null,null,null,null,null,null,null,null,null,null,null,"",{"$f":"IF(ISERROR(VLOOKUP($B395,'300ppi Resolution Calc'!$A$2:$E$1001,4,0)),\"\",VLOOKUP($B395,'300ppi Resolution Calc'!$A$2:$E$1001,4,0))","v":""},{"$f":"IF(ISERROR(VLOOKUP($B395,'300ppi Resolution Calc'!$A$2:$E$1001,5,0)),\"\",VLOOKUP($B395,'300ppi Resolution Calc'!$A$2:$E$1001,5,0))","v":""}]
[null,null,null,null,null,null,null,null,null,null,null,"",{"$f":"IF(ISERROR(VLOOKUP($B396,'300ppi Resolution Calc'!$A$2:$E$1001,4,0)),\"\",VLOOKUP($B396,'300ppi Resolution Calc'!$A$2:$E$1001,4,0))","v":""},{"$f":"IF(ISERROR(VLOOKUP($B396,'300ppi Resolution Calc'!$A$2:$E$1001,5,0)),\"\",VLOOKUP($B396,'300ppi Resolution Calc'!$A$2:$E$1001,5,0))","v":""}]
[null,null,null,null,null,null,null,null,null,null,null,"",{"$f":"IF(ISERROR(VLOOKUP($B397,'300ppi Resolution Calc'!$A$2:$E$1001,4,0)),\"\",VLOOKUP($B397,'300ppi Resolution Calc'!$A$2:$E$1001,4,0))","v":""},{"$f":"IF(ISERROR(VLOOKUP($B397,'300ppi Resolution Calc'!$A$2:$E$1001,5,0)),\"\",VLOOKUP($B397,'300ppi Resolution Calc'!$A$2:$E$1001,5,0))","v":""}]
[null,null,null,null,null,null,null,null,null,null,null,"",{"$f":"IF(ISERROR(VLOOKUP($B398,'300ppi Resolution Calc'!$A$2:$E$1001,4,0)),\"\",VLOOKUP($B398,'300ppi Resolution Calc'!$A$2:$E$1001,4,0))","v":""},{"$f":"IF(ISERROR(VLOOKUP($B398,'300ppi Resolution Calc'!$A$2:$E$1001,5,0)),\"\",VLOOKUP($B398,'300ppi Resolution Calc'!$A$2:$E$1001,5,0))","v":""}]
[null,null,null,null,null,null,null,null,null,null,null,"",{"$f":"IF(ISERROR(VLOOKUP($B399,'300ppi Resolution Calc'!$A$2:$E$1001,4,0)),\"\",VLOOKUP($B399,'300ppi Resolution Calc'!$A$2:$E$1001,4,0))","v":""},{"$f":"IF(ISERROR(VLOOKUP($B399,'300ppi Resolution Calc'!$A$2:$E$1001,5,0)),\"\",VLOOKUP($B399,'300ppi Resolution Calc'!$A$2:$E$1001,5,0))","v":""}]
[null,null,null,null,null,null,null,null,null,null,null,"",{"$f":"IF(ISERROR(VLOOKUP($B400,'300ppi Resolution Calc'!$A$2:$E$1001,4,0)),\"\",VLOOKUP($B400,'300ppi Resolution Calc'!$A$2:$E$1001,4,0))","v":""},{"$f":"IF(ISERROR(VLOOKUP($B400,'300ppi Resolution Calc'!$A$2:$E$1001,5,0)),\"\",VLOOKUP($B400,'300ppi Resolution Calc'!$A$2:$E$1001,5,0))","v":""}]
[null,null,null,null,null,null,null,null,null,null,null,"",{"$f":"IF(ISERROR(VLOOKUP($B401,'300ppi Resolution Calc'!$A$2:$E$1001,4,0)),\"\",VLOOKUP($B401,'300ppi Resolution Calc'!$A$2:$E$1001,4,0))","v":""},{"$f":"IF(ISERROR(VLOOKUP($B401,'300ppi Resolution Calc'!$A$2:$E$1001,5,0)),\"\",VLOOKUP($B401,'300ppi Resolution Calc'!$A$2:$E$1001,5,0))","v":""}]
[null,null,null,null,null,null,null,null,null,null,null,"",{"$f":"IF(ISERROR(VLOOKUP($B402,'300ppi Resolution Calc'!$A$2:$E$1001,4,0)),\"\",VLOOKUP($B402,'300ppi Resolution Calc'!$A$2:$E$1001,4,0))","v":""},{"$f":"IF(ISERROR(VLOOKUP($B402,'300ppi Resolution Calc'!$A$2:$E$1001,5,0)),\"\",VLOOKUP($B402,'300ppi Resolution Calc'!$A$2:$E$1001,5,0))","v":""}]
[null,null,null,null,null,null,null,null,null,null,null,"",{"$f":"IF(ISERROR(VLOOKUP($B403,'300ppi Resolution Calc'!$A$2:$E$1001,4,0)),\"\",VLOOKUP($B403,'300ppi Resolution Calc'!$A$2:$E$1001,4,0))","v":""},{"$f":"IF(ISERROR(VLOOKUP($B403,'300ppi Resolution Calc'!$A$2:$E$1001,5,0)),\"\",VLOOKUP($B403,'300ppi Resolution Calc'!$A$2:$E$1001,5,0))","v":""}]
[null,null,null,null,null,null,null,null,null,null,null,"",{"$f":"IF(ISERROR(VLOOKUP($B404,'300ppi Resolution Calc'!$A$2:$E$1001,4,0)),\"\",VLOOKUP($B404,'300ppi Resolution Calc'!$A$2:$E$1001,4,0))","v":""},{"$f":"IF(ISERROR(VLOOKUP($B404,'300ppi Resolution Calc'!$A$2:$E$1001,5,0)),\"\",VLOOKUP($B404,'300ppi Resolution Calc'!$A$2:$E$1001,5,0))","v":""}]
[null,null,null,null,null,null,null,null,null,null,null,"",{"$f":"IF(ISERROR(VLOOKUP($B405,'300ppi Resolution Calc'!$A$2:$E$1001,4,0)),\"\",VLOOKUP($B405,'300ppi Resolution Calc'!$A$2:$E$1001,4,0))","v":""},{"$f":"IF(ISERROR(VLOOKUP($B405,'300ppi Resolution Calc'!$A$2:$E$1001,5,0)),\"\",VLOOKUP($B405,'300ppi Resolution Calc'!$A$2:$E$1001,5,0))","v":""}]
[null,null,null,null,null,null,null,null,null,null,null,"",{"$f":"IF(ISERROR(VLOOKUP($B406,'300ppi Resolution Calc'!$A$2:$E$1001,4,0)),\"\",VLOOKUP($B406,'300ppi Resolution Calc'!$A$2:$E$1001,4,0))","v":""},{"$f":"IF(ISERROR(VLOOKUP($B406,'300ppi Resolution Calc'!$A$2:$E$1001,5,0)),\"\",VLOOKUP($B406,'300ppi Resolution Calc'!$A$2:$E$1001,5,0))","v":""}]
[null,null,null,null,null,null,null,null,null,null,null,"",{"$f":"IF(ISERROR(VLOOKUP($B407,'300ppi Resolution Calc'!$A$2:$E$1001,4,0)),\"\",VLOOKUP($B407,'300ppi Resolution Calc'!$A$2:$E$1001,4,0))","v":""},{"$f":"IF(ISERROR(VLOOKUP($B407,'300ppi Resolution Calc'!$A$2:$E$1001,5,0)),\"\",VLOOKUP($B407,'300ppi Resolution Calc'!$A$2:$E$1001,5,0))","v":""}]
[null,null,null,null,null,null,null,null,null,null,null,"",{"$f":"IF(ISERROR(VLOOKUP($B408,'300ppi Resolution Calc'!$A$2:$E$1001,4,0)),\"\",VLOOKUP($B408,'300ppi Resolution Calc'!$A$2:$E$1001,4,0))","v":""},{"$f":"IF(ISERROR(VLOOKUP($B408,'300ppi Resolution Calc'!$A$2:$E$1001,5,0)),\"\",VLOOKUP($B408,'300ppi Resolution Calc'!$A$2:$E$1001,5,0))","v":""}]
[null,null,null,null,null,null,null,null,null,null,null,"",{"$f":"IF(ISERROR(VLOOKUP($B409,'300ppi Resolution Calc'!$A$2:$E$1001,4,0)),\"\",VLOOKUP($B409,'300ppi Resolution Calc'!$A$2:$E$1001,4,0))","v":""},{"$f":"IF(ISERROR(VLOOKUP($B409,'300ppi Resolution Calc'!$A$2:$E$1001,5,0)),\"\",VLOOKUP($B409,'300ppi Resolution Calc'!$A$2:$E$1001,5,0))","v":""}]
[null,null,null,null,null,null,null,null,null,null,null,"",{"$f":"IF(ISERROR(VLOOKUP($B410,'300ppi Resolution Calc'!$A$2:$E$1001,4,0)),\"\",VLOOKUP($B410,'300ppi Resolution Calc'!$A$2:$E$1001,4,0))","v":""},{"$f":"IF(ISERROR(VLOOKUP($B410,'300ppi Resolution Calc'!$A$2:$E$1001,5,0)),\"\",VLOOKUP($B410,'300ppi Resolution Calc'!$A$2:$E$1001,5,0))","v":""}]
[null,null,null,null,null,null,null,null,null,null,null,"",{"$f":"IF(ISERROR(VLOOKUP($B411,'300ppi Resolution Calc'!$A$2:$E$1001,4,0)),\"\",VLOOKUP($B411,'300ppi Resolution Calc'!$A$2:$E$1001,4,0))","v":""},{"$f":"IF(ISERROR(VLOOKUP($B411,'300ppi Resolution Calc'!$A$2:$E$1001,5,0)),\"\",VLOOKUP($B411,'300ppi Resolution Calc'!$A$2:$E$1001,5,0))","v":""}]
[null,null,null,null,null,null,null,null,null,null,null,"",{"$f":"IF(ISERROR(VLOOKUP($B412,'300ppi Resolution Calc'!$A$2:$E$1001,4,0)),\"\",VLOOKUP($B412,'300ppi Resolution Calc'!$A$2:$E$1001,4,0))","v":""},{"$f":"IF(ISERROR(VLOOKUP($B412,'300ppi Resolution Calc'!$A$2:$E$1001,5,0)),\"\",VLOOKUP($B412,'300ppi Resolution Calc'!$A$2:$E$1001,5,0))","v":""}]
[null,null,null,null,null,null,null,null,null,null,null,"",{"$f":"IF(ISERROR(VLOOKUP($B413,'300ppi Resolution Calc'!$A$2:$E$1001,4,0)),\"\",VLOOKUP($B413,'300ppi Resolution Calc'!$A$2:$E$1001,4,0))","v":""},{"$f":"IF(ISERROR(VLOOKUP($B413,'300ppi Resolution Calc'!$A$2:$E$1001,5,0)),\"\",VLOOKUP($B413,'300ppi Resolution Calc'!$A$2:$E$1001,5,0))","v":""}]
[null,null,null,null,null,null,null,null,null,null,null,"",{"$f":"IF(ISERROR(VLOOKUP($B414,'300ppi Resolution Calc'!$A$2:$E$1001,4,0)),\"\",VLOOKUP($B414,'300ppi Resolution Calc'!$A$2:$E$1001,4,0))","v":""},{"$f":"IF(ISERROR(VLOOKUP($B414,'300ppi Resolution Calc'!$A$2:$E$1001,5,0)),\"\",VLOOKUP($B414,'300ppi Resolution Calc'!$A$2:$E$1001,5,0))","v":""}]
[null,null,null,null,null,null,null,null,null,null,null,"",{"$f":"IF(ISERROR(VLOOKUP($B415,'300ppi Resolution Calc'!$A$2:$E$1001,4,0)),\"\",VLOOKUP($B415,'300ppi Resolution Calc'!$A$2:$E$1001,4,0))","v":""},{"$f":"IF(ISERROR(VLOOKUP($B415,'300ppi Resolution Calc'!$A$2:$E$1001,5,0)),\"\",VLOOKUP($B415,'300ppi Resolution Calc'!$A$2:$E$1001,5,0))","v":""}]
[null,null,null,null,null,null,null,null,null,null,null,"",{"$f":"IF(ISERROR(VLOOKUP($B416,'300ppi Resolution Calc'!$A$2:$E$1001,4,0)),\"\",VLOOKUP($B416,'300ppi Resolution Calc'!$A$2:$E$1001,4,0))","v":""},{"$f":"IF(ISERROR(VLOOKUP($B416,'300ppi Resolution Calc'!$A$2:$E$1001,5,0)),\"\",VLOOKUP($B416,'300ppi Resolution Calc'!$A$2:$E$1001,5,0))","v":""}]
[null,null,null,null,null,null,null,null,null,null,null,"",{"$f":"IF(ISERROR(VLOOKUP($B417,'300ppi Resolution Calc'!$A$2:$E$1001,4,0)),\"\",VLOOKUP($B417,'300ppi Resolution Calc'!$A$2:$E$1001,4,0))","v":""},{"$f":"IF(ISERROR(VLOOKUP($B417,'300ppi Resolution Calc'!$A$2:$E$1001,5,0)),\"\",VLOOKUP($B417,'300ppi Resolution Calc'!$A$2:$E$1001,5,0))","v":""}]
[null,null,null,null,null,null,null,null,null,null,null,"",{"$f":"IF(ISERROR(VLOOKUP($B418,'300ppi Resolution Calc'!$A$2:$E$1001,4,0)),\"\",VLOOKUP($B418,'300ppi Resolution Calc'!$A$2:$E$1001,4,0))","v":""},{"$f":"IF(ISERROR(VLOOKUP($B418,'300ppi Resolution Calc'!$A$2:$E$1001,5,0)),\"\",VLOOKUP($B418,'300ppi Resolution Calc'!$A$2:$E$1001,5,0))","v":""}]
[null,null,null,null,null,null,null,null,null,null,null,"",{"$f":"IF(ISERROR(VLOOKUP($B419,'300ppi Resolution Calc'!$A$2:$E$1001,4,0)),\"\",VLOOKUP($B419,'300ppi Resolution Calc'!$A$2:$E$1001,4,0))","v":""},{"$f":"IF(ISERROR(VLOOKUP($B419,'300ppi Resolution Calc'!$A$2:$E$1001,5,0)),\"\",VLOOKUP($B419,'300ppi Resolution Calc'!$A$2:$E$1001,5,0))","v":""}]
[null,null,null,null,null,null,null,null,null,null,null,"",{"$f":"IF(ISERROR(VLOOKUP($B420,'300ppi Resolution Calc'!$A$2:$E$1001,4,0)),\"\",VLOOKUP($B420,'300ppi Resolution Calc'!$A$2:$E$1001,4,0))","v":""},{"$f":"IF(ISERROR(VLOOKUP($B420,'300ppi Resolution Calc'!$A$2:$E$1001,5,0)),\"\",VLOOKUP($B420,'300ppi Resolution Calc'!$A$2:$E$1001,5,0))","v":""}]
[null,null,null,null,null,null,null,null,null,null,null,"",{"$f":"IF(ISERROR(VLOOKUP($B421,'300ppi Resolution Calc'!$A$2:$E$1001,4,0)),\"\",VLOOKUP($B421,'300ppi Resolution Calc'!$A$2:$E$1001,4,0))","v":""},{"$f":"IF(ISERROR(VLOOKUP($B421,'300ppi Resolution Calc'!$A$2:$E$1001,5,0)),\"\",VLOOKUP($B421,'300ppi Resolution Calc'!$A$2:$E$1001,5,0))","v":""}]
[null,null,null,null,null,null,null,null,null,null,null,"",{"$f":"IF(ISERROR(VLOOKUP($B422,'300ppi Resolution Calc'!$A$2:$E$1001,4,0)),\"\",VLOOKUP($B422,'300ppi Resolution Calc'!$A$2:$E$1001,4,0))","v":""},{"$f":"IF(ISERROR(VLOOKUP($B422,'300ppi Resolution Calc'!$A$2:$E$1001,5,0)),\"\",VLOOKUP($B422,'300ppi Resolution Calc'!$A$2:$E$1001,5,0))","v":""}]
[null,null,null,null,null,null,null,null,null,null,null,"",{"$f":"IF(ISERROR(VLOOKUP($B423,'300ppi Resolution Calc'!$A$2:$E$1001,4,0)),\"\",VLOOKUP($B423,'300ppi Resolution Calc'!$A$2:$E$1001,4,0))","v":""},{"$f":"IF(ISERROR(VLOOKUP($B423,'300ppi Resolution Calc'!$A$2:$E$1001,5,0)),\"\",VLOOKUP($B423,'300ppi Resolution Calc'!$A$2:$E$1001,5,0))","v":""}]
[null,null,null,null,null,null,null,null,null,null,null,"",{"$f":"IF(ISERROR(VLOOKUP($B424,'300ppi Resolution Calc'!$A$2:$E$1001,4,0)),\"\",VLOOKUP($B424,'300ppi Resolution Calc'!$A$2:$E$1001,4,0))","v":""},{"$f":"IF(ISERROR(VLOOKUP($B424,'300ppi Resolution Calc'!$A$2:$E$1001,5,0)),\"\",VLOOKUP($B424,'300ppi Resolution Calc'!$A$2:$E$1001,5,0))","v":""}]
[null,null,null,null,null,null,null,null,null,null,null,"",{"$f":"IF(ISERROR(VLOOKUP($B425,'300ppi Resolution Calc'!$A$2:$E$1001,4,0)),\"\",VLOOKUP($B425,'300ppi Resolution Calc'!$A$2:$E$1001,4,0))","v":""},{"$f":"IF(ISERROR(VLOOKUP($B425,'300ppi Resolution Calc'!$A$2:$E$1001,5,0)),\"\",VLOOKUP($B425,'300ppi Resolution Calc'!$A$2:$E$1001,5,0))","v":""}]
[null,null,null,null,null,null,null,null,null,null,null,"",{"$f":"IF(ISERROR(VLOOKUP($B426,'300ppi Resolution Calc'!$A$2:$E$1001,4,0)),\"\",VLOOKUP($B426,'300ppi Resolution Calc'!$A$2:$E$1001,4,0))","v":""},{"$f":"IF(ISERROR(VLOOKUP($B426,'300ppi Resolution Calc'!$A$2:$E$1001,5,0)),\"\",VLOOKUP($B426,'300ppi Resolution Calc'!$A$2:$E$1001,5,0))","v":""}]
[null,null,null,null,null,null,null,null,null,null,null,"",{"$f":"IF(ISERROR(VLOOKUP($B427,'300ppi Resolution Calc'!$A$2:$E$1001,4,0)),\"\",VLOOKUP($B427,'300ppi Resolution Calc'!$A$2:$E$1001,4,0))","v":""},{"$f":"IF(ISERROR(VLOOKUP($B427,'300ppi Resolution Calc'!$A$2:$E$1001,5,0)),\"\",VLOOKUP($B427,'300ppi Resolution Calc'!$A$2:$E$1001,5,0))","v":""}]
[null,null,null,null,null,null,null,null,null,null,null,"",{"$f":"IF(ISERROR(VLOOKUP($B428,'300ppi Resolution Calc'!$A$2:$E$1001,4,0)),\"\",VLOOKUP($B428,'300ppi Resolution Calc'!$A$2:$E$1001,4,0))","v":""},{"$f":"IF(ISERROR(VLOOKUP($B428,'300ppi Resolution Calc'!$A$2:$E$1001,5,0)),\"\",VLOOKUP($B428,'300ppi Resolution Calc'!$A$2:$E$1001,5,0))","v":""}]
[null,null,null,null,null,null,null,null,null,null,null,"",{"$f":"IF(ISERROR(VLOOKUP($B429,'300ppi Resolution Calc'!$A$2:$E$1001,4,0)),\"\",VLOOKUP($B429,'300ppi Resolution Calc'!$A$2:$E$1001,4,0))","v":""},{"$f":"IF(ISERROR(VLOOKUP($B429,'300ppi Resolution Calc'!$A$2:$E$1001,5,0)),\"\",VLOOKUP($B429,'300ppi Resolution Calc'!$A$2:$E$1001,5,0))","v":""}]
[null,null,null,null,null,null,null,null,null,null,null,"",{"$f":"IF(ISERROR(VLOOKUP($B430,'300ppi Resolution Calc'!$A$2:$E$1001,4,0)),\"\",VLOOKUP($B430,'300ppi Resolution Calc'!$A$2:$E$1001,4,0))","v":""},{"$f":"IF(ISERROR(VLOOKUP($B430,'300ppi Resolution Calc'!$A$2:$E$1001,5,0)),\"\",VLOOKUP($B430,'300ppi Resolution Calc'!$A$2:$E$1001,5,0))","v":""}]
[null,null,null,null,null,null,null,null,null,null,null,"",{"$f":"IF(ISERROR(VLOOKUP($B431,'300ppi Resolution Calc'!$A$2:$E$1001,4,0)),\"\",VLOOKUP($B431,'300ppi Resolution Calc'!$A$2:$E$1001,4,0))","v":""},{"$f":"IF(ISERROR(VLOOKUP($B431,'300ppi Resolution Calc'!$A$2:$E$1001,5,0)),\"\",VLOOKUP($B431,'300ppi Resolution Calc'!$A$2:$E$1001,5,0))","v":""}]
[null,null,null,null,null,null,null,null,null,null,null,"",{"$f":"IF(ISERROR(VLOOKUP($B432,'300ppi Resolution Calc'!$A$2:$E$1001,4,0)),\"\",VLOOKUP($B432,'300ppi Resolution Calc'!$A$2:$E$1001,4,0))","v":""},{"$f":"IF(ISERROR(VLOOKUP($B432,'300ppi Resolution Calc'!$A$2:$E$1001,5,0)),\"\",VLOOKUP($B432,'300ppi Resolution Calc'!$A$2:$E$1001,5,0))","v":""}]
[null,null,null,null,null,null,null,null,null,null,null,"",{"$f":"IF(ISERROR(VLOOKUP($B433,'300ppi Resolution Calc'!$A$2:$E$1001,4,0)),\"\",VLOOKUP($B433,'300ppi Resolution Calc'!$A$2:$E$1001,4,0))","v":""},{"$f":"IF(ISERROR(VLOOKUP($B433,'300ppi Resolution Calc'!$A$2:$E$1001,5,0)),\"\",VLOOKUP($B433,'300ppi Resolution Calc'!$A$2:$E$1001,5,0))","v":""}]
[null,null,null,null,null,null,null,null,null,null,null,"",{"$f":"IF(ISERROR(VLOOKUP($B434,'300ppi Resolution Calc'!$A$2:$E$1001,4,0)),\"\",VLOOKUP($B434,'300ppi Resolution Calc'!$A$2:$E$1001,4,0))","v":""},{"$f":"IF(ISERROR(VLOOKUP($B434,'300ppi Resolution Calc'!$A$2:$E$1001,5,0)),\"\",VLOOKUP($B434,'300ppi Resolution Calc'!$A$2:$E$1001,5,0))","v":""}]
[null,null,null,null,null,null,null,null,null,null,null,"",{"$f":"IF(ISERROR(VLOOKUP($B435,'300ppi Resolution Calc'!$A$2:$E$1001,4,0)),\"\",VLOOKUP($B435,'300ppi Resolution Calc'!$A$2:$E$1001,4,0))","v":""},{"$f":"IF(ISERROR(VLOOKUP($B435,'300ppi Resolution Calc'!$A$2:$E$1001,5,0)),\"\",VLOOKUP($B435,'300ppi Resolution Calc'!$A$2:$E$1001,5,0))","v":""}]
[null,null,null,null,null,null,null,null,null,null,null,"",{"$f":"IF(ISERROR(VLOOKUP($B436,'300ppi Resolution Calc'!$A$2:$E$1001,4,0)),\"\",VLOOKUP($B436,'300ppi Resolution Calc'!$A$2:$E$1001,4,0))","v":""},{"$f":"IF(ISERROR(VLOOKUP($B436,'300ppi Resolution Calc'!$A$2:$E$1001,5,0)),\"\",VLOOKUP($B436,'300ppi Resolution Calc'!$A$2:$E$1001,5,0))","v":""}]
[null,null,null,null,null,null,null,null,null,null,null,"",{"$f":"IF(ISERROR(VLOOKUP($B437,'300ppi Resolution Calc'!$A$2:$E$1001,4,0)),\"\",VLOOKUP($B437,'300ppi Resolution Calc'!$A$2:$E$1001,4,0))","v":""},{"$f":"IF(ISERROR(VLOOKUP($B437,'300ppi Resolution Calc'!$A$2:$E$1001,5,0)),\"\",VLOOKUP($B437,'300ppi Resolution Calc'!$A$2:$E$1001,5,0))","v":""}]
[null,null,null,null,null,null,null,null,null,null,null,"",{"$f":"IF(ISERROR(VLOOKUP($B438,'300ppi Resolution Calc'!$A$2:$E$1001,4,0)),\"\",VLOOKUP($B438,'300ppi Resolution Calc'!$A$2:$E$1001,4,0))","v":""},{"$f":"IF(ISERROR(VLOOKUP($B438,'300ppi Resolution Calc'!$A$2:$E$1001,5,0)),\"\",VLOOKUP($B438,'300ppi Resolution Calc'!$A$2:$E$1001,5,0))","v":""}]
[null,null,null,null,null,null,null,null,null,null,null,"",{"$f":"IF(ISERROR(VLOOKUP($B439,'300ppi Resolution Calc'!$A$2:$E$1001,4,0)),\"\",VLOOKUP($B439,'300ppi Resolution Calc'!$A$2:$E$1001,4,0))","v":""},{"$f":"IF(ISERROR(VLOOKUP($B439,'300ppi Resolution Calc'!$A$2:$E$1001,5,0)),\"\",VLOOKUP($B439,'300ppi Resolution Calc'!$A$2:$E$1001,5,0))","v":""}]
[null,null,null,null,null,null,null,null,null,null,null,"",{"$f":"IF(ISERROR(VLOOKUP($B440,'300ppi Resolution Calc'!$A$2:$E$1001,4,0)),\"\",VLOOKUP($B440,'300ppi Resolution Calc'!$A$2:$E$1001,4,0))","v":""},{"$f":"IF(ISERROR(VLOOKUP($B440,'300ppi Resolution Calc'!$A$2:$E$1001,5,0)),\"\",VLOOKUP($B440,'300ppi Resolution Calc'!$A$2:$E$1001,5,0))","v":""}]
[null,null,null,null,null,null,null,null,null,null,null,"",{"$f":"IF(ISERROR(VLOOKUP($B441,'300ppi Resolution Calc'!$A$2:$E$1001,4,0)),\"\",VLOOKUP($B441,'300ppi Resolution Calc'!$A$2:$E$1001,4,0))","v":""},{"$f":"IF(ISERROR(VLOOKUP($B441,'300ppi Resolution Calc'!$A$2:$E$1001,5,0)),\"\",VLOOKUP($B441,'300ppi Resolution Calc'!$A$2:$E$1001,5,0))","v":""}]
[null,null,null,null,null,null,null,null,null,null,null,"",{"$f":"IF(ISERROR(VLOOKUP($B442,'300ppi Resolution Calc'!$A$2:$E$1001,4,0)),\"\",VLOOKUP($B442,'300ppi Resolution Calc'!$A$2:$E$1001,4,0))","v":""},{"$f":"IF(ISERROR(VLOOKUP($B442,'300ppi Resolution Calc'!$A$2:$E$1001,5,0)),\"\",VLOOKUP($B442,'300ppi Resolution Calc'!$A$2:$E$1001,5,0))","v":""}]
[null,null,null,null,null,null,null,null,null,null,null,"",{"$f":"IF(ISERROR(VLOOKUP($B443,'300ppi Resolution Calc'!$A$2:$E$1001,4,0)),\"\",VLOOKUP($B443,'300ppi Resolution Calc'!$A$2:$E$1001,4,0))","v":""},{"$f":"IF(ISERROR(VLOOKUP($B443,'300ppi Resolution Calc'!$A$2:$E$1001,5,0)),\"\",VLOOKUP($B443,'300ppi Resolution Calc'!$A$2:$E$1001,5,0))","v":""}]
[null,null,null,null,null,null,null,null,null,null,null,"",{"$f":"IF(ISERROR(VLOOKUP($B444,'300ppi Resolution Calc'!$A$2:$E$1001,4,0)),\"\",VLOOKUP($B444,'300ppi Resolution Calc'!$A$2:$E$1001,4,0))","v":""},{"$f":"IF(ISERROR(VLOOKUP($B444,'300ppi Resolution Calc'!$A$2:$E$1001,5,0)),\"\",VLOOKUP($B444,'300ppi Resolution Calc'!$A$2:$E$1001,5,0))","v":""}]
[null,null,null,null,null,null,null,null,null,null,null,"",{"$f":"IF(ISERROR(VLOOKUP($B445,'300ppi Resolution Calc'!$A$2:$E$1001,4,0)),\"\",VLOOKUP($B445,'300ppi Resolution Calc'!$A$2:$E$1001,4,0))","v":""},{"$f":"IF(ISERROR(VLOOKUP($B445,'300ppi Resolution Calc'!$A$2:$E$1001,5,0)),\"\",VLOOKUP($B445,'300ppi Resolution Calc'!$A$2:$E$1001,5,0))","v":""}]
[null,null,null,null,null,null,null,null,null,null,null,"",{"$f":"IF(ISERROR(VLOOKUP($B446,'300ppi Resolution Calc'!$A$2:$E$1001,4,0)),\"\",VLOOKUP($B446,'300ppi Resolution Calc'!$A$2:$E$1001,4,0))","v":""},{"$f":"IF(ISERROR(VLOOKUP($B446,'300ppi Resolution Calc'!$A$2:$E$1001,5,0)),\"\",VLOOKUP($B446,'300ppi Resolution Calc'!$A$2:$E$1001,5,0))","v":""}]
[null,null,null,null,null,null,null,null,null,null,null,"",{"$f":"IF(ISERROR(VLOOKUP($B447,'300ppi Resolution Calc'!$A$2:$E$1001,4,0)),\"\",VLOOKUP($B447,'300ppi Resolution Calc'!$A$2:$E$1001,4,0))","v":""},{"$f":"IF(ISERROR(VLOOKUP($B447,'300ppi Resolution Calc'!$A$2:$E$1001,5,0)),\"\",VLOOKUP($B447,'300ppi Resolution Calc'!$A$2:$E$1001,5,0))","v":""}]
[null,null,null,null,null,null,null,null,null,null,null,"",{"$f":"IF(ISERROR(VLOOKUP($B448,'300ppi Resolution Calc'!$A$2:$E$1001,4,0)),\"\",VLOOKUP($B448,'300ppi Resolution Calc'!$A$2:$E$1001,4,0))","v":""},{"$f":"IF(ISERROR(VLOOKUP($B448,'300ppi Resolution Calc'!$A$2:$E$1001,5,0)),\"\",VLOOKUP($B448,'300ppi Resolution Calc'!$A$2:$E$1001,5,0))","v":""}]
[null,null,null,null,null,null,null,null,null,null,null,"",{"$f":"IF(ISERROR(VLOOKUP($B449,'300ppi Resolution Calc'!$A$2:$E$1001,4,0)),\"\",VLOOKUP($B449,'300ppi Resolution Calc'!$A$2:$E$1001,4,0))","v":""},{"$f":"IF(ISERROR(VLOOKUP($B449,'300ppi Resolution Calc'!$A$2:$E$1001,5,0)),\"\",VLOOKUP($B449,'300ppi Resolution Calc'!$A$2:$E$1001,5,0))","v":""}]
[null,null,null,null,null,null,null,null,null,null,null,"",{"$f":"IF(ISERROR(VLOOKUP($B450,'300ppi Resolution Calc'!$A$2:$E$1001,4,0)),\"\",VLOOKUP($B450,'300ppi Resolution Calc'!$A$2:$E$1001,4,0))","v":""},{"$f":"IF(ISERROR(VLOOKUP($B450,'300ppi Resolution Calc'!$A$2:$E$1001,5,0)),\"\",VLOOKUP($B450,'300ppi Resolution Calc'!$A$2:$E$1001,5,0))","v":""}]
[null,null,null,null,null,null,null,null,null,null,null,"",{"$f":"IF(ISERROR(VLOOKUP($B451,'300ppi Resolution Calc'!$A$2:$E$1001,4,0)),\"\",VLOOKUP($B451,'300ppi Resolution Calc'!$A$2:$E$1001,4,0))","v":""},{"$f":"IF(ISERROR(VLOOKUP($B451,'300ppi Resolution Calc'!$A$2:$E$1001,5,0)),\"\",VLOOKUP($B451,'300ppi Resolution Calc'!$A$2:$E$1001,5,0))","v":""}]
[null,null,null,null,null,null,null,null,null,null,null,"",{"$f":"IF(ISERROR(VLOOKUP($B452,'300ppi Resolution Calc'!$A$2:$E$1001,4,0)),\"\",VLOOKUP($B452,'300ppi Resolution Calc'!$A$2:$E$1001,4,0))","v":""},{"$f":"IF(ISERROR(VLOOKUP($B452,'300ppi Resolution Calc'!$A$2:$E$1001,5,0)),\"\",VLOOKUP($B452,'300ppi Resolution Calc'!$A$2:$E$1001,5,0))","v":""}]
[null,null,null,null,null,null,null,null,null,null,null,"",{"$f":"IF(ISERROR(VLOOKUP($B453,'300ppi Resolution Calc'!$A$2:$E$1001,4,0)),\"\",VLOOKUP($B453,'300ppi Resolution Calc'!$A$2:$E$1001,4,0))","v":""},{"$f":"IF(ISERROR(VLOOKUP($B453,'300ppi Resolution Calc'!$A$2:$E$1001,5,0)),\"\",VLOOKUP($B453,'300ppi Resolution Calc'!$A$2:$E$1001,5,0))","v":""}]
[null,null,null,null,null,null,null,null,null,null,null,"",{"$f":"IF(ISERROR(VLOOKUP($B454,'300ppi Resolution Calc'!$A$2:$E$1001,4,0)),\"\",VLOOKUP($B454,'300ppi Resolution Calc'!$A$2:$E$1001,4,0))","v":""},{"$f":"IF(ISERROR(VLOOKUP($B454,'300ppi Resolution Calc'!$A$2:$E$1001,5,0)),\"\",VLOOKUP($B454,'300ppi Resolution Calc'!$A$2:$E$1001,5,0))","v":""}]
[null,null,null,null,null,null,null,null,null,null,null,"",{"$f":"IF(ISERROR(VLOOKUP($B455,'300ppi Resolution Calc'!$A$2:$E$1001,4,0)),\"\",VLOOKUP($B455,'300ppi Resolution Calc'!$A$2:$E$1001,4,0))","v":""},{"$f":"IF(ISERROR(VLOOKUP($B455,'300ppi Resolution Calc'!$A$2:$E$1001,5,0)),\"\",VLOOKUP($B455,'300ppi Resolution Calc'!$A$2:$E$1001,5,0))","v":""}]
[null,null,null,null,null,null,null,null,null,null,null,{"$f":"IF(AND(I456=\"Creative Commons License\",ISNUMBER(SEARCH(\"(\",J456))),CONCATENATE(B456,\": \",\"Copyright © by \",F456,\" \",J456,\" at \",D456,\".\"),\nIF(AND(I456=\"Creative Commons License\",NOT(ISNUMBER(SEARCH(\"(\",J456)))),CONCATENATE(B456,\": \",\"Copyright © by \",F456,\" (\",J456,\") at \",D456,\".\"),\nIF(I456=\"Public Domain\",CONCATENATE(B456,\": Source: \",D456,\".\"),\nIF(AND(I456=\"Fair Use\",OR(ISNUMBER(SEARCH(\"discuss\",J456)),ISNUMBER(SEARCH(\"critique\",J456)))),CONCATENATE(B456,\": \",\"Copyright © by \",F456,\".\"),\nIF(AND(I456=\"Fair Use\",NOT(OR(ISNUMBER(SEARCH(\"discuss\",J456)),ISNUMBER(SEARCH(\"critique\",J456))))),CONCATENATE(B456,\": Source: \",D456,\".\"),\nIF(AND(I456=\"Request to Rights Holder\",ISBLANK(E456),NOT(ISNUMBER(SEARCH(\"depositphotos\",D456))),NOT(ISNUMBER(SEARCH(\"FAL \",J456))),NOT(ISNUMBER(SEARCH(\"GNU \",J456)))),CONCATENATE(B456,\": \",\"Copyright ©\",\" by \",F456,\".\",\" Reprinted with permission.\"),\nIF(AND(I456=\"Request to Rights Holder\",NOT(ISBLANK(E456)),NOT(ISNUMBER(SEARCH(\"depositphotos\",D456))),NOT(ISNUMBER(SEARCH(\"FAL \",J456))),NOT(ISNUMBER(SEARCH(\"GNU \",J456)))),CONCATENATE(B456,\": \",\"Copyright © \",E456,\" by \",F456,\".\",\" Reprinted with permission.\"),\nIF(AND(I456=\"Request to Rights Holder\",NOT(ISBLANK(E456)),ISNUMBER(SEARCH(\"depositphotos\",D456))),CONCATENATE(B456,\":\",\" Copyright © \",E456,\" Depositphotos\",\"/\",F456,\".\"),\nIF(AND(I456=\"Request to Rights Holder\",ISBLANK(E456),ISNUMBER(SEARCH(\"depositphotos\",D456))),CONCATENATE(B456,\":\",\" Copyright © \",E456,\"Depositphotos\",\"/\",F456,\".\"),\nIF(AND(I456=\"Request to Rights Holder\",ISNUMBER(SEARCH(\"FAL \",J456)),ISNUMBER(SEARCH(\"(\",J456))),CONCATENATE(B456,\": \",\"Copyright © by \",F456,\" \",J456,\" at \",D456,\". A copy of the license can be found here: http://artlibre.org/licence/lal/en.\"),\nIF(AND(I456=\"Request to Rights Holder\",ISNUMBER(SEARCH(\"FAL \",J456)),NOT(ISNUMBER(SEARCH(\"(\",J456)))),CONCATENATE(B456,\": \",\"Copyright © by \",F456,\" (\",J456,\") at \",D456,\". A copy of the license can be found here: http://artlibre.org/licence/lal/en.\"),\nIF(AND(I456=\"Request to Rights Holder\",ISNUMBER(SEARCH(\"GNU \",J456)),ISNUMBER(SEARCH(\"(\",J456))),CONCATENATE(B456,\": \",\"Copyright © by \",F456,\" \",J456,\" at \",D456,\". A copy of the license can be found here: http://www.gnu.org/licenses/gpl.html\"),\nIF(AND(I456=\"Request to Rights Holder\",ISNUMBER(SEARCH(\"GNU \",J456)),NOT(ISNUMBER(SEARCH(\"(\",J456)))),CONCATENATE(B456,\": \",\"Copyright © by \",F456,\" (\",J456,\") at \",D456,\". A copy of the license can be found here: http://www.gnu.org/licenses/gpl.html\"),\n\"\")))))))))))))","v":""},{"$f":"IF(ISERROR(VLOOKUP($B456,'300ppi Resolution Calc'!$A$2:$E$1001,4,0)),\"\",VLOOKUP($B456,'300ppi Resolution Calc'!$A$2:$E$1001,4,0))","v":""},{"$f":"IF(ISERROR(VLOOKUP($B456,'300ppi Resolution Calc'!$A$2:$E$1001,5,0)),\"\",VLOOKUP($B456,'300ppi Resolution Calc'!$A$2:$E$1001,5,0))","v":""}]
[null,null,null,null,null,null,null,null,null,null,null,"",{"$f":"IF(ISERROR(VLOOKUP($B457,'300ppi Resolution Calc'!$A$2:$E$1001,4,0)),\"\",VLOOKUP($B457,'300ppi Resolution Calc'!$A$2:$E$1001,4,0))","v":""},{"$f":"IF(ISERROR(VLOOKUP($B457,'300ppi Resolution Calc'!$A$2:$E$1001,5,0)),\"\",VLOOKUP($B457,'300ppi Resolution Calc'!$A$2:$E$1001,5,0))","v":""}]
[null,null,null,null,null,null,null,null,null,null,null,"",{"$f":"IF(ISERROR(VLOOKUP($B458,'300ppi Resolution Calc'!$A$2:$E$1001,4,0)),\"\",VLOOKUP($B458,'300ppi Resolution Calc'!$A$2:$E$1001,4,0))","v":""},{"$f":"IF(ISERROR(VLOOKUP($B458,'300ppi Resolution Calc'!$A$2:$E$1001,5,0)),\"\",VLOOKUP($B458,'300ppi Resolution Calc'!$A$2:$E$1001,5,0))","v":""}]
[null,null,null,null,null,null,null,null,null,null,null,"",{"$f":"IF(ISERROR(VLOOKUP($B459,'300ppi Resolution Calc'!$A$2:$E$1001,4,0)),\"\",VLOOKUP($B459,'300ppi Resolution Calc'!$A$2:$E$1001,4,0))","v":""},{"$f":"IF(ISERROR(VLOOKUP($B459,'300ppi Resolution Calc'!$A$2:$E$1001,5,0)),\"\",VLOOKUP($B459,'300ppi Resolution Calc'!$A$2:$E$1001,5,0))","v":""}]
[null,null,null,null,null,null,null,null,null,null,null,"",{"$f":"IF(ISERROR(VLOOKUP($B460,'300ppi Resolution Calc'!$A$2:$E$1001,4,0)),\"\",VLOOKUP($B460,'300ppi Resolution Calc'!$A$2:$E$1001,4,0))","v":""},{"$f":"IF(ISERROR(VLOOKUP($B460,'300ppi Resolution Calc'!$A$2:$E$1001,5,0)),\"\",VLOOKUP($B460,'300ppi Resolution Calc'!$A$2:$E$1001,5,0))","v":""}]
[null,null,null,null,null,null,null,null,null,null,null,"",{"$f":"IF(ISERROR(VLOOKUP($B461,'300ppi Resolution Calc'!$A$2:$E$1001,4,0)),\"\",VLOOKUP($B461,'300ppi Resolution Calc'!$A$2:$E$1001,4,0))","v":""},{"$f":"IF(ISERROR(VLOOKUP($B461,'300ppi Resolution Calc'!$A$2:$E$1001,5,0)),\"\",VLOOKUP($B461,'300ppi Resolution Calc'!$A$2:$E$1001,5,0))","v":""}]
[null,null,null,null,null,null,null,null,null,null,null,"",{"$f":"IF(ISERROR(VLOOKUP($B462,'300ppi Resolution Calc'!$A$2:$E$1001,4,0)),\"\",VLOOKUP($B462,'300ppi Resolution Calc'!$A$2:$E$1001,4,0))","v":""},{"$f":"IF(ISERROR(VLOOKUP($B462,'300ppi Resolution Calc'!$A$2:$E$1001,5,0)),\"\",VLOOKUP($B462,'300ppi Resolution Calc'!$A$2:$E$1001,5,0))","v":""}]
[null,null,null,null,null,null,null,null,null,null,null,"",{"$f":"IF(ISERROR(VLOOKUP($B463,'300ppi Resolution Calc'!$A$2:$E$1001,4,0)),\"\",VLOOKUP($B463,'300ppi Resolution Calc'!$A$2:$E$1001,4,0))","v":""},{"$f":"IF(ISERROR(VLOOKUP($B463,'300ppi Resolution Calc'!$A$2:$E$1001,5,0)),\"\",VLOOKUP($B463,'300ppi Resolution Calc'!$A$2:$E$1001,5,0))","v":""}]
[null,null,null,null,null,null,null,null,null,null,null,"",{"$f":"IF(ISERROR(VLOOKUP($B464,'300ppi Resolution Calc'!$A$2:$E$1001,4,0)),\"\",VLOOKUP($B464,'300ppi Resolution Calc'!$A$2:$E$1001,4,0))","v":""},{"$f":"IF(ISERROR(VLOOKUP($B464,'300ppi Resolution Calc'!$A$2:$E$1001,5,0)),\"\",VLOOKUP($B464,'300ppi Resolution Calc'!$A$2:$E$1001,5,0))","v":""}]
[null,null,null,null,null,null,null,null,null,null,null,"",{"$f":"IF(ISERROR(VLOOKUP($B465,'300ppi Resolution Calc'!$A$2:$E$1001,4,0)),\"\",VLOOKUP($B465,'300ppi Resolution Calc'!$A$2:$E$1001,4,0))","v":""},{"$f":"IF(ISERROR(VLOOKUP($B465,'300ppi Resolution Calc'!$A$2:$E$1001,5,0)),\"\",VLOOKUP($B465,'300ppi Resolution Calc'!$A$2:$E$1001,5,0))","v":""}]
[null,null,null,null,null,null,null,null,null,null,null,"",{"$f":"IF(ISERROR(VLOOKUP($B466,'300ppi Resolution Calc'!$A$2:$E$1001,4,0)),\"\",VLOOKUP($B466,'300ppi Resolution Calc'!$A$2:$E$1001,4,0))","v":""},{"$f":"IF(ISERROR(VLOOKUP($B466,'300ppi Resolution Calc'!$A$2:$E$1001,5,0)),\"\",VLOOKUP($B466,'300ppi Resolution Calc'!$A$2:$E$1001,5,0))","v":""}]
[null,null,null,null,null,null,null,null,null,null,null,"",{"$f":"IF(ISERROR(VLOOKUP($B467,'300ppi Resolution Calc'!$A$2:$E$1001,4,0)),\"\",VLOOKUP($B467,'300ppi Resolution Calc'!$A$2:$E$1001,4,0))","v":""},{"$f":"IF(ISERROR(VLOOKUP($B467,'300ppi Resolution Calc'!$A$2:$E$1001,5,0)),\"\",VLOOKUP($B467,'300ppi Resolution Calc'!$A$2:$E$1001,5,0))","v":""}]
[null,null,null,null,null,null,null,null,null,null,null,"",{"$f":"IF(ISERROR(VLOOKUP($B468,'300ppi Resolution Calc'!$A$2:$E$1001,4,0)),\"\",VLOOKUP($B468,'300ppi Resolution Calc'!$A$2:$E$1001,4,0))","v":""},{"$f":"IF(ISERROR(VLOOKUP($B468,'300ppi Resolution Calc'!$A$2:$E$1001,5,0)),\"\",VLOOKUP($B468,'300ppi Resolution Calc'!$A$2:$E$1001,5,0))","v":""}]
[null,null,null,null,null,null,null,null,null,null,null,"",{"$f":"IF(ISERROR(VLOOKUP($B469,'300ppi Resolution Calc'!$A$2:$E$1001,4,0)),\"\",VLOOKUP($B469,'300ppi Resolution Calc'!$A$2:$E$1001,4,0))","v":""},{"$f":"IF(ISERROR(VLOOKUP($B469,'300ppi Resolution Calc'!$A$2:$E$1001,5,0)),\"\",VLOOKUP($B469,'300ppi Resolution Calc'!$A$2:$E$1001,5,0))","v":""}]
[null,null,null,null,null,null,null,null,null,null,null,"",{"$f":"IF(ISERROR(VLOOKUP($B470,'300ppi Resolution Calc'!$A$2:$E$1001,4,0)),\"\",VLOOKUP($B470,'300ppi Resolution Calc'!$A$2:$E$1001,4,0))","v":""},{"$f":"IF(ISERROR(VLOOKUP($B470,'300ppi Resolution Calc'!$A$2:$E$1001,5,0)),\"\",VLOOKUP($B470,'300ppi Resolution Calc'!$A$2:$E$1001,5,0))","v":""}]
[null,null,null,null,null,null,null,null,null,null,null,"",{"$f":"IF(ISERROR(VLOOKUP($B471,'300ppi Resolution Calc'!$A$2:$E$1001,4,0)),\"\",VLOOKUP($B471,'300ppi Resolution Calc'!$A$2:$E$1001,4,0))","v":""},{"$f":"IF(ISERROR(VLOOKUP($B471,'300ppi Resolution Calc'!$A$2:$E$1001,5,0)),\"\",VLOOKUP($B471,'300ppi Resolution Calc'!$A$2:$E$1001,5,0))","v":""}]
[null,null,null,null,null,null,null,null,null,null,null,"",{"$f":"IF(ISERROR(VLOOKUP($B472,'300ppi Resolution Calc'!$A$2:$E$1001,4,0)),\"\",VLOOKUP($B472,'300ppi Resolution Calc'!$A$2:$E$1001,4,0))","v":""},{"$f":"IF(ISERROR(VLOOKUP($B472,'300ppi Resolution Calc'!$A$2:$E$1001,5,0)),\"\",VLOOKUP($B472,'300ppi Resolution Calc'!$A$2:$E$1001,5,0))","v":""}]
[null,null,null,null,null,null,null,null,null,null,null,"",{"$f":"IF(ISERROR(VLOOKUP($B473,'300ppi Resolution Calc'!$A$2:$E$1001,4,0)),\"\",VLOOKUP($B473,'300ppi Resolution Calc'!$A$2:$E$1001,4,0))","v":""},{"$f":"IF(ISERROR(VLOOKUP($B473,'300ppi Resolution Calc'!$A$2:$E$1001,5,0)),\"\",VLOOKUP($B473,'300ppi Resolution Calc'!$A$2:$E$1001,5,0))","v":""}]
[null,null,null,null,null,null,null,null,null,null,null,"",{"$f":"IF(ISERROR(VLOOKUP($B474,'300ppi Resolution Calc'!$A$2:$E$1001,4,0)),\"\",VLOOKUP($B474,'300ppi Resolution Calc'!$A$2:$E$1001,4,0))","v":""},{"$f":"IF(ISERROR(VLOOKUP($B474,'300ppi Resolution Calc'!$A$2:$E$1001,5,0)),\"\",VLOOKUP($B474,'300ppi Resolution Calc'!$A$2:$E$1001,5,0))","v":""}]
[null,null,null,null,null,null,null,null,null,null,null,"",{"$f":"IF(ISERROR(VLOOKUP($B475,'300ppi Resolution Calc'!$A$2:$E$1001,4,0)),\"\",VLOOKUP($B475,'300ppi Resolution Calc'!$A$2:$E$1001,4,0))","v":""},{"$f":"IF(ISERROR(VLOOKUP($B475,'300ppi Resolution Calc'!$A$2:$E$1001,5,0)),\"\",VLOOKUP($B475,'300ppi Resolution Calc'!$A$2:$E$1001,5,0))","v":""}]
[null,null,null,null,null,null,null,null,null,null,null,"",{"$f":"IF(ISERROR(VLOOKUP($B476,'300ppi Resolution Calc'!$A$2:$E$1001,4,0)),\"\",VLOOKUP($B476,'300ppi Resolution Calc'!$A$2:$E$1001,4,0))","v":""},{"$f":"IF(ISERROR(VLOOKUP($B476,'300ppi Resolution Calc'!$A$2:$E$1001,5,0)),\"\",VLOOKUP($B476,'300ppi Resolution Calc'!$A$2:$E$1001,5,0))","v":""}]
[null,null,null,null,null,null,null,null,null,null,null,"",{"$f":"IF(ISERROR(VLOOKUP($B477,'300ppi Resolution Calc'!$A$2:$E$1001,4,0)),\"\",VLOOKUP($B477,'300ppi Resolution Calc'!$A$2:$E$1001,4,0))","v":""},{"$f":"IF(ISERROR(VLOOKUP($B477,'300ppi Resolution Calc'!$A$2:$E$1001,5,0)),\"\",VLOOKUP($B477,'300ppi Resolution Calc'!$A$2:$E$1001,5,0))","v":""}]
[null,null,null,null,null,null,null,null,null,null,null,"",{"$f":"IF(ISERROR(VLOOKUP($B478,'300ppi Resolution Calc'!$A$2:$E$1001,4,0)),\"\",VLOOKUP($B478,'300ppi Resolution Calc'!$A$2:$E$1001,4,0))","v":""},{"$f":"IF(ISERROR(VLOOKUP($B478,'300ppi Resolution Calc'!$A$2:$E$1001,5,0)),\"\",VLOOKUP($B478,'300ppi Resolution Calc'!$A$2:$E$1001,5,0))","v":""}]
[null,null,null,null,null,null,null,null,null,null,null,"",{"$f":"IF(ISERROR(VLOOKUP($B479,'300ppi Resolution Calc'!$A$2:$E$1001,4,0)),\"\",VLOOKUP($B479,'300ppi Resolution Calc'!$A$2:$E$1001,4,0))","v":""},{"$f":"IF(ISERROR(VLOOKUP($B479,'300ppi Resolution Calc'!$A$2:$E$1001,5,0)),\"\",VLOOKUP($B479,'300ppi Resolution Calc'!$A$2:$E$1001,5,0))","v":""}]
[null,null,null,null,null,null,null,null,null,null,null,"",{"$f":"IF(ISERROR(VLOOKUP($B480,'300ppi Resolution Calc'!$A$2:$E$1001,4,0)),\"\",VLOOKUP($B480,'300ppi Resolution Calc'!$A$2:$E$1001,4,0))","v":""},{"$f":"IF(ISERROR(VLOOKUP($B480,'300ppi Resolution Calc'!$A$2:$E$1001,5,0)),\"\",VLOOKUP($B480,'300ppi Resolution Calc'!$A$2:$E$1001,5,0))","v":""}]
[null,null,null,null,null,null,null,null,null,null,null,"",{"$f":"IF(ISERROR(VLOOKUP($B481,'300ppi Resolution Calc'!$A$2:$E$1001,4,0)),\"\",VLOOKUP($B481,'300ppi Resolution Calc'!$A$2:$E$1001,4,0))","v":""},{"$f":"IF(ISERROR(VLOOKUP($B481,'300ppi Resolution Calc'!$A$2:$E$1001,5,0)),\"\",VLOOKUP($B481,'300ppi Resolution Calc'!$A$2:$E$1001,5,0))","v":""}]
[null,null,null,null,null,null,null,null,null,null,null,"",{"$f":"IF(ISERROR(VLOOKUP($B482,'300ppi Resolution Calc'!$A$2:$E$1001,4,0)),\"\",VLOOKUP($B482,'300ppi Resolution Calc'!$A$2:$E$1001,4,0))","v":""},{"$f":"IF(ISERROR(VLOOKUP($B482,'300ppi Resolution Calc'!$A$2:$E$1001,5,0)),\"\",VLOOKUP($B482,'300ppi Resolution Calc'!$A$2:$E$1001,5,0))","v":""}]
[null,null,null,null,null,null,null,null,null,null,null,"",{"$f":"IF(ISERROR(VLOOKUP($B483,'300ppi Resolution Calc'!$A$2:$E$1001,4,0)),\"\",VLOOKUP($B483,'300ppi Resolution Calc'!$A$2:$E$1001,4,0))","v":""},{"$f":"IF(ISERROR(VLOOKUP($B483,'300ppi Resolution Calc'!$A$2:$E$1001,5,0)),\"\",VLOOKUP($B483,'300ppi Resolution Calc'!$A$2:$E$1001,5,0))","v":""}]
[null,null,null,null,null,null,null,null,null,null,null,"",{"$f":"IF(ISERROR(VLOOKUP($B484,'300ppi Resolution Calc'!$A$2:$E$1001,4,0)),\"\",VLOOKUP($B484,'300ppi Resolution Calc'!$A$2:$E$1001,4,0))","v":""},{"$f":"IF(ISERROR(VLOOKUP($B484,'300ppi Resolution Calc'!$A$2:$E$1001,5,0)),\"\",VLOOKUP($B484,'300ppi Resolution Calc'!$A$2:$E$1001,5,0))","v":""}]
[null,null,null,null,null,null,null,null,null,null,null,"",{"$f":"IF(ISERROR(VLOOKUP($B485,'300ppi Resolution Calc'!$A$2:$E$1001,4,0)),\"\",VLOOKUP($B485,'300ppi Resolution Calc'!$A$2:$E$1001,4,0))","v":""},{"$f":"IF(ISERROR(VLOOKUP($B485,'300ppi Resolution Calc'!$A$2:$E$1001,5,0)),\"\",VLOOKUP($B485,'300ppi Resolution Calc'!$A$2:$E$1001,5,0))","v":""}]
[null,null,null,null,null,null,null,null,null,null,null,"",{"$f":"IF(ISERROR(VLOOKUP($B486,'300ppi Resolution Calc'!$A$2:$E$1001,4,0)),\"\",VLOOKUP($B486,'300ppi Resolution Calc'!$A$2:$E$1001,4,0))","v":""},{"$f":"IF(ISERROR(VLOOKUP($B486,'300ppi Resolution Calc'!$A$2:$E$1001,5,0)),\"\",VLOOKUP($B486,'300ppi Resolution Calc'!$A$2:$E$1001,5,0))","v":""}]
[null,null,null,null,null,null,null,null,null,null,null,"",{"$f":"IF(ISERROR(VLOOKUP($B487,'300ppi Resolution Calc'!$A$2:$E$1001,4,0)),\"\",VLOOKUP($B487,'300ppi Resolution Calc'!$A$2:$E$1001,4,0))","v":""},{"$f":"IF(ISERROR(VLOOKUP($B487,'300ppi Resolution Calc'!$A$2:$E$1001,5,0)),\"\",VLOOKUP($B487,'300ppi Resolution Calc'!$A$2:$E$1001,5,0))","v":""}]
[null,null,null,null,null,null,null,null,null,null,null,"",{"$f":"IF(ISERROR(VLOOKUP($B488,'300ppi Resolution Calc'!$A$2:$E$1001,4,0)),\"\",VLOOKUP($B488,'300ppi Resolution Calc'!$A$2:$E$1001,4,0))","v":""},{"$f":"IF(ISERROR(VLOOKUP($B488,'300ppi Resolution Calc'!$A$2:$E$1001,5,0)),\"\",VLOOKUP($B488,'300ppi Resolution Calc'!$A$2:$E$1001,5,0))","v":""}]
[null,null,null,null,null,null,null,null,null,null,null,"",{"$f":"IF(ISERROR(VLOOKUP($B489,'300ppi Resolution Calc'!$A$2:$E$1001,4,0)),\"\",VLOOKUP($B489,'300ppi Resolution Calc'!$A$2:$E$1001,4,0))","v":""},{"$f":"IF(ISERROR(VLOOKUP($B489,'300ppi Resolution Calc'!$A$2:$E$1001,5,0)),\"\",VLOOKUP($B489,'300ppi Resolution Calc'!$A$2:$E$1001,5,0))","v":""}]
[null,null,null,null,null,null,null,null,null,null,null,"",{"$f":"IF(ISERROR(VLOOKUP($B490,'300ppi Resolution Calc'!$A$2:$E$1001,4,0)),\"\",VLOOKUP($B490,'300ppi Resolution Calc'!$A$2:$E$1001,4,0))","v":""},{"$f":"IF(ISERROR(VLOOKUP($B490,'300ppi Resolution Calc'!$A$2:$E$1001,5,0)),\"\",VLOOKUP($B490,'300ppi Resolution Calc'!$A$2:$E$1001,5,0))","v":""}]
[null,null,null,null,null,null,null,null,null,null,null,"",{"$f":"IF(ISERROR(VLOOKUP($B491,'300ppi Resolution Calc'!$A$2:$E$1001,4,0)),\"\",VLOOKUP($B491,'300ppi Resolution Calc'!$A$2:$E$1001,4,0))","v":""},{"$f":"IF(ISERROR(VLOOKUP($B491,'300ppi Resolution Calc'!$A$2:$E$1001,5,0)),\"\",VLOOKUP($B491,'300ppi Resolution Calc'!$A$2:$E$1001,5,0))","v":""}]
[null,null,null,null,null,null,null,null,null,null,null,"",{"$f":"IF(ISERROR(VLOOKUP($B492,'300ppi Resolution Calc'!$A$2:$E$1001,4,0)),\"\",VLOOKUP($B492,'300ppi Resolution Calc'!$A$2:$E$1001,4,0))","v":""},{"$f":"IF(ISERROR(VLOOKUP($B492,'300ppi Resolution Calc'!$A$2:$E$1001,5,0)),\"\",VLOOKUP($B492,'300ppi Resolution Calc'!$A$2:$E$1001,5,0))","v":""}]
[null,null,null,null,null,null,null,null,null,null,null,"",{"$f":"IF(ISERROR(VLOOKUP($B493,'300ppi Resolution Calc'!$A$2:$E$1001,4,0)),\"\",VLOOKUP($B493,'300ppi Resolution Calc'!$A$2:$E$1001,4,0))","v":""},{"$f":"IF(ISERROR(VLOOKUP($B493,'300ppi Resolution Calc'!$A$2:$E$1001,5,0)),\"\",VLOOKUP($B493,'300ppi Resolution Calc'!$A$2:$E$1001,5,0))","v":""}]
[null,null,null,null,null,null,null,null,null,null,null,"",{"$f":"IF(ISERROR(VLOOKUP($B494,'300ppi Resolution Calc'!$A$2:$E$1001,4,0)),\"\",VLOOKUP($B494,'300ppi Resolution Calc'!$A$2:$E$1001,4,0))","v":""},{"$f":"IF(ISERROR(VLOOKUP($B494,'300ppi Resolution Calc'!$A$2:$E$1001,5,0)),\"\",VLOOKUP($B494,'300ppi Resolution Calc'!$A$2:$E$1001,5,0))","v":""}]
[null,null,null,null,null,null,null,null,null,null,null,"",{"$f":"IF(ISERROR(VLOOKUP($B495,'300ppi Resolution Calc'!$A$2:$E$1001,4,0)),\"\",VLOOKUP($B495,'300ppi Resolution Calc'!$A$2:$E$1001,4,0))","v":""},{"$f":"IF(ISERROR(VLOOKUP($B495,'300ppi Resolution Calc'!$A$2:$E$1001,5,0)),\"\",VLOOKUP($B495,'300ppi Resolution Calc'!$A$2:$E$1001,5,0))","v":""}]
[null,null,null,null,null,null,null,null,null,null,null,"",{"$f":"IF(ISERROR(VLOOKUP($B496,'300ppi Resolution Calc'!$A$2:$E$1001,4,0)),\"\",VLOOKUP($B496,'300ppi Resolution Calc'!$A$2:$E$1001,4,0))","v":""},{"$f":"IF(ISERROR(VLOOKUP($B496,'300ppi Resolution Calc'!$A$2:$E$1001,5,0)),\"\",VLOOKUP($B496,'300ppi Resolution Calc'!$A$2:$E$1001,5,0))","v":""}]
[null,null,null,null,null,null,null,null,null,null,null,"",{"$f":"IF(ISERROR(VLOOKUP($B497,'300ppi Resolution Calc'!$A$2:$E$1001,4,0)),\"\",VLOOKUP($B497,'300ppi Resolution Calc'!$A$2:$E$1001,4,0))","v":""},{"$f":"IF(ISERROR(VLOOKUP($B497,'300ppi Resolution Calc'!$A$2:$E$1001,5,0)),\"\",VLOOKUP($B497,'300ppi Resolution Calc'!$A$2:$E$1001,5,0))","v":""}]
[null,null,null,null,null,null,null,null,null,null,null,"",{"$f":"IF(ISERROR(VLOOKUP($B498,'300ppi Resolution Calc'!$A$2:$E$1001,4,0)),\"\",VLOOKUP($B498,'300ppi Resolution Calc'!$A$2:$E$1001,4,0))","v":""},{"$f":"IF(ISERROR(VLOOKUP($B498,'300ppi Resolution Calc'!$A$2:$E$1001,5,0)),\"\",VLOOKUP($B498,'300ppi Resolution Calc'!$A$2:$E$1001,5,0))","v":""}]
[null,null,null,null,null,null,null,null,null,null,null,"",{"$f":"IF(ISERROR(VLOOKUP($B499,'300ppi Resolution Calc'!$A$2:$E$1001,4,0)),\"\",VLOOKUP($B499,'300ppi Resolution Calc'!$A$2:$E$1001,4,0))","v":""},{"$f":"IF(ISERROR(VLOOKUP($B499,'300ppi Resolution Calc'!$A$2:$E$1001,5,0)),\"\",VLOOKUP($B499,'300ppi Resolution Calc'!$A$2:$E$1001,5,0))","v":""}]
[null,null,null,null,null,null,null,null,null,null,null,"",{"$f":"IF(ISERROR(VLOOKUP($B500,'300ppi Resolution Calc'!$A$2:$E$1001,4,0)),\"\",VLOOKUP($B500,'300ppi Resolution Calc'!$A$2:$E$1001,4,0))","v":""},{"$f":"IF(ISERROR(VLOOKUP($B500,'300ppi Resolution Calc'!$A$2:$E$1001,5,0)),\"\",VLOOKUP($B500,'300ppi Resolution Calc'!$A$2:$E$1001,5,0))","v":""}]
[null,null,null,null,null,null,null,null,null,null,null,"",{"$f":"IF(ISERROR(VLOOKUP($B501,'300ppi Resolution Calc'!$A$2:$E$1001,4,0)),\"\",VLOOKUP($B501,'300ppi Resolution Calc'!$A$2:$E$1001,4,0))","v":""},{"$f":"IF(ISERROR(VLOOKUP($B501,'300ppi Resolution Calc'!$A$2:$E$1001,5,0)),\"\",VLOOKUP($B501,'300ppi Resolution Calc'!$A$2:$E$1001,5,0))","v":""}]
[null,null,null,null,null,null,null,null,null,null,null,"",{"$f":"IF(ISERROR(VLOOKUP($B502,'300ppi Resolution Calc'!$A$2:$E$1001,4,0)),\"\",VLOOKUP($B502,'300ppi Resolution Calc'!$A$2:$E$1001,4,0))","v":""},{"$f":"IF(ISERROR(VLOOKUP($B502,'300ppi Resolution Calc'!$A$2:$E$1001,5,0)),\"\",VLOOKUP($B502,'300ppi Resolution Calc'!$A$2:$E$1001,5,0))","v":""}]
[null,null,null,null,null,null,null,null,null,null,null,"",{"$f":"IF(ISERROR(VLOOKUP($B503,'300ppi Resolution Calc'!$A$2:$E$1001,4,0)),\"\",VLOOKUP($B503,'300ppi Resolution Calc'!$A$2:$E$1001,4,0))","v":""},{"$f":"IF(ISERROR(VLOOKUP($B503,'300ppi Resolution Calc'!$A$2:$E$1001,5,0)),\"\",VLOOKUP($B503,'300ppi Resolution Calc'!$A$2:$E$1001,5,0))","v":""}]
[null,null,null,null,null,null,null,null,null,null,null,"",{"$f":"IF(ISERROR(VLOOKUP($B504,'300ppi Resolution Calc'!$A$2:$E$1001,4,0)),\"\",VLOOKUP($B504,'300ppi Resolution Calc'!$A$2:$E$1001,4,0))","v":""},{"$f":"IF(ISERROR(VLOOKUP($B504,'300ppi Resolution Calc'!$A$2:$E$1001,5,0)),\"\",VLOOKUP($B504,'300ppi Resolution Calc'!$A$2:$E$1001,5,0))","v":""}]
[null,null,null,null,null,null,null,null,null,null,null,"",{"$f":"IF(ISERROR(VLOOKUP($B505,'300ppi Resolution Calc'!$A$2:$E$1001,4,0)),\"\",VLOOKUP($B505,'300ppi Resolution Calc'!$A$2:$E$1001,4,0))","v":""},{"$f":"IF(ISERROR(VLOOKUP($B505,'300ppi Resolution Calc'!$A$2:$E$1001,5,0)),\"\",VLOOKUP($B505,'300ppi Resolution Calc'!$A$2:$E$1001,5,0))","v":""}]
[null,null,null,null,null,null,null,null,null,null,null,"",{"$f":"IF(ISERROR(VLOOKUP($B506,'300ppi Resolution Calc'!$A$2:$E$1001,4,0)),\"\",VLOOKUP($B506,'300ppi Resolution Calc'!$A$2:$E$1001,4,0))","v":""},{"$f":"IF(ISERROR(VLOOKUP($B506,'300ppi Resolution Calc'!$A$2:$E$1001,5,0)),\"\",VLOOKUP($B506,'300ppi Resolution Calc'!$A$2:$E$1001,5,0))","v":""}]
[null,null,null,null,null,null,null,null,null,null,null,"",{"$f":"IF(ISERROR(VLOOKUP($B507,'300ppi Resolution Calc'!$A$2:$E$1001,4,0)),\"\",VLOOKUP($B507,'300ppi Resolution Calc'!$A$2:$E$1001,4,0))","v":""},{"$f":"IF(ISERROR(VLOOKUP($B507,'300ppi Resolution Calc'!$A$2:$E$1001,5,0)),\"\",VLOOKUP($B507,'300ppi Resolution Calc'!$A$2:$E$1001,5,0))","v":""}]
[null,null,null,null,null,null,null,null,null,null,null,"",{"$f":"IF(ISERROR(VLOOKUP($B508,'300ppi Resolution Calc'!$A$2:$E$1001,4,0)),\"\",VLOOKUP($B508,'300ppi Resolution Calc'!$A$2:$E$1001,4,0))","v":""},{"$f":"IF(ISERROR(VLOOKUP($B508,'300ppi Resolution Calc'!$A$2:$E$1001,5,0)),\"\",VLOOKUP($B508,'300ppi Resolution Calc'!$A$2:$E$1001,5,0))","v":""}]
[null,null,null,null,null,null,null,null,null,null,null,"",{"$f":"IF(ISERROR(VLOOKUP($B509,'300ppi Resolution Calc'!$A$2:$E$1001,4,0)),\"\",VLOOKUP($B509,'300ppi Resolution Calc'!$A$2:$E$1001,4,0))","v":""},{"$f":"IF(ISERROR(VLOOKUP($B509,'300ppi Resolution Calc'!$A$2:$E$1001,5,0)),\"\",VLOOKUP($B509,'300ppi Resolution Calc'!$A$2:$E$1001,5,0))","v":""}]
[null,null,null,null,null,null,null,null,null,null,null,"",{"$f":"IF(ISERROR(VLOOKUP($B510,'300ppi Resolution Calc'!$A$2:$E$1001,4,0)),\"\",VLOOKUP($B510,'300ppi Resolution Calc'!$A$2:$E$1001,4,0))","v":""},{"$f":"IF(ISERROR(VLOOKUP($B510,'300ppi Resolution Calc'!$A$2:$E$1001,5,0)),\"\",VLOOKUP($B510,'300ppi Resolution Calc'!$A$2:$E$1001,5,0))","v":""}]
[null,null,null,null,null,null,null,null,null,null,null,"",{"$f":"IF(ISERROR(VLOOKUP($B511,'300ppi Resolution Calc'!$A$2:$E$1001,4,0)),\"\",VLOOKUP($B511,'300ppi Resolution Calc'!$A$2:$E$1001,4,0))","v":""},{"$f":"IF(ISERROR(VLOOKUP($B511,'300ppi Resolution Calc'!$A$2:$E$1001,5,0)),\"\",VLOOKUP($B511,'300ppi Resolution Calc'!$A$2:$E$1001,5,0))","v":""}]
[null,null,null,null,null,null,null,null,null,null,null,"",{"$f":"IF(ISERROR(VLOOKUP($B512,'300ppi Resolution Calc'!$A$2:$E$1001,4,0)),\"\",VLOOKUP($B512,'300ppi Resolution Calc'!$A$2:$E$1001,4,0))","v":""},{"$f":"IF(ISERROR(VLOOKUP($B512,'300ppi Resolution Calc'!$A$2:$E$1001,5,0)),\"\",VLOOKUP($B512,'300ppi Resolution Calc'!$A$2:$E$1001,5,0))","v":""}]
[null,null,null,null,null,null,null,null,null,null,null,"",{"$f":"IF(ISERROR(VLOOKUP($B513,'300ppi Resolution Calc'!$A$2:$E$1001,4,0)),\"\",VLOOKUP($B513,'300ppi Resolution Calc'!$A$2:$E$1001,4,0))","v":""},{"$f":"IF(ISERROR(VLOOKUP($B513,'300ppi Resolution Calc'!$A$2:$E$1001,5,0)),\"\",VLOOKUP($B513,'300ppi Resolution Calc'!$A$2:$E$1001,5,0))","v":""}]
[null,null,null,null,null,null,null,null,null,null,null,"",{"$f":"IF(ISERROR(VLOOKUP($B514,'300ppi Resolution Calc'!$A$2:$E$1001,4,0)),\"\",VLOOKUP($B514,'300ppi Resolution Calc'!$A$2:$E$1001,4,0))","v":""},{"$f":"IF(ISERROR(VLOOKUP($B514,'300ppi Resolution Calc'!$A$2:$E$1001,5,0)),\"\",VLOOKUP($B514,'300ppi Resolution Calc'!$A$2:$E$1001,5,0))","v":""}]
[null,null,null,null,null,null,null,null,null,null,null,"",{"$f":"IF(ISERROR(VLOOKUP($B515,'300ppi Resolution Calc'!$A$2:$E$1001,4,0)),\"\",VLOOKUP($B515,'300ppi Resolution Calc'!$A$2:$E$1001,4,0))","v":""},{"$f":"IF(ISERROR(VLOOKUP($B515,'300ppi Resolution Calc'!$A$2:$E$1001,5,0)),\"\",VLOOKUP($B515,'300ppi Resolution Calc'!$A$2:$E$1001,5,0))","v":""}]
[null,null,null,null,null,null,null,null,null,null,null,"",{"$f":"IF(ISERROR(VLOOKUP($B516,'300ppi Resolution Calc'!$A$2:$E$1001,4,0)),\"\",VLOOKUP($B516,'300ppi Resolution Calc'!$A$2:$E$1001,4,0))","v":""},{"$f":"IF(ISERROR(VLOOKUP($B516,'300ppi Resolution Calc'!$A$2:$E$1001,5,0)),\"\",VLOOKUP($B516,'300ppi Resolution Calc'!$A$2:$E$1001,5,0))","v":""}]
[null,null,null,null,null,null,null,null,null,null,null,"",{"$f":"IF(ISERROR(VLOOKUP($B517,'300ppi Resolution Calc'!$A$2:$E$1001,4,0)),\"\",VLOOKUP($B517,'300ppi Resolution Calc'!$A$2:$E$1001,4,0))","v":""},{"$f":"IF(ISERROR(VLOOKUP($B517,'300ppi Resolution Calc'!$A$2:$E$1001,5,0)),\"\",VLOOKUP($B517,'300ppi Resolution Calc'!$A$2:$E$1001,5,0))","v":""}]
[null,null,null,null,null,null,null,null,null,null,null,"",{"$f":"IF(ISERROR(VLOOKUP($B518,'300ppi Resolution Calc'!$A$2:$E$1001,4,0)),\"\",VLOOKUP($B518,'300ppi Resolution Calc'!$A$2:$E$1001,4,0))","v":""},{"$f":"IF(ISERROR(VLOOKUP($B518,'300ppi Resolution Calc'!$A$2:$E$1001,5,0)),\"\",VLOOKUP($B518,'300ppi Resolution Calc'!$A$2:$E$1001,5,0))","v":""}]
[null,null,null,null,null,null,null,null,null,null,null,"",{"$f":"IF(ISERROR(VLOOKUP($B519,'300ppi Resolution Calc'!$A$2:$E$1001,4,0)),\"\",VLOOKUP($B519,'300ppi Resolution Calc'!$A$2:$E$1001,4,0))","v":""},{"$f":"IF(ISERROR(VLOOKUP($B519,'300ppi Resolution Calc'!$A$2:$E$1001,5,0)),\"\",VLOOKUP($B519,'300ppi Resolution Calc'!$A$2:$E$1001,5,0))","v":""}]
[null,null,null,null,null,null,null,null,null,null,null,{"$f":"IF(AND(I520=\"Creative Commons License\",ISNUMBER(SEARCH(\"(\",J520))),CONCATENATE(B520,\": \",\"Copyright © by \",F520,\" \",J520,\" at \",D520,\".\"),\nIF(AND(I520=\"Creative Commons License\",NOT(ISNUMBER(SEARCH(\"(\",J520)))),CONCATENATE(B520,\": \",\"Copyright © by \",F520,\" (\",J520,\") at \",D520,\".\"),\nIF(I520=\"Public Domain\",CONCATENATE(B520,\": Source: \",D520,\".\"),\nIF(AND(I520=\"Fair Use\",OR(ISNUMBER(SEARCH(\"discuss\",J520)),ISNUMBER(SEARCH(\"critique\",J520)))),CONCATENATE(B520,\": \",\"Copyright © by \",F520,\".\"),\nIF(AND(I520=\"Fair Use\",NOT(OR(ISNUMBER(SEARCH(\"discuss\",J520)),ISNUMBER(SEARCH(\"critique\",J520))))),CONCATENATE(B520,\": Source: \",D520,\".\"),\nIF(AND(I520=\"Request to Rights Holder\",ISBLANK(E520),NOT(ISNUMBER(SEARCH(\"depositphotos\",D520))),NOT(ISNUMBER(SEARCH(\"FAL \",J520))),NOT(ISNUMBER(SEARCH(\"GNU \",J520)))),CONCATENATE(B520,\": \",\"Copyright ©\",\" by \",F520,\".\",\" Reprinted with permission.\"),\nIF(AND(I520=\"Request to Rights Holder\",NOT(ISBLANK(E520)),NOT(ISNUMBER(SEARCH(\"depositphotos\",D520))),NOT(ISNUMBER(SEARCH(\"FAL \",J520))),NOT(ISNUMBER(SEARCH(\"GNU \",J520)))),CONCATENATE(B520,\": \",\"Copyright © \",E520,\" by \",F520,\".\",\" Reprinted with permission.\"),\nIF(AND(I520=\"Request to Rights Holder\",NOT(ISBLANK(E520)),ISNUMBER(SEARCH(\"depositphotos\",D520))),CONCATENATE(B520,\":\",\" Copyright © \",E520,\" Depositphotos\",\"/\",F520,\".\"),\nIF(AND(I520=\"Request to Rights Holder\",ISBLANK(E520),ISNUMBER(SEARCH(\"depositphotos\",D520))),CONCATENATE(B520,\":\",\" Copyright © \",E520,\"Depositphotos\",\"/\",F520,\".\"),\nIF(AND(I520=\"Request to Rights Holder\",ISNUMBER(SEARCH(\"FAL \",J520)),ISNUMBER(SEARCH(\"(\",J520))),CONCATENATE(B520,\": \",\"Copyright © by \",F520,\" \",J520,\" at \",D520,\". A copy of the license can be found here: http://artlibre.org/licence/lal/en.\"),\nIF(AND(I520=\"Request to Rights Holder\",ISNUMBER(SEARCH(\"FAL \",J520)),NOT(ISNUMBER(SEARCH(\"(\",J520)))),CONCATENATE(B520,\": \",\"Copyright © by \",F520,\" (\",J520,\") at \",D520,\". A copy of the license can be found here: http://artlibre.org/licence/lal/en.\"),\nIF(AND(I520=\"Request to Rights Holder\",ISNUMBER(SEARCH(\"GNU \",J520)),ISNUMBER(SEARCH(\"(\",J520))),CONCATENATE(B520,\": \",\"Copyright © by \",F520,\" \",J520,\" at \",D520,\". A copy of the license can be found here: http://www.gnu.org/licenses/gpl.html\"),\nIF(AND(I520=\"Request to Rights Holder\",ISNUMBER(SEARCH(\"GNU \",J520)),NOT(ISNUMBER(SEARCH(\"(\",J520)))),CONCATENATE(B520,\": \",\"Copyright © by \",F520,\" (\",J520,\") at \",D520,\". A copy of the license can be found here: http://www.gnu.org/licenses/gpl.html\"),\n\"\")))))))))))))","v":""},{"$f":"IF(ISERROR(VLOOKUP($B520,'300ppi Resolution Calc'!$A$2:$E$1001,4,0)),\"\",VLOOKUP($B520,'300ppi Resolution Calc'!$A$2:$E$1001,4,0))","v":""},{"$f":"IF(ISERROR(VLOOKUP($B520,'300ppi Resolution Calc'!$A$2:$E$1001,5,0)),\"\",VLOOKUP($B520,'300ppi Resolution Calc'!$A$2:$E$1001,5,0))","v":""}]
[null,null,null,null,null,null,null,null,null,null,null,"",{"$f":"IF(ISERROR(VLOOKUP($B521,'300ppi Resolution Calc'!$A$2:$E$1001,4,0)),\"\",VLOOKUP($B521,'300ppi Resolution Calc'!$A$2:$E$1001,4,0))","v":""},{"$f":"IF(ISERROR(VLOOKUP($B521,'300ppi Resolution Calc'!$A$2:$E$1001,5,0)),\"\",VLOOKUP($B521,'300ppi Resolution Calc'!$A$2:$E$1001,5,0))","v":""}]
[null,null,null,null,null,null,null,null,null,null,null,"",{"$f":"IF(ISERROR(VLOOKUP($B522,'300ppi Resolution Calc'!$A$2:$E$1001,4,0)),\"\",VLOOKUP($B522,'300ppi Resolution Calc'!$A$2:$E$1001,4,0))","v":""},{"$f":"IF(ISERROR(VLOOKUP($B522,'300ppi Resolution Calc'!$A$2:$E$1001,5,0)),\"\",VLOOKUP($B522,'300ppi Resolution Calc'!$A$2:$E$1001,5,0))","v":""}]
[null,null,null,null,null,null,null,null,null,null,null,"",{"$f":"IF(ISERROR(VLOOKUP($B523,'300ppi Resolution Calc'!$A$2:$E$1001,4,0)),\"\",VLOOKUP($B523,'300ppi Resolution Calc'!$A$2:$E$1001,4,0))","v":""},{"$f":"IF(ISERROR(VLOOKUP($B523,'300ppi Resolution Calc'!$A$2:$E$1001,5,0)),\"\",VLOOKUP($B523,'300ppi Resolution Calc'!$A$2:$E$1001,5,0))","v":""}]
[null,null,null,null,null,null,null,null,null,null,null,"",{"$f":"IF(ISERROR(VLOOKUP($B524,'300ppi Resolution Calc'!$A$2:$E$1001,4,0)),\"\",VLOOKUP($B524,'300ppi Resolution Calc'!$A$2:$E$1001,4,0))","v":""},{"$f":"IF(ISERROR(VLOOKUP($B524,'300ppi Resolution Calc'!$A$2:$E$1001,5,0)),\"\",VLOOKUP($B524,'300ppi Resolution Calc'!$A$2:$E$1001,5,0))","v":""}]
[null,null,null,null,null,null,null,null,null,null,null,"",{"$f":"IF(ISERROR(VLOOKUP($B525,'300ppi Resolution Calc'!$A$2:$E$1001,4,0)),\"\",VLOOKUP($B525,'300ppi Resolution Calc'!$A$2:$E$1001,4,0))","v":""},{"$f":"IF(ISERROR(VLOOKUP($B525,'300ppi Resolution Calc'!$A$2:$E$1001,5,0)),\"\",VLOOKUP($B525,'300ppi Resolution Calc'!$A$2:$E$1001,5,0))","v":""}]
[null,null,null,null,null,null,null,null,null,null,null,"",{"$f":"IF(ISERROR(VLOOKUP($B526,'300ppi Resolution Calc'!$A$2:$E$1001,4,0)),\"\",VLOOKUP($B526,'300ppi Resolution Calc'!$A$2:$E$1001,4,0))","v":""},{"$f":"IF(ISERROR(VLOOKUP($B526,'300ppi Resolution Calc'!$A$2:$E$1001,5,0)),\"\",VLOOKUP($B526,'300ppi Resolution Calc'!$A$2:$E$1001,5,0))","v":""}]
[null,null,null,null,null,null,null,null,null,null,null,"",{"$f":"IF(ISERROR(VLOOKUP($B527,'300ppi Resolution Calc'!$A$2:$E$1001,4,0)),\"\",VLOOKUP($B527,'300ppi Resolution Calc'!$A$2:$E$1001,4,0))","v":""},{"$f":"IF(ISERROR(VLOOKUP($B527,'300ppi Resolution Calc'!$A$2:$E$1001,5,0)),\"\",VLOOKUP($B527,'300ppi Resolution Calc'!$A$2:$E$1001,5,0))","v":""}]
[null,null,null,null,null,null,null,null,null,null,null,"",{"$f":"IF(ISERROR(VLOOKUP($B528,'300ppi Resolution Calc'!$A$2:$E$1001,4,0)),\"\",VLOOKUP($B528,'300ppi Resolution Calc'!$A$2:$E$1001,4,0))","v":""},{"$f":"IF(ISERROR(VLOOKUP($B528,'300ppi Resolution Calc'!$A$2:$E$1001,5,0)),\"\",VLOOKUP($B528,'300ppi Resolution Calc'!$A$2:$E$1001,5,0))","v":""}]
[null,null,null,null,null,null,null,null,null,null,null,"",{"$f":"IF(ISERROR(VLOOKUP($B529,'300ppi Resolution Calc'!$A$2:$E$1001,4,0)),\"\",VLOOKUP($B529,'300ppi Resolution Calc'!$A$2:$E$1001,4,0))","v":""},{"$f":"IF(ISERROR(VLOOKUP($B529,'300ppi Resolution Calc'!$A$2:$E$1001,5,0)),\"\",VLOOKUP($B529,'300ppi Resolution Calc'!$A$2:$E$1001,5,0))","v":""}]
[null,null,null,null,null,null,null,null,null,null,null,"",{"$f":"IF(ISERROR(VLOOKUP($B530,'300ppi Resolution Calc'!$A$2:$E$1001,4,0)),\"\",VLOOKUP($B530,'300ppi Resolution Calc'!$A$2:$E$1001,4,0))","v":""},{"$f":"IF(ISERROR(VLOOKUP($B530,'300ppi Resolution Calc'!$A$2:$E$1001,5,0)),\"\",VLOOKUP($B530,'300ppi Resolution Calc'!$A$2:$E$1001,5,0))","v":""}]
[null,null,null,null,null,null,null,null,null,null,null,"",{"$f":"IF(ISERROR(VLOOKUP($B531,'300ppi Resolution Calc'!$A$2:$E$1001,4,0)),\"\",VLOOKUP($B531,'300ppi Resolution Calc'!$A$2:$E$1001,4,0))","v":""},{"$f":"IF(ISERROR(VLOOKUP($B531,'300ppi Resolution Calc'!$A$2:$E$1001,5,0)),\"\",VLOOKUP($B531,'300ppi Resolution Calc'!$A$2:$E$1001,5,0))","v":""}]
[null,null,null,null,null,null,null,null,null,null,null,"",{"$f":"IF(ISERROR(VLOOKUP($B532,'300ppi Resolution Calc'!$A$2:$E$1001,4,0)),\"\",VLOOKUP($B532,'300ppi Resolution Calc'!$A$2:$E$1001,4,0))","v":""},{"$f":"IF(ISERROR(VLOOKUP($B532,'300ppi Resolution Calc'!$A$2:$E$1001,5,0)),\"\",VLOOKUP($B532,'300ppi Resolution Calc'!$A$2:$E$1001,5,0))","v":""}]
[null,null,null,null,null,null,null,null,null,null,null,"",{"$f":"IF(ISERROR(VLOOKUP($B533,'300ppi Resolution Calc'!$A$2:$E$1001,4,0)),\"\",VLOOKUP($B533,'300ppi Resolution Calc'!$A$2:$E$1001,4,0))","v":""},{"$f":"IF(ISERROR(VLOOKUP($B533,'300ppi Resolution Calc'!$A$2:$E$1001,5,0)),\"\",VLOOKUP($B533,'300ppi Resolution Calc'!$A$2:$E$1001,5,0))","v":""}]
[null,null,null,null,null,null,null,null,null,null,null,"",{"$f":"IF(ISERROR(VLOOKUP($B534,'300ppi Resolution Calc'!$A$2:$E$1001,4,0)),\"\",VLOOKUP($B534,'300ppi Resolution Calc'!$A$2:$E$1001,4,0))","v":""},{"$f":"IF(ISERROR(VLOOKUP($B534,'300ppi Resolution Calc'!$A$2:$E$1001,5,0)),\"\",VLOOKUP($B534,'300ppi Resolution Calc'!$A$2:$E$1001,5,0))","v":""}]
[null,null,null,null,null,null,null,null,null,null,null,"",{"$f":"IF(ISERROR(VLOOKUP($B535,'300ppi Resolution Calc'!$A$2:$E$1001,4,0)),\"\",VLOOKUP($B535,'300ppi Resolution Calc'!$A$2:$E$1001,4,0))","v":""},{"$f":"IF(ISERROR(VLOOKUP($B535,'300ppi Resolution Calc'!$A$2:$E$1001,5,0)),\"\",VLOOKUP($B535,'300ppi Resolution Calc'!$A$2:$E$1001,5,0))","v":""}]
[null,null,null,null,null,null,null,null,null,null,null,"",{"$f":"IF(ISERROR(VLOOKUP($B536,'300ppi Resolution Calc'!$A$2:$E$1001,4,0)),\"\",VLOOKUP($B536,'300ppi Resolution Calc'!$A$2:$E$1001,4,0))","v":""},{"$f":"IF(ISERROR(VLOOKUP($B536,'300ppi Resolution Calc'!$A$2:$E$1001,5,0)),\"\",VLOOKUP($B536,'300ppi Resolution Calc'!$A$2:$E$1001,5,0))","v":""}]
[null,null,null,null,null,null,null,null,null,null,null,"",{"$f":"IF(ISERROR(VLOOKUP($B537,'300ppi Resolution Calc'!$A$2:$E$1001,4,0)),\"\",VLOOKUP($B537,'300ppi Resolution Calc'!$A$2:$E$1001,4,0))","v":""},{"$f":"IF(ISERROR(VLOOKUP($B537,'300ppi Resolution Calc'!$A$2:$E$1001,5,0)),\"\",VLOOKUP($B537,'300ppi Resolution Calc'!$A$2:$E$1001,5,0))","v":""}]
[null,null,null,null,null,null,null,null,null,null,null,"",{"$f":"IF(ISERROR(VLOOKUP($B538,'300ppi Resolution Calc'!$A$2:$E$1001,4,0)),\"\",VLOOKUP($B538,'300ppi Resolution Calc'!$A$2:$E$1001,4,0))","v":""},{"$f":"IF(ISERROR(VLOOKUP($B538,'300ppi Resolution Calc'!$A$2:$E$1001,5,0)),\"\",VLOOKUP($B538,'300ppi Resolution Calc'!$A$2:$E$1001,5,0))","v":""}]
[null,null,null,null,null,null,null,null,null,null,null,"",{"$f":"IF(ISERROR(VLOOKUP($B539,'300ppi Resolution Calc'!$A$2:$E$1001,4,0)),\"\",VLOOKUP($B539,'300ppi Resolution Calc'!$A$2:$E$1001,4,0))","v":""},{"$f":"IF(ISERROR(VLOOKUP($B539,'300ppi Resolution Calc'!$A$2:$E$1001,5,0)),\"\",VLOOKUP($B539,'300ppi Resolution Calc'!$A$2:$E$1001,5,0))","v":""}]
[null,null,null,null,null,null,null,null,null,null,null,"",{"$f":"IF(ISERROR(VLOOKUP($B540,'300ppi Resolution Calc'!$A$2:$E$1001,4,0)),\"\",VLOOKUP($B540,'300ppi Resolution Calc'!$A$2:$E$1001,4,0))","v":""},{"$f":"IF(ISERROR(VLOOKUP($B540,'300ppi Resolution Calc'!$A$2:$E$1001,5,0)),\"\",VLOOKUP($B540,'300ppi Resolution Calc'!$A$2:$E$1001,5,0))","v":""}]
[null,null,null,null,null,null,null,null,null,null,null,"",{"$f":"IF(ISERROR(VLOOKUP($B541,'300ppi Resolution Calc'!$A$2:$E$1001,4,0)),\"\",VLOOKUP($B541,'300ppi Resolution Calc'!$A$2:$E$1001,4,0))","v":""},{"$f":"IF(ISERROR(VLOOKUP($B541,'300ppi Resolution Calc'!$A$2:$E$1001,5,0)),\"\",VLOOKUP($B541,'300ppi Resolution Calc'!$A$2:$E$1001,5,0))","v":""}]
[null,null,null,null,null,null,null,null,null,null,null,"",{"$f":"IF(ISERROR(VLOOKUP($B542,'300ppi Resolution Calc'!$A$2:$E$1001,4,0)),\"\",VLOOKUP($B542,'300ppi Resolution Calc'!$A$2:$E$1001,4,0))","v":""},{"$f":"IF(ISERROR(VLOOKUP($B542,'300ppi Resolution Calc'!$A$2:$E$1001,5,0)),\"\",VLOOKUP($B542,'300ppi Resolution Calc'!$A$2:$E$1001,5,0))","v":""}]
[null,null,null,null,null,null,null,null,null,null,null,"",{"$f":"IF(ISERROR(VLOOKUP($B543,'300ppi Resolution Calc'!$A$2:$E$1001,4,0)),\"\",VLOOKUP($B543,'300ppi Resolution Calc'!$A$2:$E$1001,4,0))","v":""},{"$f":"IF(ISERROR(VLOOKUP($B543,'300ppi Resolution Calc'!$A$2:$E$1001,5,0)),\"\",VLOOKUP($B543,'300ppi Resolution Calc'!$A$2:$E$1001,5,0))","v":""}]
[null,null,null,null,null,null,null,null,null,null,null,"",{"$f":"IF(ISERROR(VLOOKUP($B544,'300ppi Resolution Calc'!$A$2:$E$1001,4,0)),\"\",VLOOKUP($B544,'300ppi Resolution Calc'!$A$2:$E$1001,4,0))","v":""},{"$f":"IF(ISERROR(VLOOKUP($B544,'300ppi Resolution Calc'!$A$2:$E$1001,5,0)),\"\",VLOOKUP($B544,'300ppi Resolution Calc'!$A$2:$E$1001,5,0))","v":""}]
[null,null,null,null,null,null,null,null,null,null,null,"",{"$f":"IF(ISERROR(VLOOKUP($B545,'300ppi Resolution Calc'!$A$2:$E$1001,4,0)),\"\",VLOOKUP($B545,'300ppi Resolution Calc'!$A$2:$E$1001,4,0))","v":""},{"$f":"IF(ISERROR(VLOOKUP($B545,'300ppi Resolution Calc'!$A$2:$E$1001,5,0)),\"\",VLOOKUP($B545,'300ppi Resolution Calc'!$A$2:$E$1001,5,0))","v":""}]
[null,null,null,null,null,null,null,null,null,null,null,"",{"$f":"IF(ISERROR(VLOOKUP($B546,'300ppi Resolution Calc'!$A$2:$E$1001,4,0)),\"\",VLOOKUP($B546,'300ppi Resolution Calc'!$A$2:$E$1001,4,0))","v":""},{"$f":"IF(ISERROR(VLOOKUP($B546,'300ppi Resolution Calc'!$A$2:$E$1001,5,0)),\"\",VLOOKUP($B546,'300ppi Resolution Calc'!$A$2:$E$1001,5,0))","v":""}]
[null,null,null,null,null,null,null,null,null,null,null,"",{"$f":"IF(ISERROR(VLOOKUP($B547,'300ppi Resolution Calc'!$A$2:$E$1001,4,0)),\"\",VLOOKUP($B547,'300ppi Resolution Calc'!$A$2:$E$1001,4,0))","v":""},{"$f":"IF(ISERROR(VLOOKUP($B547,'300ppi Resolution Calc'!$A$2:$E$1001,5,0)),\"\",VLOOKUP($B547,'300ppi Resolution Calc'!$A$2:$E$1001,5,0))","v":""}]
[null,null,null,null,null,null,null,null,null,null,null,"",{"$f":"IF(ISERROR(VLOOKUP($B548,'300ppi Resolution Calc'!$A$2:$E$1001,4,0)),\"\",VLOOKUP($B548,'300ppi Resolution Calc'!$A$2:$E$1001,4,0))","v":""},{"$f":"IF(ISERROR(VLOOKUP($B548,'300ppi Resolution Calc'!$A$2:$E$1001,5,0)),\"\",VLOOKUP($B548,'300ppi Resolution Calc'!$A$2:$E$1001,5,0))","v":""}]
[null,null,null,null,null,null,null,null,null,null,null,"",{"$f":"IF(ISERROR(VLOOKUP($B549,'300ppi Resolution Calc'!$A$2:$E$1001,4,0)),\"\",VLOOKUP($B549,'300ppi Resolution Calc'!$A$2:$E$1001,4,0))","v":""},{"$f":"IF(ISERROR(VLOOKUP($B549,'300ppi Resolution Calc'!$A$2:$E$1001,5,0)),\"\",VLOOKUP($B549,'300ppi Resolution Calc'!$A$2:$E$1001,5,0))","v":""}]
[null,null,null,null,null,null,null,null,null,null,null,"",{"$f":"IF(ISERROR(VLOOKUP($B550,'300ppi Resolution Calc'!$A$2:$E$1001,4,0)),\"\",VLOOKUP($B550,'300ppi Resolution Calc'!$A$2:$E$1001,4,0))","v":""},{"$f":"IF(ISERROR(VLOOKUP($B550,'300ppi Resolution Calc'!$A$2:$E$1001,5,0)),\"\",VLOOKUP($B550,'300ppi Resolution Calc'!$A$2:$E$1001,5,0))","v":""}]
[null,null,null,null,null,null,null,null,null,null,null,"",{"$f":"IF(ISERROR(VLOOKUP($B551,'300ppi Resolution Calc'!$A$2:$E$1001,4,0)),\"\",VLOOKUP($B551,'300ppi Resolution Calc'!$A$2:$E$1001,4,0))","v":""},{"$f":"IF(ISERROR(VLOOKUP($B551,'300ppi Resolution Calc'!$A$2:$E$1001,5,0)),\"\",VLOOKUP($B551,'300ppi Resolution Calc'!$A$2:$E$1001,5,0))","v":""}]
[null,null,null,null,null,null,null,null,null,null,null,"",{"$f":"IF(ISERROR(VLOOKUP($B552,'300ppi Resolution Calc'!$A$2:$E$1001,4,0)),\"\",VLOOKUP($B552,'300ppi Resolution Calc'!$A$2:$E$1001,4,0))","v":""},{"$f":"IF(ISERROR(VLOOKUP($B552,'300ppi Resolution Calc'!$A$2:$E$1001,5,0)),\"\",VLOOKUP($B552,'300ppi Resolution Calc'!$A$2:$E$1001,5,0))","v":""}]
[null,null,null,null,null,null,null,null,null,null,null,"",{"$f":"IF(ISERROR(VLOOKUP($B553,'300ppi Resolution Calc'!$A$2:$E$1001,4,0)),\"\",VLOOKUP($B553,'300ppi Resolution Calc'!$A$2:$E$1001,4,0))","v":""},{"$f":"IF(ISERROR(VLOOKUP($B553,'300ppi Resolution Calc'!$A$2:$E$1001,5,0)),\"\",VLOOKUP($B553,'300ppi Resolution Calc'!$A$2:$E$1001,5,0))","v":""}]
[null,null,null,null,null,null,null,null,null,null,null,"",{"$f":"IF(ISERROR(VLOOKUP($B554,'300ppi Resolution Calc'!$A$2:$E$1001,4,0)),\"\",VLOOKUP($B554,'300ppi Resolution Calc'!$A$2:$E$1001,4,0))","v":""},{"$f":"IF(ISERROR(VLOOKUP($B554,'300ppi Resolution Calc'!$A$2:$E$1001,5,0)),\"\",VLOOKUP($B554,'300ppi Resolution Calc'!$A$2:$E$1001,5,0))","v":""}]
[null,null,null,null,null,null,null,null,null,null,null,"",{"$f":"IF(ISERROR(VLOOKUP($B555,'300ppi Resolution Calc'!$A$2:$E$1001,4,0)),\"\",VLOOKUP($B555,'300ppi Resolution Calc'!$A$2:$E$1001,4,0))","v":""},{"$f":"IF(ISERROR(VLOOKUP($B555,'300ppi Resolution Calc'!$A$2:$E$1001,5,0)),\"\",VLOOKUP($B555,'300ppi Resolution Calc'!$A$2:$E$1001,5,0))","v":""}]
[null,null,null,null,null,null,null,null,null,null,null,"",{"$f":"IF(ISERROR(VLOOKUP($B556,'300ppi Resolution Calc'!$A$2:$E$1001,4,0)),\"\",VLOOKUP($B556,'300ppi Resolution Calc'!$A$2:$E$1001,4,0))","v":""},{"$f":"IF(ISERROR(VLOOKUP($B556,'300ppi Resolution Calc'!$A$2:$E$1001,5,0)),\"\",VLOOKUP($B556,'300ppi Resolution Calc'!$A$2:$E$1001,5,0))","v":""}]
[null,null,null,null,null,null,null,null,null,null,null,"",{"$f":"IF(ISERROR(VLOOKUP($B557,'300ppi Resolution Calc'!$A$2:$E$1001,4,0)),\"\",VLOOKUP($B557,'300ppi Resolution Calc'!$A$2:$E$1001,4,0))","v":""},{"$f":"IF(ISERROR(VLOOKUP($B557,'300ppi Resolution Calc'!$A$2:$E$1001,5,0)),\"\",VLOOKUP($B557,'300ppi Resolution Calc'!$A$2:$E$1001,5,0))","v":""}]
[null,null,null,null,null,null,null,null,null,null,null,"",{"$f":"IF(ISERROR(VLOOKUP($B558,'300ppi Resolution Calc'!$A$2:$E$1001,4,0)),\"\",VLOOKUP($B558,'300ppi Resolution Calc'!$A$2:$E$1001,4,0))","v":""},{"$f":"IF(ISERROR(VLOOKUP($B558,'300ppi Resolution Calc'!$A$2:$E$1001,5,0)),\"\",VLOOKUP($B558,'300ppi Resolution Calc'!$A$2:$E$1001,5,0))","v":""}]
[null,null,null,null,null,null,null,null,null,null,null,"",{"$f":"IF(ISERROR(VLOOKUP($B559,'300ppi Resolution Calc'!$A$2:$E$1001,4,0)),\"\",VLOOKUP($B559,'300ppi Resolution Calc'!$A$2:$E$1001,4,0))","v":""},{"$f":"IF(ISERROR(VLOOKUP($B559,'300ppi Resolution Calc'!$A$2:$E$1001,5,0)),\"\",VLOOKUP($B559,'300ppi Resolution Calc'!$A$2:$E$1001,5,0))","v":""}]
[null,null,null,null,null,null,null,null,null,null,null,"",{"$f":"IF(ISERROR(VLOOKUP($B560,'300ppi Resolution Calc'!$A$2:$E$1001,4,0)),\"\",VLOOKUP($B560,'300ppi Resolution Calc'!$A$2:$E$1001,4,0))","v":""},{"$f":"IF(ISERROR(VLOOKUP($B560,'300ppi Resolution Calc'!$A$2:$E$1001,5,0)),\"\",VLOOKUP($B560,'300ppi Resolution Calc'!$A$2:$E$1001,5,0))","v":""}]
[null,null,null,null,null,null,null,null,null,null,null,"",{"$f":"IF(ISERROR(VLOOKUP($B561,'300ppi Resolution Calc'!$A$2:$E$1001,4,0)),\"\",VLOOKUP($B561,'300ppi Resolution Calc'!$A$2:$E$1001,4,0))","v":""},{"$f":"IF(ISERROR(VLOOKUP($B561,'300ppi Resolution Calc'!$A$2:$E$1001,5,0)),\"\",VLOOKUP($B561,'300ppi Resolution Calc'!$A$2:$E$1001,5,0))","v":""}]
[null,null,null,null,null,null,null,null,null,null,null,"",{"$f":"IF(ISERROR(VLOOKUP($B562,'300ppi Resolution Calc'!$A$2:$E$1001,4,0)),\"\",VLOOKUP($B562,'300ppi Resolution Calc'!$A$2:$E$1001,4,0))","v":""},{"$f":"IF(ISERROR(VLOOKUP($B562,'300ppi Resolution Calc'!$A$2:$E$1001,5,0)),\"\",VLOOKUP($B562,'300ppi Resolution Calc'!$A$2:$E$1001,5,0))","v":""}]
[null,null,null,null,null,null,null,null,null,null,null,"",{"$f":"IF(ISERROR(VLOOKUP($B563,'300ppi Resolution Calc'!$A$2:$E$1001,4,0)),\"\",VLOOKUP($B563,'300ppi Resolution Calc'!$A$2:$E$1001,4,0))","v":""},{"$f":"IF(ISERROR(VLOOKUP($B563,'300ppi Resolution Calc'!$A$2:$E$1001,5,0)),\"\",VLOOKUP($B563,'300ppi Resolution Calc'!$A$2:$E$1001,5,0))","v":""}]
[null,null,null,null,null,null,null,null,null,null,null,"",{"$f":"IF(ISERROR(VLOOKUP($B564,'300ppi Resolution Calc'!$A$2:$E$1001,4,0)),\"\",VLOOKUP($B564,'300ppi Resolution Calc'!$A$2:$E$1001,4,0))","v":""},{"$f":"IF(ISERROR(VLOOKUP($B564,'300ppi Resolution Calc'!$A$2:$E$1001,5,0)),\"\",VLOOKUP($B564,'300ppi Resolution Calc'!$A$2:$E$1001,5,0))","v":""}]
[null,null,null,null,null,null,null,null,null,null,null,"",{"$f":"IF(ISERROR(VLOOKUP($B565,'300ppi Resolution Calc'!$A$2:$E$1001,4,0)),\"\",VLOOKUP($B565,'300ppi Resolution Calc'!$A$2:$E$1001,4,0))","v":""},{"$f":"IF(ISERROR(VLOOKUP($B565,'300ppi Resolution Calc'!$A$2:$E$1001,5,0)),\"\",VLOOKUP($B565,'300ppi Resolution Calc'!$A$2:$E$1001,5,0))","v":""}]
[null,null,null,null,null,null,null,null,null,null,null,"",{"$f":"IF(ISERROR(VLOOKUP($B566,'300ppi Resolution Calc'!$A$2:$E$1001,4,0)),\"\",VLOOKUP($B566,'300ppi Resolution Calc'!$A$2:$E$1001,4,0))","v":""},{"$f":"IF(ISERROR(VLOOKUP($B566,'300ppi Resolution Calc'!$A$2:$E$1001,5,0)),\"\",VLOOKUP($B566,'300ppi Resolution Calc'!$A$2:$E$1001,5,0))","v":""}]
[null,null,null,null,null,null,null,null,null,null,null,"",{"$f":"IF(ISERROR(VLOOKUP($B567,'300ppi Resolution Calc'!$A$2:$E$1001,4,0)),\"\",VLOOKUP($B567,'300ppi Resolution Calc'!$A$2:$E$1001,4,0))","v":""},{"$f":"IF(ISERROR(VLOOKUP($B567,'300ppi Resolution Calc'!$A$2:$E$1001,5,0)),\"\",VLOOKUP($B567,'300ppi Resolution Calc'!$A$2:$E$1001,5,0))","v":""}]
[null,null,null,null,null,null,null,null,null,null,null,"",{"$f":"IF(ISERROR(VLOOKUP($B568,'300ppi Resolution Calc'!$A$2:$E$1001,4,0)),\"\",VLOOKUP($B568,'300ppi Resolution Calc'!$A$2:$E$1001,4,0))","v":""},{"$f":"IF(ISERROR(VLOOKUP($B568,'300ppi Resolution Calc'!$A$2:$E$1001,5,0)),\"\",VLOOKUP($B568,'300ppi Resolution Calc'!$A$2:$E$1001,5,0))","v":""}]
[null,null,null,null,null,null,null,null,null,null,null,"",{"$f":"IF(ISERROR(VLOOKUP($B569,'300ppi Resolution Calc'!$A$2:$E$1001,4,0)),\"\",VLOOKUP($B569,'300ppi Resolution Calc'!$A$2:$E$1001,4,0))","v":""},{"$f":"IF(ISERROR(VLOOKUP($B569,'300ppi Resolution Calc'!$A$2:$E$1001,5,0)),\"\",VLOOKUP($B569,'300ppi Resolution Calc'!$A$2:$E$1001,5,0))","v":""}]
[null,null,null,null,null,null,null,null,null,null,null,"",{"$f":"IF(ISERROR(VLOOKUP($B570,'300ppi Resolution Calc'!$A$2:$E$1001,4,0)),\"\",VLOOKUP($B570,'300ppi Resolution Calc'!$A$2:$E$1001,4,0))","v":""},{"$f":"IF(ISERROR(VLOOKUP($B570,'300ppi Resolution Calc'!$A$2:$E$1001,5,0)),\"\",VLOOKUP($B570,'300ppi Resolution Calc'!$A$2:$E$1001,5,0))","v":""}]
[null,null,null,null,null,null,null,null,null,null,null,"",{"$f":"IF(ISERROR(VLOOKUP($B571,'300ppi Resolution Calc'!$A$2:$E$1001,4,0)),\"\",VLOOKUP($B571,'300ppi Resolution Calc'!$A$2:$E$1001,4,0))","v":""},{"$f":"IF(ISERROR(VLOOKUP($B571,'300ppi Resolution Calc'!$A$2:$E$1001,5,0)),\"\",VLOOKUP($B571,'300ppi Resolution Calc'!$A$2:$E$1001,5,0))","v":""}]
[null,null,null,null,null,null,null,null,null,null,null,"",{"$f":"IF(ISERROR(VLOOKUP($B572,'300ppi Resolution Calc'!$A$2:$E$1001,4,0)),\"\",VLOOKUP($B572,'300ppi Resolution Calc'!$A$2:$E$1001,4,0))","v":""},{"$f":"IF(ISERROR(VLOOKUP($B572,'300ppi Resolution Calc'!$A$2:$E$1001,5,0)),\"\",VLOOKUP($B572,'300ppi Resolution Calc'!$A$2:$E$1001,5,0))","v":""}]
[null,null,null,null,null,null,null,null,null,null,null,"",{"$f":"IF(ISERROR(VLOOKUP($B573,'300ppi Resolution Calc'!$A$2:$E$1001,4,0)),\"\",VLOOKUP($B573,'300ppi Resolution Calc'!$A$2:$E$1001,4,0))","v":""},{"$f":"IF(ISERROR(VLOOKUP($B573,'300ppi Resolution Calc'!$A$2:$E$1001,5,0)),\"\",VLOOKUP($B573,'300ppi Resolution Calc'!$A$2:$E$1001,5,0))","v":""}]
[null,null,null,null,null,null,null,null,null,null,null,"",{"$f":"IF(ISERROR(VLOOKUP($B574,'300ppi Resolution Calc'!$A$2:$E$1001,4,0)),\"\",VLOOKUP($B574,'300ppi Resolution Calc'!$A$2:$E$1001,4,0))","v":""},{"$f":"IF(ISERROR(VLOOKUP($B574,'300ppi Resolution Calc'!$A$2:$E$1001,5,0)),\"\",VLOOKUP($B574,'300ppi Resolution Calc'!$A$2:$E$1001,5,0))","v":""}]
[null,null,null,null,null,null,null,null,null,null,null,"",{"$f":"IF(ISERROR(VLOOKUP($B575,'300ppi Resolution Calc'!$A$2:$E$1001,4,0)),\"\",VLOOKUP($B575,'300ppi Resolution Calc'!$A$2:$E$1001,4,0))","v":""},{"$f":"IF(ISERROR(VLOOKUP($B575,'300ppi Resolution Calc'!$A$2:$E$1001,5,0)),\"\",VLOOKUP($B575,'300ppi Resolution Calc'!$A$2:$E$1001,5,0))","v":""}]
[null,null,null,null,null,null,null,null,null,null,null,"",{"$f":"IF(ISERROR(VLOOKUP($B576,'300ppi Resolution Calc'!$A$2:$E$1001,4,0)),\"\",VLOOKUP($B576,'300ppi Resolution Calc'!$A$2:$E$1001,4,0))","v":""},{"$f":"IF(ISERROR(VLOOKUP($B576,'300ppi Resolution Calc'!$A$2:$E$1001,5,0)),\"\",VLOOKUP($B576,'300ppi Resolution Calc'!$A$2:$E$1001,5,0))","v":""}]
[null,null,null,null,null,null,null,null,null,null,null,"",{"$f":"IF(ISERROR(VLOOKUP($B577,'300ppi Resolution Calc'!$A$2:$E$1001,4,0)),\"\",VLOOKUP($B577,'300ppi Resolution Calc'!$A$2:$E$1001,4,0))","v":""},{"$f":"IF(ISERROR(VLOOKUP($B577,'300ppi Resolution Calc'!$A$2:$E$1001,5,0)),\"\",VLOOKUP($B577,'300ppi Resolution Calc'!$A$2:$E$1001,5,0))","v":""}]
[null,null,null,null,null,null,null,null,null,null,null,"",{"$f":"IF(ISERROR(VLOOKUP($B578,'300ppi Resolution Calc'!$A$2:$E$1001,4,0)),\"\",VLOOKUP($B578,'300ppi Resolution Calc'!$A$2:$E$1001,4,0))","v":""},{"$f":"IF(ISERROR(VLOOKUP($B578,'300ppi Resolution Calc'!$A$2:$E$1001,5,0)),\"\",VLOOKUP($B578,'300ppi Resolution Calc'!$A$2:$E$1001,5,0))","v":""}]
[null,null,null,null,null,null,null,null,null,null,null,"",{"$f":"IF(ISERROR(VLOOKUP($B579,'300ppi Resolution Calc'!$A$2:$E$1001,4,0)),\"\",VLOOKUP($B579,'300ppi Resolution Calc'!$A$2:$E$1001,4,0))","v":""},{"$f":"IF(ISERROR(VLOOKUP($B579,'300ppi Resolution Calc'!$A$2:$E$1001,5,0)),\"\",VLOOKUP($B579,'300ppi Resolution Calc'!$A$2:$E$1001,5,0))","v":""}]
[null,null,null,null,null,null,null,null,null,null,null,"",{"$f":"IF(ISERROR(VLOOKUP($B580,'300ppi Resolution Calc'!$A$2:$E$1001,4,0)),\"\",VLOOKUP($B580,'300ppi Resolution Calc'!$A$2:$E$1001,4,0))","v":""},{"$f":"IF(ISERROR(VLOOKUP($B580,'300ppi Resolution Calc'!$A$2:$E$1001,5,0)),\"\",VLOOKUP($B580,'300ppi Resolution Calc'!$A$2:$E$1001,5,0))","v":""}]
[null,null,null,null,null,null,null,null,null,null,null,"",{"$f":"IF(ISERROR(VLOOKUP($B581,'300ppi Resolution Calc'!$A$2:$E$1001,4,0)),\"\",VLOOKUP($B581,'300ppi Resolution Calc'!$A$2:$E$1001,4,0))","v":""},{"$f":"IF(ISERROR(VLOOKUP($B581,'300ppi Resolution Calc'!$A$2:$E$1001,5,0)),\"\",VLOOKUP($B581,'300ppi Resolution Calc'!$A$2:$E$1001,5,0))","v":""}]
[null,null,null,null,null,null,null,null,null,null,null,"",{"$f":"IF(ISERROR(VLOOKUP($B582,'300ppi Resolution Calc'!$A$2:$E$1001,4,0)),\"\",VLOOKUP($B582,'300ppi Resolution Calc'!$A$2:$E$1001,4,0))","v":""},{"$f":"IF(ISERROR(VLOOKUP($B582,'300ppi Resolution Calc'!$A$2:$E$1001,5,0)),\"\",VLOOKUP($B582,'300ppi Resolution Calc'!$A$2:$E$1001,5,0))","v":""}]
[null,null,null,null,null,null,null,null,null,null,null,"",{"$f":"IF(ISERROR(VLOOKUP($B583,'300ppi Resolution Calc'!$A$2:$E$1001,4,0)),\"\",VLOOKUP($B583,'300ppi Resolution Calc'!$A$2:$E$1001,4,0))","v":""},{"$f":"IF(ISERROR(VLOOKUP($B583,'300ppi Resolution Calc'!$A$2:$E$1001,5,0)),\"\",VLOOKUP($B583,'300ppi Resolution Calc'!$A$2:$E$1001,5,0))","v":""}]
[null,null,null,null,null,null,null,null,null,null,null,{"$f":"IF(AND(I584=\"Creative Commons License\",ISNUMBER(SEARCH(\"(\",J584))),CONCATENATE(B584,\": \",\"Copyright © by \",F584,\" \",J584,\" at \",D584,\".\"),\nIF(AND(I584=\"Creative Commons License\",NOT(ISNUMBER(SEARCH(\"(\",J584)))),CONCATENATE(B584,\": \",\"Copyright © by \",F584,\" (\",J584,\") at \",D584,\".\"),\nIF(I584=\"Public Domain\",CONCATENATE(B584,\": Source: \",D584,\".\"),\nIF(AND(I584=\"Fair Use\",OR(ISNUMBER(SEARCH(\"discuss\",J584)),ISNUMBER(SEARCH(\"critique\",J584)))),CONCATENATE(B584,\": \",\"Copyright © by \",F584,\".\"),\nIF(AND(I584=\"Fair Use\",NOT(OR(ISNUMBER(SEARCH(\"discuss\",J584)),ISNUMBER(SEARCH(\"critique\",J584))))),CONCATENATE(B584,\": Source: \",D584,\".\"),\nIF(AND(I584=\"Request to Rights Holder\",ISBLANK(E584),NOT(ISNUMBER(SEARCH(\"depositphotos\",D584))),NOT(ISNUMBER(SEARCH(\"FAL \",J584))),NOT(ISNUMBER(SEARCH(\"GNU \",J584)))),CONCATENATE(B584,\": \",\"Copyright ©\",\" by \",F584,\".\",\" Reprinted with permission.\"),\nIF(AND(I584=\"Request to Rights Holder\",NOT(ISBLANK(E584)),NOT(ISNUMBER(SEARCH(\"depositphotos\",D584))),NOT(ISNUMBER(SEARCH(\"FAL \",J584))),NOT(ISNUMBER(SEARCH(\"GNU \",J584)))),CONCATENATE(B584,\": \",\"Copyright © \",E584,\" by \",F584,\".\",\" Reprinted with permission.\"),\nIF(AND(I584=\"Request to Rights Holder\",NOT(ISBLANK(E584)),ISNUMBER(SEARCH(\"depositphotos\",D584))),CONCATENATE(B584,\":\",\" Copyright © \",E584,\" Depositphotos\",\"/\",F584,\".\"),\nIF(AND(I584=\"Request to Rights Holder\",ISBLANK(E584),ISNUMBER(SEARCH(\"depositphotos\",D584))),CONCATENATE(B584,\":\",\" Copyright © \",E584,\"Depositphotos\",\"/\",F584,\".\"),\nIF(AND(I584=\"Request to Rights Holder\",ISNUMBER(SEARCH(\"FAL \",J584)),ISNUMBER(SEARCH(\"(\",J584))),CONCATENATE(B584,\": \",\"Copyright © by \",F584,\" \",J584,\" at \",D584,\". A copy of the license can be found here: http://artlibre.org/licence/lal/en.\"),\nIF(AND(I584=\"Request to Rights Holder\",ISNUMBER(SEARCH(\"FAL \",J584)),NOT(ISNUMBER(SEARCH(\"(\",J584)))),CONCATENATE(B584,\": \",\"Copyright © by \",F584,\" (\",J584,\") at \",D584,\". A copy of the license can be found here: http://artlibre.org/licence/lal/en.\"),\nIF(AND(I584=\"Request to Rights Holder\",ISNUMBER(SEARCH(\"GNU \",J584)),ISNUMBER(SEARCH(\"(\",J584))),CONCATENATE(B584,\": \",\"Copyright © by \",F584,\" \",J584,\" at \",D584,\". A copy of the license can be found here: http://www.gnu.org/licenses/gpl.html\"),\nIF(AND(I584=\"Request to Rights Holder\",ISNUMBER(SEARCH(\"GNU \",J584)),NOT(ISNUMBER(SEARCH(\"(\",J584)))),CONCATENATE(B584,\": \",\"Copyright © by \",F584,\" (\",J584,\") at \",D584,\". A copy of the license can be found here: http://www.gnu.org/licenses/gpl.html\"),\n\"\")))))))))))))","v":""},{"$f":"IF(ISERROR(VLOOKUP($B584,'300ppi Resolution Calc'!$A$2:$E$1001,4,0)),\"\",VLOOKUP($B584,'300ppi Resolution Calc'!$A$2:$E$1001,4,0))","v":""},{"$f":"IF(ISERROR(VLOOKUP($B584,'300ppi Resolution Calc'!$A$2:$E$1001,5,0)),\"\",VLOOKUP($B584,'300ppi Resolution Calc'!$A$2:$E$1001,5,0))","v":""}]
[null,null,null,null,null,null,null,null,null,null,null,"",{"$f":"IF(ISERROR(VLOOKUP($B585,'300ppi Resolution Calc'!$A$2:$E$1001,4,0)),\"\",VLOOKUP($B585,'300ppi Resolution Calc'!$A$2:$E$1001,4,0))","v":""},{"$f":"IF(ISERROR(VLOOKUP($B585,'300ppi Resolution Calc'!$A$2:$E$1001,5,0)),\"\",VLOOKUP($B585,'300ppi Resolution Calc'!$A$2:$E$1001,5,0))","v":""}]
[null,null,null,null,null,null,null,null,null,null,null,"",{"$f":"IF(ISERROR(VLOOKUP($B586,'300ppi Resolution Calc'!$A$2:$E$1001,4,0)),\"\",VLOOKUP($B586,'300ppi Resolution Calc'!$A$2:$E$1001,4,0))","v":""},{"$f":"IF(ISERROR(VLOOKUP($B586,'300ppi Resolution Calc'!$A$2:$E$1001,5,0)),\"\",VLOOKUP($B586,'300ppi Resolution Calc'!$A$2:$E$1001,5,0))","v":""}]
[null,null,null,null,null,null,null,null,null,null,null,"",{"$f":"IF(ISERROR(VLOOKUP($B587,'300ppi Resolution Calc'!$A$2:$E$1001,4,0)),\"\",VLOOKUP($B587,'300ppi Resolution Calc'!$A$2:$E$1001,4,0))","v":""},{"$f":"IF(ISERROR(VLOOKUP($B587,'300ppi Resolution Calc'!$A$2:$E$1001,5,0)),\"\",VLOOKUP($B587,'300ppi Resolution Calc'!$A$2:$E$1001,5,0))","v":""}]
[null,null,null,null,null,null,null,null,null,null,null,"",{"$f":"IF(ISERROR(VLOOKUP($B588,'300ppi Resolution Calc'!$A$2:$E$1001,4,0)),\"\",VLOOKUP($B588,'300ppi Resolution Calc'!$A$2:$E$1001,4,0))","v":""},{"$f":"IF(ISERROR(VLOOKUP($B588,'300ppi Resolution Calc'!$A$2:$E$1001,5,0)),\"\",VLOOKUP($B588,'300ppi Resolution Calc'!$A$2:$E$1001,5,0))","v":""}]
[null,null,null,null,null,null,null,null,null,null,null,"",{"$f":"IF(ISERROR(VLOOKUP($B589,'300ppi Resolution Calc'!$A$2:$E$1001,4,0)),\"\",VLOOKUP($B589,'300ppi Resolution Calc'!$A$2:$E$1001,4,0))","v":""},{"$f":"IF(ISERROR(VLOOKUP($B589,'300ppi Resolution Calc'!$A$2:$E$1001,5,0)),\"\",VLOOKUP($B589,'300ppi Resolution Calc'!$A$2:$E$1001,5,0))","v":""}]
[null,null,null,null,null,null,null,null,null,null,null,"",{"$f":"IF(ISERROR(VLOOKUP($B590,'300ppi Resolution Calc'!$A$2:$E$1001,4,0)),\"\",VLOOKUP($B590,'300ppi Resolution Calc'!$A$2:$E$1001,4,0))","v":""},{"$f":"IF(ISERROR(VLOOKUP($B590,'300ppi Resolution Calc'!$A$2:$E$1001,5,0)),\"\",VLOOKUP($B590,'300ppi Resolution Calc'!$A$2:$E$1001,5,0))","v":""}]
[null,null,null,null,null,null,null,null,null,null,null,"",{"$f":"IF(ISERROR(VLOOKUP($B591,'300ppi Resolution Calc'!$A$2:$E$1001,4,0)),\"\",VLOOKUP($B591,'300ppi Resolution Calc'!$A$2:$E$1001,4,0))","v":""},{"$f":"IF(ISERROR(VLOOKUP($B591,'300ppi Resolution Calc'!$A$2:$E$1001,5,0)),\"\",VLOOKUP($B591,'300ppi Resolution Calc'!$A$2:$E$1001,5,0))","v":""}]
[null,null,null,null,null,null,null,null,null,null,null,"",{"$f":"IF(ISERROR(VLOOKUP($B592,'300ppi Resolution Calc'!$A$2:$E$1001,4,0)),\"\",VLOOKUP($B592,'300ppi Resolution Calc'!$A$2:$E$1001,4,0))","v":""},{"$f":"IF(ISERROR(VLOOKUP($B592,'300ppi Resolution Calc'!$A$2:$E$1001,5,0)),\"\",VLOOKUP($B592,'300ppi Resolution Calc'!$A$2:$E$1001,5,0))","v":""}]
[null,null,null,null,null,null,null,null,null,null,null,"",{"$f":"IF(ISERROR(VLOOKUP($B593,'300ppi Resolution Calc'!$A$2:$E$1001,4,0)),\"\",VLOOKUP($B593,'300ppi Resolution Calc'!$A$2:$E$1001,4,0))","v":""},{"$f":"IF(ISERROR(VLOOKUP($B593,'300ppi Resolution Calc'!$A$2:$E$1001,5,0)),\"\",VLOOKUP($B593,'300ppi Resolution Calc'!$A$2:$E$1001,5,0))","v":""}]
[null,null,null,null,null,null,null,null,null,null,null,"",{"$f":"IF(ISERROR(VLOOKUP($B594,'300ppi Resolution Calc'!$A$2:$E$1001,4,0)),\"\",VLOOKUP($B594,'300ppi Resolution Calc'!$A$2:$E$1001,4,0))","v":""},{"$f":"IF(ISERROR(VLOOKUP($B594,'300ppi Resolution Calc'!$A$2:$E$1001,5,0)),\"\",VLOOKUP($B594,'300ppi Resolution Calc'!$A$2:$E$1001,5,0))","v":""}]
[null,null,null,null,null,null,null,null,null,null,null,"",{"$f":"IF(ISERROR(VLOOKUP($B595,'300ppi Resolution Calc'!$A$2:$E$1001,4,0)),\"\",VLOOKUP($B595,'300ppi Resolution Calc'!$A$2:$E$1001,4,0))","v":""},{"$f":"IF(ISERROR(VLOOKUP($B595,'300ppi Resolution Calc'!$A$2:$E$1001,5,0)),\"\",VLOOKUP($B595,'300ppi Resolution Calc'!$A$2:$E$1001,5,0))","v":""}]
[null,null,null,null,null,null,null,null,null,null,null,"",{"$f":"IF(ISERROR(VLOOKUP($B596,'300ppi Resolution Calc'!$A$2:$E$1001,4,0)),\"\",VLOOKUP($B596,'300ppi Resolution Calc'!$A$2:$E$1001,4,0))","v":""},{"$f":"IF(ISERROR(VLOOKUP($B596,'300ppi Resolution Calc'!$A$2:$E$1001,5,0)),\"\",VLOOKUP($B596,'300ppi Resolution Calc'!$A$2:$E$1001,5,0))","v":""}]
[null,null,null,null,null,null,null,null,null,null,null,"",{"$f":"IF(ISERROR(VLOOKUP($B597,'300ppi Resolution Calc'!$A$2:$E$1001,4,0)),\"\",VLOOKUP($B597,'300ppi Resolution Calc'!$A$2:$E$1001,4,0))","v":""},{"$f":"IF(ISERROR(VLOOKUP($B597,'300ppi Resolution Calc'!$A$2:$E$1001,5,0)),\"\",VLOOKUP($B597,'300ppi Resolution Calc'!$A$2:$E$1001,5,0))","v":""}]
[null,null,null,null,null,null,null,null,null,null,null,"",{"$f":"IF(ISERROR(VLOOKUP($B598,'300ppi Resolution Calc'!$A$2:$E$1001,4,0)),\"\",VLOOKUP($B598,'300ppi Resolution Calc'!$A$2:$E$1001,4,0))","v":""},{"$f":"IF(ISERROR(VLOOKUP($B598,'300ppi Resolution Calc'!$A$2:$E$1001,5,0)),\"\",VLOOKUP($B598,'300ppi Resolution Calc'!$A$2:$E$1001,5,0))","v":""}]
[null,null,null,null,null,null,null,null,null,null,null,"",{"$f":"IF(ISERROR(VLOOKUP($B599,'300ppi Resolution Calc'!$A$2:$E$1001,4,0)),\"\",VLOOKUP($B599,'300ppi Resolution Calc'!$A$2:$E$1001,4,0))","v":""},{"$f":"IF(ISERROR(VLOOKUP($B599,'300ppi Resolution Calc'!$A$2:$E$1001,5,0)),\"\",VLOOKUP($B599,'300ppi Resolution Calc'!$A$2:$E$1001,5,0))","v":""}]
[null,null,null,null,null,null,null,null,null,null,null,"",{"$f":"IF(ISERROR(VLOOKUP($B600,'300ppi Resolution Calc'!$A$2:$E$1001,4,0)),\"\",VLOOKUP($B600,'300ppi Resolution Calc'!$A$2:$E$1001,4,0))","v":""},{"$f":"IF(ISERROR(VLOOKUP($B600,'300ppi Resolution Calc'!$A$2:$E$1001,5,0)),\"\",VLOOKUP($B600,'300ppi Resolution Calc'!$A$2:$E$1001,5,0))","v":""}]
[null,null,null,null,null,null,null,null,null,null,null,"",{"$f":"IF(ISERROR(VLOOKUP($B601,'300ppi Resolution Calc'!$A$2:$E$1001,4,0)),\"\",VLOOKUP($B601,'300ppi Resolution Calc'!$A$2:$E$1001,4,0))","v":""},{"$f":"IF(ISERROR(VLOOKUP($B601,'300ppi Resolution Calc'!$A$2:$E$1001,5,0)),\"\",VLOOKUP($B601,'300ppi Resolution Calc'!$A$2:$E$1001,5,0))","v":""}]
[null,null,null,null,null,null,null,null,null,null,null,"",{"$f":"IF(ISERROR(VLOOKUP($B602,'300ppi Resolution Calc'!$A$2:$E$1001,4,0)),\"\",VLOOKUP($B602,'300ppi Resolution Calc'!$A$2:$E$1001,4,0))","v":""},{"$f":"IF(ISERROR(VLOOKUP($B602,'300ppi Resolution Calc'!$A$2:$E$1001,5,0)),\"\",VLOOKUP($B602,'300ppi Resolution Calc'!$A$2:$E$1001,5,0))","v":""}]
[null,null,null,null,null,null,null,null,null,null,null,"",{"$f":"IF(ISERROR(VLOOKUP($B603,'300ppi Resolution Calc'!$A$2:$E$1001,4,0)),\"\",VLOOKUP($B603,'300ppi Resolution Calc'!$A$2:$E$1001,4,0))","v":""},{"$f":"IF(ISERROR(VLOOKUP($B603,'300ppi Resolution Calc'!$A$2:$E$1001,5,0)),\"\",VLOOKUP($B603,'300ppi Resolution Calc'!$A$2:$E$1001,5,0))","v":""}]
[null,null,null,null,null,null,null,null,null,null,null,"",{"$f":"IF(ISERROR(VLOOKUP($B604,'300ppi Resolution Calc'!$A$2:$E$1001,4,0)),\"\",VLOOKUP($B604,'300ppi Resolution Calc'!$A$2:$E$1001,4,0))","v":""},{"$f":"IF(ISERROR(VLOOKUP($B604,'300ppi Resolution Calc'!$A$2:$E$1001,5,0)),\"\",VLOOKUP($B604,'300ppi Resolution Calc'!$A$2:$E$1001,5,0))","v":""}]
[null,null,null,null,null,null,null,null,null,null,null,"",{"$f":"IF(ISERROR(VLOOKUP($B605,'300ppi Resolution Calc'!$A$2:$E$1001,4,0)),\"\",VLOOKUP($B605,'300ppi Resolution Calc'!$A$2:$E$1001,4,0))","v":""},{"$f":"IF(ISERROR(VLOOKUP($B605,'300ppi Resolution Calc'!$A$2:$E$1001,5,0)),\"\",VLOOKUP($B605,'300ppi Resolution Calc'!$A$2:$E$1001,5,0))","v":""}]
[null,null,null,null,null,null,null,null,null,null,null,"",{"$f":"IF(ISERROR(VLOOKUP($B606,'300ppi Resolution Calc'!$A$2:$E$1001,4,0)),\"\",VLOOKUP($B606,'300ppi Resolution Calc'!$A$2:$E$1001,4,0))","v":""},{"$f":"IF(ISERROR(VLOOKUP($B606,'300ppi Resolution Calc'!$A$2:$E$1001,5,0)),\"\",VLOOKUP($B606,'300ppi Resolution Calc'!$A$2:$E$1001,5,0))","v":""}]
[null,null,null,null,null,null,null,null,null,null,null,"",{"$f":"IF(ISERROR(VLOOKUP($B607,'300ppi Resolution Calc'!$A$2:$E$1001,4,0)),\"\",VLOOKUP($B607,'300ppi Resolution Calc'!$A$2:$E$1001,4,0))","v":""},{"$f":"IF(ISERROR(VLOOKUP($B607,'300ppi Resolution Calc'!$A$2:$E$1001,5,0)),\"\",VLOOKUP($B607,'300ppi Resolution Calc'!$A$2:$E$1001,5,0))","v":""}]
[null,null,null,null,null,null,null,null,null,null,null,"",{"$f":"IF(ISERROR(VLOOKUP($B608,'300ppi Resolution Calc'!$A$2:$E$1001,4,0)),\"\",VLOOKUP($B608,'300ppi Resolution Calc'!$A$2:$E$1001,4,0))","v":""},{"$f":"IF(ISERROR(VLOOKUP($B608,'300ppi Resolution Calc'!$A$2:$E$1001,5,0)),\"\",VLOOKUP($B608,'300ppi Resolution Calc'!$A$2:$E$1001,5,0))","v":""}]
[null,null,null,null,null,null,null,null,null,null,null,"",{"$f":"IF(ISERROR(VLOOKUP($B609,'300ppi Resolution Calc'!$A$2:$E$1001,4,0)),\"\",VLOOKUP($B609,'300ppi Resolution Calc'!$A$2:$E$1001,4,0))","v":""},{"$f":"IF(ISERROR(VLOOKUP($B609,'300ppi Resolution Calc'!$A$2:$E$1001,5,0)),\"\",VLOOKUP($B609,'300ppi Resolution Calc'!$A$2:$E$1001,5,0))","v":""}]
[null,null,null,null,null,null,null,null,null,null,null,"",{"$f":"IF(ISERROR(VLOOKUP($B610,'300ppi Resolution Calc'!$A$2:$E$1001,4,0)),\"\",VLOOKUP($B610,'300ppi Resolution Calc'!$A$2:$E$1001,4,0))","v":""},{"$f":"IF(ISERROR(VLOOKUP($B610,'300ppi Resolution Calc'!$A$2:$E$1001,5,0)),\"\",VLOOKUP($B610,'300ppi Resolution Calc'!$A$2:$E$1001,5,0))","v":""}]
[null,null,null,null,null,null,null,null,null,null,null,"",{"$f":"IF(ISERROR(VLOOKUP($B611,'300ppi Resolution Calc'!$A$2:$E$1001,4,0)),\"\",VLOOKUP($B611,'300ppi Resolution Calc'!$A$2:$E$1001,4,0))","v":""},{"$f":"IF(ISERROR(VLOOKUP($B611,'300ppi Resolution Calc'!$A$2:$E$1001,5,0)),\"\",VLOOKUP($B611,'300ppi Resolution Calc'!$A$2:$E$1001,5,0))","v":""}]
[null,null,null,null,null,null,null,null,null,null,null,"",{"$f":"IF(ISERROR(VLOOKUP($B612,'300ppi Resolution Calc'!$A$2:$E$1001,4,0)),\"\",VLOOKUP($B612,'300ppi Resolution Calc'!$A$2:$E$1001,4,0))","v":""},{"$f":"IF(ISERROR(VLOOKUP($B612,'300ppi Resolution Calc'!$A$2:$E$1001,5,0)),\"\",VLOOKUP($B612,'300ppi Resolution Calc'!$A$2:$E$1001,5,0))","v":""}]
[null,null,null,null,null,null,null,null,null,null,null,"",{"$f":"IF(ISERROR(VLOOKUP($B613,'300ppi Resolution Calc'!$A$2:$E$1001,4,0)),\"\",VLOOKUP($B613,'300ppi Resolution Calc'!$A$2:$E$1001,4,0))","v":""},{"$f":"IF(ISERROR(VLOOKUP($B613,'300ppi Resolution Calc'!$A$2:$E$1001,5,0)),\"\",VLOOKUP($B613,'300ppi Resolution Calc'!$A$2:$E$1001,5,0))","v":""}]
[null,null,null,null,null,null,null,null,null,null,null,"",{"$f":"IF(ISERROR(VLOOKUP($B614,'300ppi Resolution Calc'!$A$2:$E$1001,4,0)),\"\",VLOOKUP($B614,'300ppi Resolution Calc'!$A$2:$E$1001,4,0))","v":""},{"$f":"IF(ISERROR(VLOOKUP($B614,'300ppi Resolution Calc'!$A$2:$E$1001,5,0)),\"\",VLOOKUP($B614,'300ppi Resolution Calc'!$A$2:$E$1001,5,0))","v":""}]
[null,null,null,null,null,null,null,null,null,null,null,"",{"$f":"IF(ISERROR(VLOOKUP($B615,'300ppi Resolution Calc'!$A$2:$E$1001,4,0)),\"\",VLOOKUP($B615,'300ppi Resolution Calc'!$A$2:$E$1001,4,0))","v":""},{"$f":"IF(ISERROR(VLOOKUP($B615,'300ppi Resolution Calc'!$A$2:$E$1001,5,0)),\"\",VLOOKUP($B615,'300ppi Resolution Calc'!$A$2:$E$1001,5,0))","v":""}]
[null,null,null,null,null,null,null,null,null,null,null,"",{"$f":"IF(ISERROR(VLOOKUP($B616,'300ppi Resolution Calc'!$A$2:$E$1001,4,0)),\"\",VLOOKUP($B616,'300ppi Resolution Calc'!$A$2:$E$1001,4,0))","v":""},{"$f":"IF(ISERROR(VLOOKUP($B616,'300ppi Resolution Calc'!$A$2:$E$1001,5,0)),\"\",VLOOKUP($B616,'300ppi Resolution Calc'!$A$2:$E$1001,5,0))","v":""}]
[null,null,null,null,null,null,null,null,null,null,null,"",{"$f":"IF(ISERROR(VLOOKUP($B617,'300ppi Resolution Calc'!$A$2:$E$1001,4,0)),\"\",VLOOKUP($B617,'300ppi Resolution Calc'!$A$2:$E$1001,4,0))","v":""},{"$f":"IF(ISERROR(VLOOKUP($B617,'300ppi Resolution Calc'!$A$2:$E$1001,5,0)),\"\",VLOOKUP($B617,'300ppi Resolution Calc'!$A$2:$E$1001,5,0))","v":""}]
[null,null,null,null,null,null,null,null,null,null,null,"",{"$f":"IF(ISERROR(VLOOKUP($B618,'300ppi Resolution Calc'!$A$2:$E$1001,4,0)),\"\",VLOOKUP($B618,'300ppi Resolution Calc'!$A$2:$E$1001,4,0))","v":""},{"$f":"IF(ISERROR(VLOOKUP($B618,'300ppi Resolution Calc'!$A$2:$E$1001,5,0)),\"\",VLOOKUP($B618,'300ppi Resolution Calc'!$A$2:$E$1001,5,0))","v":""}]
[null,null,null,null,null,null,null,null,null,null,null,"",{"$f":"IF(ISERROR(VLOOKUP($B619,'300ppi Resolution Calc'!$A$2:$E$1001,4,0)),\"\",VLOOKUP($B619,'300ppi Resolution Calc'!$A$2:$E$1001,4,0))","v":""},{"$f":"IF(ISERROR(VLOOKUP($B619,'300ppi Resolution Calc'!$A$2:$E$1001,5,0)),\"\",VLOOKUP($B619,'300ppi Resolution Calc'!$A$2:$E$1001,5,0))","v":""}]
[null,null,null,null,null,null,null,null,null,null,null,"",{"$f":"IF(ISERROR(VLOOKUP($B620,'300ppi Resolution Calc'!$A$2:$E$1001,4,0)),\"\",VLOOKUP($B620,'300ppi Resolution Calc'!$A$2:$E$1001,4,0))","v":""},{"$f":"IF(ISERROR(VLOOKUP($B620,'300ppi Resolution Calc'!$A$2:$E$1001,5,0)),\"\",VLOOKUP($B620,'300ppi Resolution Calc'!$A$2:$E$1001,5,0))","v":""}]
[null,null,null,null,null,null,null,null,null,null,null,"",{"$f":"IF(ISERROR(VLOOKUP($B621,'300ppi Resolution Calc'!$A$2:$E$1001,4,0)),\"\",VLOOKUP($B621,'300ppi Resolution Calc'!$A$2:$E$1001,4,0))","v":""},{"$f":"IF(ISERROR(VLOOKUP($B621,'300ppi Resolution Calc'!$A$2:$E$1001,5,0)),\"\",VLOOKUP($B621,'300ppi Resolution Calc'!$A$2:$E$1001,5,0))","v":""}]
[null,null,null,null,null,null,null,null,null,null,null,"",{"$f":"IF(ISERROR(VLOOKUP($B622,'300ppi Resolution Calc'!$A$2:$E$1001,4,0)),\"\",VLOOKUP($B622,'300ppi Resolution Calc'!$A$2:$E$1001,4,0))","v":""},{"$f":"IF(ISERROR(VLOOKUP($B622,'300ppi Resolution Calc'!$A$2:$E$1001,5,0)),\"\",VLOOKUP($B622,'300ppi Resolution Calc'!$A$2:$E$1001,5,0))","v":""}]
[null,null,null,null,null,null,null,null,null,null,null,"",{"$f":"IF(ISERROR(VLOOKUP($B623,'300ppi Resolution Calc'!$A$2:$E$1001,4,0)),\"\",VLOOKUP($B623,'300ppi Resolution Calc'!$A$2:$E$1001,4,0))","v":""},{"$f":"IF(ISERROR(VLOOKUP($B623,'300ppi Resolution Calc'!$A$2:$E$1001,5,0)),\"\",VLOOKUP($B623,'300ppi Resolution Calc'!$A$2:$E$1001,5,0))","v":""}]
[null,null,null,null,null,null,null,null,null,null,null,"",{"$f":"IF(ISERROR(VLOOKUP($B624,'300ppi Resolution Calc'!$A$2:$E$1001,4,0)),\"\",VLOOKUP($B624,'300ppi Resolution Calc'!$A$2:$E$1001,4,0))","v":""},{"$f":"IF(ISERROR(VLOOKUP($B624,'300ppi Resolution Calc'!$A$2:$E$1001,5,0)),\"\",VLOOKUP($B624,'300ppi Resolution Calc'!$A$2:$E$1001,5,0))","v":""}]
[null,null,null,null,null,null,null,null,null,null,null,"",{"$f":"IF(ISERROR(VLOOKUP($B625,'300ppi Resolution Calc'!$A$2:$E$1001,4,0)),\"\",VLOOKUP($B625,'300ppi Resolution Calc'!$A$2:$E$1001,4,0))","v":""},{"$f":"IF(ISERROR(VLOOKUP($B625,'300ppi Resolution Calc'!$A$2:$E$1001,5,0)),\"\",VLOOKUP($B625,'300ppi Resolution Calc'!$A$2:$E$1001,5,0))","v":""}]
[null,null,null,null,null,null,null,null,null,null,null,"",{"$f":"IF(ISERROR(VLOOKUP($B626,'300ppi Resolution Calc'!$A$2:$E$1001,4,0)),\"\",VLOOKUP($B626,'300ppi Resolution Calc'!$A$2:$E$1001,4,0))","v":""},{"$f":"IF(ISERROR(VLOOKUP($B626,'300ppi Resolution Calc'!$A$2:$E$1001,5,0)),\"\",VLOOKUP($B626,'300ppi Resolution Calc'!$A$2:$E$1001,5,0))","v":""}]
[null,null,null,null,null,null,null,null,null,null,null,"",{"$f":"IF(ISERROR(VLOOKUP($B627,'300ppi Resolution Calc'!$A$2:$E$1001,4,0)),\"\",VLOOKUP($B627,'300ppi Resolution Calc'!$A$2:$E$1001,4,0))","v":""},{"$f":"IF(ISERROR(VLOOKUP($B627,'300ppi Resolution Calc'!$A$2:$E$1001,5,0)),\"\",VLOOKUP($B627,'300ppi Resolution Calc'!$A$2:$E$1001,5,0))","v":""}]
[null,null,null,null,null,null,null,null,null,null,null,"",{"$f":"IF(ISERROR(VLOOKUP($B628,'300ppi Resolution Calc'!$A$2:$E$1001,4,0)),\"\",VLOOKUP($B628,'300ppi Resolution Calc'!$A$2:$E$1001,4,0))","v":""},{"$f":"IF(ISERROR(VLOOKUP($B628,'300ppi Resolution Calc'!$A$2:$E$1001,5,0)),\"\",VLOOKUP($B628,'300ppi Resolution Calc'!$A$2:$E$1001,5,0))","v":""}]
[null,null,null,null,null,null,null,null,null,null,null,"",{"$f":"IF(ISERROR(VLOOKUP($B629,'300ppi Resolution Calc'!$A$2:$E$1001,4,0)),\"\",VLOOKUP($B629,'300ppi Resolution Calc'!$A$2:$E$1001,4,0))","v":""},{"$f":"IF(ISERROR(VLOOKUP($B629,'300ppi Resolution Calc'!$A$2:$E$1001,5,0)),\"\",VLOOKUP($B629,'300ppi Resolution Calc'!$A$2:$E$1001,5,0))","v":""}]
[null,null,null,null,null,null,null,null,null,null,null,"",{"$f":"IF(ISERROR(VLOOKUP($B630,'300ppi Resolution Calc'!$A$2:$E$1001,4,0)),\"\",VLOOKUP($B630,'300ppi Resolution Calc'!$A$2:$E$1001,4,0))","v":""},{"$f":"IF(ISERROR(VLOOKUP($B630,'300ppi Resolution Calc'!$A$2:$E$1001,5,0)),\"\",VLOOKUP($B630,'300ppi Resolution Calc'!$A$2:$E$1001,5,0))","v":""}]
[null,null,null,null,null,null,null,null,null,null,null,"",{"$f":"IF(ISERROR(VLOOKUP($B631,'300ppi Resolution Calc'!$A$2:$E$1001,4,0)),\"\",VLOOKUP($B631,'300ppi Resolution Calc'!$A$2:$E$1001,4,0))","v":""},{"$f":"IF(ISERROR(VLOOKUP($B631,'300ppi Resolution Calc'!$A$2:$E$1001,5,0)),\"\",VLOOKUP($B631,'300ppi Resolution Calc'!$A$2:$E$1001,5,0))","v":""}]
[null,null,null,null,null,null,null,null,null,null,null,"",{"$f":"IF(ISERROR(VLOOKUP($B632,'300ppi Resolution Calc'!$A$2:$E$1001,4,0)),\"\",VLOOKUP($B632,'300ppi Resolution Calc'!$A$2:$E$1001,4,0))","v":""},{"$f":"IF(ISERROR(VLOOKUP($B632,'300ppi Resolution Calc'!$A$2:$E$1001,5,0)),\"\",VLOOKUP($B632,'300ppi Resolution Calc'!$A$2:$E$1001,5,0))","v":""}]
[null,null,null,null,null,null,null,null,null,null,null,"",{"$f":"IF(ISERROR(VLOOKUP($B633,'300ppi Resolution Calc'!$A$2:$E$1001,4,0)),\"\",VLOOKUP($B633,'300ppi Resolution Calc'!$A$2:$E$1001,4,0))","v":""},{"$f":"IF(ISERROR(VLOOKUP($B633,'300ppi Resolution Calc'!$A$2:$E$1001,5,0)),\"\",VLOOKUP($B633,'300ppi Resolution Calc'!$A$2:$E$1001,5,0))","v":""}]
[null,null,null,null,null,null,null,null,null,null,null,"",{"$f":"IF(ISERROR(VLOOKUP($B634,'300ppi Resolution Calc'!$A$2:$E$1001,4,0)),\"\",VLOOKUP($B634,'300ppi Resolution Calc'!$A$2:$E$1001,4,0))","v":""},{"$f":"IF(ISERROR(VLOOKUP($B634,'300ppi Resolution Calc'!$A$2:$E$1001,5,0)),\"\",VLOOKUP($B634,'300ppi Resolution Calc'!$A$2:$E$1001,5,0))","v":""}]
[null,null,null,null,null,null,null,null,null,null,null,"",{"$f":"IF(ISERROR(VLOOKUP($B635,'300ppi Resolution Calc'!$A$2:$E$1001,4,0)),\"\",VLOOKUP($B635,'300ppi Resolution Calc'!$A$2:$E$1001,4,0))","v":""},{"$f":"IF(ISERROR(VLOOKUP($B635,'300ppi Resolution Calc'!$A$2:$E$1001,5,0)),\"\",VLOOKUP($B635,'300ppi Resolution Calc'!$A$2:$E$1001,5,0))","v":""}]
[null,null,null,null,null,null,null,null,null,null,null,"",{"$f":"IF(ISERROR(VLOOKUP($B636,'300ppi Resolution Calc'!$A$2:$E$1001,4,0)),\"\",VLOOKUP($B636,'300ppi Resolution Calc'!$A$2:$E$1001,4,0))","v":""},{"$f":"IF(ISERROR(VLOOKUP($B636,'300ppi Resolution Calc'!$A$2:$E$1001,5,0)),\"\",VLOOKUP($B636,'300ppi Resolution Calc'!$A$2:$E$1001,5,0))","v":""}]
[null,null,null,null,null,null,null,null,null,null,null,"",{"$f":"IF(ISERROR(VLOOKUP($B637,'300ppi Resolution Calc'!$A$2:$E$1001,4,0)),\"\",VLOOKUP($B637,'300ppi Resolution Calc'!$A$2:$E$1001,4,0))","v":""},{"$f":"IF(ISERROR(VLOOKUP($B637,'300ppi Resolution Calc'!$A$2:$E$1001,5,0)),\"\",VLOOKUP($B637,'300ppi Resolution Calc'!$A$2:$E$1001,5,0))","v":""}]
[null,null,null,null,null,null,null,null,null,null,null,"",{"$f":"IF(ISERROR(VLOOKUP($B638,'300ppi Resolution Calc'!$A$2:$E$1001,4,0)),\"\",VLOOKUP($B638,'300ppi Resolution Calc'!$A$2:$E$1001,4,0))","v":""},{"$f":"IF(ISERROR(VLOOKUP($B638,'300ppi Resolution Calc'!$A$2:$E$1001,5,0)),\"\",VLOOKUP($B638,'300ppi Resolution Calc'!$A$2:$E$1001,5,0))","v":""}]
[null,null,null,null,null,null,null,null,null,null,null,"",{"$f":"IF(ISERROR(VLOOKUP($B639,'300ppi Resolution Calc'!$A$2:$E$1001,4,0)),\"\",VLOOKUP($B639,'300ppi Resolution Calc'!$A$2:$E$1001,4,0))","v":""},{"$f":"IF(ISERROR(VLOOKUP($B639,'300ppi Resolution Calc'!$A$2:$E$1001,5,0)),\"\",VLOOKUP($B639,'300ppi Resolution Calc'!$A$2:$E$1001,5,0))","v":""}]
[null,null,null,null,null,null,null,null,null,null,null,"",{"$f":"IF(ISERROR(VLOOKUP($B640,'300ppi Resolution Calc'!$A$2:$E$1001,4,0)),\"\",VLOOKUP($B640,'300ppi Resolution Calc'!$A$2:$E$1001,4,0))","v":""},{"$f":"IF(ISERROR(VLOOKUP($B640,'300ppi Resolution Calc'!$A$2:$E$1001,5,0)),\"\",VLOOKUP($B640,'300ppi Resolution Calc'!$A$2:$E$1001,5,0))","v":""}]
[null,null,null,null,null,null,null,null,null,null,null,"",{"$f":"IF(ISERROR(VLOOKUP($B641,'300ppi Resolution Calc'!$A$2:$E$1001,4,0)),\"\",VLOOKUP($B641,'300ppi Resolution Calc'!$A$2:$E$1001,4,0))","v":""},{"$f":"IF(ISERROR(VLOOKUP($B641,'300ppi Resolution Calc'!$A$2:$E$1001,5,0)),\"\",VLOOKUP($B641,'300ppi Resolution Calc'!$A$2:$E$1001,5,0))","v":""}]
[null,null,null,null,null,null,null,null,null,null,null,"",{"$f":"IF(ISERROR(VLOOKUP($B642,'300ppi Resolution Calc'!$A$2:$E$1001,4,0)),\"\",VLOOKUP($B642,'300ppi Resolution Calc'!$A$2:$E$1001,4,0))","v":""},{"$f":"IF(ISERROR(VLOOKUP($B642,'300ppi Resolution Calc'!$A$2:$E$1001,5,0)),\"\",VLOOKUP($B642,'300ppi Resolution Calc'!$A$2:$E$1001,5,0))","v":""}]
[null,null,null,null,null,null,null,null,null,null,null,"",{"$f":"IF(ISERROR(VLOOKUP($B643,'300ppi Resolution Calc'!$A$2:$E$1001,4,0)),\"\",VLOOKUP($B643,'300ppi Resolution Calc'!$A$2:$E$1001,4,0))","v":""},{"$f":"IF(ISERROR(VLOOKUP($B643,'300ppi Resolution Calc'!$A$2:$E$1001,5,0)),\"\",VLOOKUP($B643,'300ppi Resolution Calc'!$A$2:$E$1001,5,0))","v":""}]
[null,null,null,null,null,null,null,null,null,null,null,"",{"$f":"IF(ISERROR(VLOOKUP($B644,'300ppi Resolution Calc'!$A$2:$E$1001,4,0)),\"\",VLOOKUP($B644,'300ppi Resolution Calc'!$A$2:$E$1001,4,0))","v":""},{"$f":"IF(ISERROR(VLOOKUP($B644,'300ppi Resolution Calc'!$A$2:$E$1001,5,0)),\"\",VLOOKUP($B644,'300ppi Resolution Calc'!$A$2:$E$1001,5,0))","v":""}]
[null,null,null,null,null,null,null,null,null,null,null,"",{"$f":"IF(ISERROR(VLOOKUP($B645,'300ppi Resolution Calc'!$A$2:$E$1001,4,0)),\"\",VLOOKUP($B645,'300ppi Resolution Calc'!$A$2:$E$1001,4,0))","v":""},{"$f":"IF(ISERROR(VLOOKUP($B645,'300ppi Resolution Calc'!$A$2:$E$1001,5,0)),\"\",VLOOKUP($B645,'300ppi Resolution Calc'!$A$2:$E$1001,5,0))","v":""}]
[null,null,null,null,null,null,null,null,null,null,null,"",{"$f":"IF(ISERROR(VLOOKUP($B646,'300ppi Resolution Calc'!$A$2:$E$1001,4,0)),\"\",VLOOKUP($B646,'300ppi Resolution Calc'!$A$2:$E$1001,4,0))","v":""},{"$f":"IF(ISERROR(VLOOKUP($B646,'300ppi Resolution Calc'!$A$2:$E$1001,5,0)),\"\",VLOOKUP($B646,'300ppi Resolution Calc'!$A$2:$E$1001,5,0))","v":""}]
[null,null,null,null,null,null,null,null,null,null,null,"",{"$f":"IF(ISERROR(VLOOKUP($B647,'300ppi Resolution Calc'!$A$2:$E$1001,4,0)),\"\",VLOOKUP($B647,'300ppi Resolution Calc'!$A$2:$E$1001,4,0))","v":""},{"$f":"IF(ISERROR(VLOOKUP($B647,'300ppi Resolution Calc'!$A$2:$E$1001,5,0)),\"\",VLOOKUP($B647,'300ppi Resolution Calc'!$A$2:$E$1001,5,0))","v":""}]
[null,null,null,null,null,null,null,null,null,null,null,{"$f":"IF(AND(I648=\"Creative Commons License\",ISNUMBER(SEARCH(\"(\",J648))),CONCATENATE(B648,\": \",\"Copyright © by \",F648,\" \",J648,\" at \",D648,\".\"),\nIF(AND(I648=\"Creative Commons License\",NOT(ISNUMBER(SEARCH(\"(\",J648)))),CONCATENATE(B648,\": \",\"Copyright © by \",F648,\" (\",J648,\") at \",D648,\".\"),\nIF(I648=\"Public Domain\",CONCATENATE(B648,\": Source: \",D648,\".\"),\nIF(AND(I648=\"Fair Use\",OR(ISNUMBER(SEARCH(\"discuss\",J648)),ISNUMBER(SEARCH(\"critique\",J648)))),CONCATENATE(B648,\": \",\"Copyright © by \",F648,\".\"),\nIF(AND(I648=\"Fair Use\",NOT(OR(ISNUMBER(SEARCH(\"discuss\",J648)),ISNUMBER(SEARCH(\"critique\",J648))))),CONCATENATE(B648,\": Source: \",D648,\".\"),\nIF(AND(I648=\"Request to Rights Holder\",ISBLANK(E648),NOT(ISNUMBER(SEARCH(\"depositphotos\",D648))),NOT(ISNUMBER(SEARCH(\"FAL \",J648))),NOT(ISNUMBER(SEARCH(\"GNU \",J648)))),CONCATENATE(B648,\": \",\"Copyright ©\",\" by \",F648,\".\",\" Reprinted with permission.\"),\nIF(AND(I648=\"Request to Rights Holder\",NOT(ISBLANK(E648)),NOT(ISNUMBER(SEARCH(\"depositphotos\",D648))),NOT(ISNUMBER(SEARCH(\"FAL \",J648))),NOT(ISNUMBER(SEARCH(\"GNU \",J648)))),CONCATENATE(B648,\": \",\"Copyright © \",E648,\" by \",F648,\".\",\" Reprinted with permission.\"),\nIF(AND(I648=\"Request to Rights Holder\",NOT(ISBLANK(E648)),ISNUMBER(SEARCH(\"depositphotos\",D648))),CONCATENATE(B648,\":\",\" Copyright © \",E648,\" Depositphotos\",\"/\",F648,\".\"),\nIF(AND(I648=\"Request to Rights Holder\",ISBLANK(E648),ISNUMBER(SEARCH(\"depositphotos\",D648))),CONCATENATE(B648,\":\",\" Copyright © \",E648,\"Depositphotos\",\"/\",F648,\".\"),\nIF(AND(I648=\"Request to Rights Holder\",ISNUMBER(SEARCH(\"FAL \",J648)),ISNUMBER(SEARCH(\"(\",J648))),CONCATENATE(B648,\": \",\"Copyright © by \",F648,\" \",J648,\" at \",D648,\". A copy of the license can be found here: http://artlibre.org/licence/lal/en.\"),\nIF(AND(I648=\"Request to Rights Holder\",ISNUMBER(SEARCH(\"FAL \",J648)),NOT(ISNUMBER(SEARCH(\"(\",J648)))),CONCATENATE(B648,\": \",\"Copyright © by \",F648,\" (\",J648,\") at \",D648,\". A copy of the license can be found here: http://artlibre.org/licence/lal/en.\"),\nIF(AND(I648=\"Request to Rights Holder\",ISNUMBER(SEARCH(\"GNU \",J648)),ISNUMBER(SEARCH(\"(\",J648))),CONCATENATE(B648,\": \",\"Copyright © by \",F648,\" \",J648,\" at \",D648,\". A copy of the license can be found here: http://www.gnu.org/licenses/gpl.html\"),\nIF(AND(I648=\"Request to Rights Holder\",ISNUMBER(SEARCH(\"GNU \",J648)),NOT(ISNUMBER(SEARCH(\"(\",J648)))),CONCATENATE(B648,\": \",\"Copyright © by \",F648,\" (\",J648,\") at \",D648,\". A copy of the license can be found here: http://www.gnu.org/licenses/gpl.html\"),\n\"\")))))))))))))","v":""},{"$f":"IF(ISERROR(VLOOKUP($B648,'300ppi Resolution Calc'!$A$2:$E$1001,4,0)),\"\",VLOOKUP($B648,'300ppi Resolution Calc'!$A$2:$E$1001,4,0))","v":""},{"$f":"IF(ISERROR(VLOOKUP($B648,'300ppi Resolution Calc'!$A$2:$E$1001,5,0)),\"\",VLOOKUP($B648,'300ppi Resolution Calc'!$A$2:$E$1001,5,0))","v":""}]
[null,null,null,null,null,null,null,null,null,null,null,"",{"$f":"IF(ISERROR(VLOOKUP($B649,'300ppi Resolution Calc'!$A$2:$E$1001,4,0)),\"\",VLOOKUP($B649,'300ppi Resolution Calc'!$A$2:$E$1001,4,0))","v":""},{"$f":"IF(ISERROR(VLOOKUP($B649,'300ppi Resolution Calc'!$A$2:$E$1001,5,0)),\"\",VLOOKUP($B649,'300ppi Resolution Calc'!$A$2:$E$1001,5,0))","v":""}]
[null,null,null,null,null,null,null,null,null,null,null,"",{"$f":"IF(ISERROR(VLOOKUP($B650,'300ppi Resolution Calc'!$A$2:$E$1001,4,0)),\"\",VLOOKUP($B650,'300ppi Resolution Calc'!$A$2:$E$1001,4,0))","v":""},{"$f":"IF(ISERROR(VLOOKUP($B650,'300ppi Resolution Calc'!$A$2:$E$1001,5,0)),\"\",VLOOKUP($B650,'300ppi Resolution Calc'!$A$2:$E$1001,5,0))","v":""}]
[null,null,null,null,null,null,null,null,null,null,null,"",{"$f":"IF(ISERROR(VLOOKUP($B651,'300ppi Resolution Calc'!$A$2:$E$1001,4,0)),\"\",VLOOKUP($B651,'300ppi Resolution Calc'!$A$2:$E$1001,4,0))","v":""},{"$f":"IF(ISERROR(VLOOKUP($B651,'300ppi Resolution Calc'!$A$2:$E$1001,5,0)),\"\",VLOOKUP($B651,'300ppi Resolution Calc'!$A$2:$E$1001,5,0))","v":""}]
[null,null,null,null,null,null,null,null,null,null,null,"",{"$f":"IF(ISERROR(VLOOKUP($B652,'300ppi Resolution Calc'!$A$2:$E$1001,4,0)),\"\",VLOOKUP($B652,'300ppi Resolution Calc'!$A$2:$E$1001,4,0))","v":""},{"$f":"IF(ISERROR(VLOOKUP($B652,'300ppi Resolution Calc'!$A$2:$E$1001,5,0)),\"\",VLOOKUP($B652,'300ppi Resolution Calc'!$A$2:$E$1001,5,0))","v":""}]
[null,null,null,null,null,null,null,null,null,null,null,"",{"$f":"IF(ISERROR(VLOOKUP($B653,'300ppi Resolution Calc'!$A$2:$E$1001,4,0)),\"\",VLOOKUP($B653,'300ppi Resolution Calc'!$A$2:$E$1001,4,0))","v":""},{"$f":"IF(ISERROR(VLOOKUP($B653,'300ppi Resolution Calc'!$A$2:$E$1001,5,0)),\"\",VLOOKUP($B653,'300ppi Resolution Calc'!$A$2:$E$1001,5,0))","v":""}]
[null,null,null,null,null,null,null,null,null,null,null,"",{"$f":"IF(ISERROR(VLOOKUP($B654,'300ppi Resolution Calc'!$A$2:$E$1001,4,0)),\"\",VLOOKUP($B654,'300ppi Resolution Calc'!$A$2:$E$1001,4,0))","v":""},{"$f":"IF(ISERROR(VLOOKUP($B654,'300ppi Resolution Calc'!$A$2:$E$1001,5,0)),\"\",VLOOKUP($B654,'300ppi Resolution Calc'!$A$2:$E$1001,5,0))","v":""}]
[null,null,null,null,null,null,null,null,null,null,null,"",{"$f":"IF(ISERROR(VLOOKUP($B655,'300ppi Resolution Calc'!$A$2:$E$1001,4,0)),\"\",VLOOKUP($B655,'300ppi Resolution Calc'!$A$2:$E$1001,4,0))","v":""},{"$f":"IF(ISERROR(VLOOKUP($B655,'300ppi Resolution Calc'!$A$2:$E$1001,5,0)),\"\",VLOOKUP($B655,'300ppi Resolution Calc'!$A$2:$E$1001,5,0))","v":""}]
[null,null,null,null,null,null,null,null,null,null,null,"",{"$f":"IF(ISERROR(VLOOKUP($B656,'300ppi Resolution Calc'!$A$2:$E$1001,4,0)),\"\",VLOOKUP($B656,'300ppi Resolution Calc'!$A$2:$E$1001,4,0))","v":""},{"$f":"IF(ISERROR(VLOOKUP($B656,'300ppi Resolution Calc'!$A$2:$E$1001,5,0)),\"\",VLOOKUP($B656,'300ppi Resolution Calc'!$A$2:$E$1001,5,0))","v":""}]
[null,null,null,null,null,null,null,null,null,null,null,"",{"$f":"IF(ISERROR(VLOOKUP($B657,'300ppi Resolution Calc'!$A$2:$E$1001,4,0)),\"\",VLOOKUP($B657,'300ppi Resolution Calc'!$A$2:$E$1001,4,0))","v":""},{"$f":"IF(ISERROR(VLOOKUP($B657,'300ppi Resolution Calc'!$A$2:$E$1001,5,0)),\"\",VLOOKUP($B657,'300ppi Resolution Calc'!$A$2:$E$1001,5,0))","v":""}]
[null,null,null,null,null,null,null,null,null,null,null,"",{"$f":"IF(ISERROR(VLOOKUP($B658,'300ppi Resolution Calc'!$A$2:$E$1001,4,0)),\"\",VLOOKUP($B658,'300ppi Resolution Calc'!$A$2:$E$1001,4,0))","v":""},{"$f":"IF(ISERROR(VLOOKUP($B658,'300ppi Resolution Calc'!$A$2:$E$1001,5,0)),\"\",VLOOKUP($B658,'300ppi Resolution Calc'!$A$2:$E$1001,5,0))","v":""}]
[null,null,null,null,null,null,null,null,null,null,null,"",{"$f":"IF(ISERROR(VLOOKUP($B659,'300ppi Resolution Calc'!$A$2:$E$1001,4,0)),\"\",VLOOKUP($B659,'300ppi Resolution Calc'!$A$2:$E$1001,4,0))","v":""},{"$f":"IF(ISERROR(VLOOKUP($B659,'300ppi Resolution Calc'!$A$2:$E$1001,5,0)),\"\",VLOOKUP($B659,'300ppi Resolution Calc'!$A$2:$E$1001,5,0))","v":""}]
[null,null,null,null,null,null,null,null,null,null,null,"",{"$f":"IF(ISERROR(VLOOKUP($B660,'300ppi Resolution Calc'!$A$2:$E$1001,4,0)),\"\",VLOOKUP($B660,'300ppi Resolution Calc'!$A$2:$E$1001,4,0))","v":""},{"$f":"IF(ISERROR(VLOOKUP($B660,'300ppi Resolution Calc'!$A$2:$E$1001,5,0)),\"\",VLOOKUP($B660,'300ppi Resolution Calc'!$A$2:$E$1001,5,0))","v":""}]
[null,null,null,null,null,null,null,null,null,null,null,"",{"$f":"IF(ISERROR(VLOOKUP($B661,'300ppi Resolution Calc'!$A$2:$E$1001,4,0)),\"\",VLOOKUP($B661,'300ppi Resolution Calc'!$A$2:$E$1001,4,0))","v":""},{"$f":"IF(ISERROR(VLOOKUP($B661,'300ppi Resolution Calc'!$A$2:$E$1001,5,0)),\"\",VLOOKUP($B661,'300ppi Resolution Calc'!$A$2:$E$1001,5,0))","v":""}]
[null,null,null,null,null,null,null,null,null,null,null,"",{"$f":"IF(ISERROR(VLOOKUP($B662,'300ppi Resolution Calc'!$A$2:$E$1001,4,0)),\"\",VLOOKUP($B662,'300ppi Resolution Calc'!$A$2:$E$1001,4,0))","v":""},{"$f":"IF(ISERROR(VLOOKUP($B662,'300ppi Resolution Calc'!$A$2:$E$1001,5,0)),\"\",VLOOKUP($B662,'300ppi Resolution Calc'!$A$2:$E$1001,5,0))","v":""}]
[null,null,null,null,null,null,null,null,null,null,null,"",{"$f":"IF(ISERROR(VLOOKUP($B663,'300ppi Resolution Calc'!$A$2:$E$1001,4,0)),\"\",VLOOKUP($B663,'300ppi Resolution Calc'!$A$2:$E$1001,4,0))","v":""},{"$f":"IF(ISERROR(VLOOKUP($B663,'300ppi Resolution Calc'!$A$2:$E$1001,5,0)),\"\",VLOOKUP($B663,'300ppi Resolution Calc'!$A$2:$E$1001,5,0))","v":""}]
[null,null,null,null,null,null,null,null,null,null,null,"",{"$f":"IF(ISERROR(VLOOKUP($B664,'300ppi Resolution Calc'!$A$2:$E$1001,4,0)),\"\",VLOOKUP($B664,'300ppi Resolution Calc'!$A$2:$E$1001,4,0))","v":""},{"$f":"IF(ISERROR(VLOOKUP($B664,'300ppi Resolution Calc'!$A$2:$E$1001,5,0)),\"\",VLOOKUP($B664,'300ppi Resolution Calc'!$A$2:$E$1001,5,0))","v":""}]
[null,null,null,null,null,null,null,null,null,null,null,"",{"$f":"IF(ISERROR(VLOOKUP($B665,'300ppi Resolution Calc'!$A$2:$E$1001,4,0)),\"\",VLOOKUP($B665,'300ppi Resolution Calc'!$A$2:$E$1001,4,0))","v":""},{"$f":"IF(ISERROR(VLOOKUP($B665,'300ppi Resolution Calc'!$A$2:$E$1001,5,0)),\"\",VLOOKUP($B665,'300ppi Resolution Calc'!$A$2:$E$1001,5,0))","v":""}]
[null,null,null,null,null,null,null,null,null,null,null,"",{"$f":"IF(ISERROR(VLOOKUP($B666,'300ppi Resolution Calc'!$A$2:$E$1001,4,0)),\"\",VLOOKUP($B666,'300ppi Resolution Calc'!$A$2:$E$1001,4,0))","v":""},{"$f":"IF(ISERROR(VLOOKUP($B666,'300ppi Resolution Calc'!$A$2:$E$1001,5,0)),\"\",VLOOKUP($B666,'300ppi Resolution Calc'!$A$2:$E$1001,5,0))","v":""}]
[null,null,null,null,null,null,null,null,null,null,null,"",{"$f":"IF(ISERROR(VLOOKUP($B667,'300ppi Resolution Calc'!$A$2:$E$1001,4,0)),\"\",VLOOKUP($B667,'300ppi Resolution Calc'!$A$2:$E$1001,4,0))","v":""},{"$f":"IF(ISERROR(VLOOKUP($B667,'300ppi Resolution Calc'!$A$2:$E$1001,5,0)),\"\",VLOOKUP($B667,'300ppi Resolution Calc'!$A$2:$E$1001,5,0))","v":""}]
[null,null,null,null,null,null,null,null,null,null,null,"",{"$f":"IF(ISERROR(VLOOKUP($B668,'300ppi Resolution Calc'!$A$2:$E$1001,4,0)),\"\",VLOOKUP($B668,'300ppi Resolution Calc'!$A$2:$E$1001,4,0))","v":""},{"$f":"IF(ISERROR(VLOOKUP($B668,'300ppi Resolution Calc'!$A$2:$E$1001,5,0)),\"\",VLOOKUP($B668,'300ppi Resolution Calc'!$A$2:$E$1001,5,0))","v":""}]
[null,null,null,null,null,null,null,null,null,null,null,"",{"$f":"IF(ISERROR(VLOOKUP($B669,'300ppi Resolution Calc'!$A$2:$E$1001,4,0)),\"\",VLOOKUP($B669,'300ppi Resolution Calc'!$A$2:$E$1001,4,0))","v":""},{"$f":"IF(ISERROR(VLOOKUP($B669,'300ppi Resolution Calc'!$A$2:$E$1001,5,0)),\"\",VLOOKUP($B669,'300ppi Resolution Calc'!$A$2:$E$1001,5,0))","v":""}]
[null,null,null,null,null,null,null,null,null,null,null,"",{"$f":"IF(ISERROR(VLOOKUP($B670,'300ppi Resolution Calc'!$A$2:$E$1001,4,0)),\"\",VLOOKUP($B670,'300ppi Resolution Calc'!$A$2:$E$1001,4,0))","v":""},{"$f":"IF(ISERROR(VLOOKUP($B670,'300ppi Resolution Calc'!$A$2:$E$1001,5,0)),\"\",VLOOKUP($B670,'300ppi Resolution Calc'!$A$2:$E$1001,5,0))","v":""}]
[null,null,null,null,null,null,null,null,null,null,null,"",{"$f":"IF(ISERROR(VLOOKUP($B671,'300ppi Resolution Calc'!$A$2:$E$1001,4,0)),\"\",VLOOKUP($B671,'300ppi Resolution Calc'!$A$2:$E$1001,4,0))","v":""},{"$f":"IF(ISERROR(VLOOKUP($B671,'300ppi Resolution Calc'!$A$2:$E$1001,5,0)),\"\",VLOOKUP($B671,'300ppi Resolution Calc'!$A$2:$E$1001,5,0))","v":""}]
[null,null,null,null,null,null,null,null,null,null,null,"",{"$f":"IF(ISERROR(VLOOKUP($B672,'300ppi Resolution Calc'!$A$2:$E$1001,4,0)),\"\",VLOOKUP($B672,'300ppi Resolution Calc'!$A$2:$E$1001,4,0))","v":""},{"$f":"IF(ISERROR(VLOOKUP($B672,'300ppi Resolution Calc'!$A$2:$E$1001,5,0)),\"\",VLOOKUP($B672,'300ppi Resolution Calc'!$A$2:$E$1001,5,0))","v":""}]
[null,null,null,null,null,null,null,null,null,null,null,"",{"$f":"IF(ISERROR(VLOOKUP($B673,'300ppi Resolution Calc'!$A$2:$E$1001,4,0)),\"\",VLOOKUP($B673,'300ppi Resolution Calc'!$A$2:$E$1001,4,0))","v":""},{"$f":"IF(ISERROR(VLOOKUP($B673,'300ppi Resolution Calc'!$A$2:$E$1001,5,0)),\"\",VLOOKUP($B673,'300ppi Resolution Calc'!$A$2:$E$1001,5,0))","v":""}]
[null,null,null,null,null,null,null,null,null,null,null,"",{"$f":"IF(ISERROR(VLOOKUP($B674,'300ppi Resolution Calc'!$A$2:$E$1001,4,0)),\"\",VLOOKUP($B674,'300ppi Resolution Calc'!$A$2:$E$1001,4,0))","v":""},{"$f":"IF(ISERROR(VLOOKUP($B674,'300ppi Resolution Calc'!$A$2:$E$1001,5,0)),\"\",VLOOKUP($B674,'300ppi Resolution Calc'!$A$2:$E$1001,5,0))","v":""}]
[null,null,null,null,null,null,null,null,null,null,null,"",{"$f":"IF(ISERROR(VLOOKUP($B675,'300ppi Resolution Calc'!$A$2:$E$1001,4,0)),\"\",VLOOKUP($B675,'300ppi Resolution Calc'!$A$2:$E$1001,4,0))","v":""},{"$f":"IF(ISERROR(VLOOKUP($B675,'300ppi Resolution Calc'!$A$2:$E$1001,5,0)),\"\",VLOOKUP($B675,'300ppi Resolution Calc'!$A$2:$E$1001,5,0))","v":""}]
[null,null,null,null,null,null,null,null,null,null,null,"",{"$f":"IF(ISERROR(VLOOKUP($B676,'300ppi Resolution Calc'!$A$2:$E$1001,4,0)),\"\",VLOOKUP($B676,'300ppi Resolution Calc'!$A$2:$E$1001,4,0))","v":""},{"$f":"IF(ISERROR(VLOOKUP($B676,'300ppi Resolution Calc'!$A$2:$E$1001,5,0)),\"\",VLOOKUP($B676,'300ppi Resolution Calc'!$A$2:$E$1001,5,0))","v":""}]
[null,null,null,null,null,null,null,null,null,null,null,"",{"$f":"IF(ISERROR(VLOOKUP($B677,'300ppi Resolution Calc'!$A$2:$E$1001,4,0)),\"\",VLOOKUP($B677,'300ppi Resolution Calc'!$A$2:$E$1001,4,0))","v":""},{"$f":"IF(ISERROR(VLOOKUP($B677,'300ppi Resolution Calc'!$A$2:$E$1001,5,0)),\"\",VLOOKUP($B677,'300ppi Resolution Calc'!$A$2:$E$1001,5,0))","v":""}]
[null,null,null,null,null,null,null,null,null,null,null,"",{"$f":"IF(ISERROR(VLOOKUP($B678,'300ppi Resolution Calc'!$A$2:$E$1001,4,0)),\"\",VLOOKUP($B678,'300ppi Resolution Calc'!$A$2:$E$1001,4,0))","v":""},{"$f":"IF(ISERROR(VLOOKUP($B678,'300ppi Resolution Calc'!$A$2:$E$1001,5,0)),\"\",VLOOKUP($B678,'300ppi Resolution Calc'!$A$2:$E$1001,5,0))","v":""}]
[null,null,null,null,null,null,null,null,null,null,null,"",{"$f":"IF(ISERROR(VLOOKUP($B679,'300ppi Resolution Calc'!$A$2:$E$1001,4,0)),\"\",VLOOKUP($B679,'300ppi Resolution Calc'!$A$2:$E$1001,4,0))","v":""},{"$f":"IF(ISERROR(VLOOKUP($B679,'300ppi Resolution Calc'!$A$2:$E$1001,5,0)),\"\",VLOOKUP($B679,'300ppi Resolution Calc'!$A$2:$E$1001,5,0))","v":""}]
[null,null,null,null,null,null,null,null,null,null,null,"",{"$f":"IF(ISERROR(VLOOKUP($B680,'300ppi Resolution Calc'!$A$2:$E$1001,4,0)),\"\",VLOOKUP($B680,'300ppi Resolution Calc'!$A$2:$E$1001,4,0))","v":""},{"$f":"IF(ISERROR(VLOOKUP($B680,'300ppi Resolution Calc'!$A$2:$E$1001,5,0)),\"\",VLOOKUP($B680,'300ppi Resolution Calc'!$A$2:$E$1001,5,0))","v":""}]
[null,null,null,null,null,null,null,null,null,null,null,"",{"$f":"IF(ISERROR(VLOOKUP($B681,'300ppi Resolution Calc'!$A$2:$E$1001,4,0)),\"\",VLOOKUP($B681,'300ppi Resolution Calc'!$A$2:$E$1001,4,0))","v":""},{"$f":"IF(ISERROR(VLOOKUP($B681,'300ppi Resolution Calc'!$A$2:$E$1001,5,0)),\"\",VLOOKUP($B681,'300ppi Resolution Calc'!$A$2:$E$1001,5,0))","v":""}]
[null,null,null,null,null,null,null,null,null,null,null,"",{"$f":"IF(ISERROR(VLOOKUP($B682,'300ppi Resolution Calc'!$A$2:$E$1001,4,0)),\"\",VLOOKUP($B682,'300ppi Resolution Calc'!$A$2:$E$1001,4,0))","v":""},{"$f":"IF(ISERROR(VLOOKUP($B682,'300ppi Resolution Calc'!$A$2:$E$1001,5,0)),\"\",VLOOKUP($B682,'300ppi Resolution Calc'!$A$2:$E$1001,5,0))","v":""}]
[null,null,null,null,null,null,null,null,null,null,null,"",{"$f":"IF(ISERROR(VLOOKUP($B683,'300ppi Resolution Calc'!$A$2:$E$1001,4,0)),\"\",VLOOKUP($B683,'300ppi Resolution Calc'!$A$2:$E$1001,4,0))","v":""},{"$f":"IF(ISERROR(VLOOKUP($B683,'300ppi Resolution Calc'!$A$2:$E$1001,5,0)),\"\",VLOOKUP($B683,'300ppi Resolution Calc'!$A$2:$E$1001,5,0))","v":""}]
[null,null,null,null,null,null,null,null,null,null,null,"",{"$f":"IF(ISERROR(VLOOKUP($B684,'300ppi Resolution Calc'!$A$2:$E$1001,4,0)),\"\",VLOOKUP($B684,'300ppi Resolution Calc'!$A$2:$E$1001,4,0))","v":""},{"$f":"IF(ISERROR(VLOOKUP($B684,'300ppi Resolution Calc'!$A$2:$E$1001,5,0)),\"\",VLOOKUP($B684,'300ppi Resolution Calc'!$A$2:$E$1001,5,0))","v":""}]
[null,null,null,null,null,null,null,null,null,null,null,"",{"$f":"IF(ISERROR(VLOOKUP($B685,'300ppi Resolution Calc'!$A$2:$E$1001,4,0)),\"\",VLOOKUP($B685,'300ppi Resolution Calc'!$A$2:$E$1001,4,0))","v":""},{"$f":"IF(ISERROR(VLOOKUP($B685,'300ppi Resolution Calc'!$A$2:$E$1001,5,0)),\"\",VLOOKUP($B685,'300ppi Resolution Calc'!$A$2:$E$1001,5,0))","v":""}]
[null,null,null,null,null,null,null,null,null,null,null,"",{"$f":"IF(ISERROR(VLOOKUP($B686,'300ppi Resolution Calc'!$A$2:$E$1001,4,0)),\"\",VLOOKUP($B686,'300ppi Resolution Calc'!$A$2:$E$1001,4,0))","v":""},{"$f":"IF(ISERROR(VLOOKUP($B686,'300ppi Resolution Calc'!$A$2:$E$1001,5,0)),\"\",VLOOKUP($B686,'300ppi Resolution Calc'!$A$2:$E$1001,5,0))","v":""}]
[null,null,null,null,null,null,null,null,null,null,null,"",{"$f":"IF(ISERROR(VLOOKUP($B687,'300ppi Resolution Calc'!$A$2:$E$1001,4,0)),\"\",VLOOKUP($B687,'300ppi Resolution Calc'!$A$2:$E$1001,4,0))","v":""},{"$f":"IF(ISERROR(VLOOKUP($B687,'300ppi Resolution Calc'!$A$2:$E$1001,5,0)),\"\",VLOOKUP($B687,'300ppi Resolution Calc'!$A$2:$E$1001,5,0))","v":""}]
[null,null,null,null,null,null,null,null,null,null,null,"",{"$f":"IF(ISERROR(VLOOKUP($B688,'300ppi Resolution Calc'!$A$2:$E$1001,4,0)),\"\",VLOOKUP($B688,'300ppi Resolution Calc'!$A$2:$E$1001,4,0))","v":""},{"$f":"IF(ISERROR(VLOOKUP($B688,'300ppi Resolution Calc'!$A$2:$E$1001,5,0)),\"\",VLOOKUP($B688,'300ppi Resolution Calc'!$A$2:$E$1001,5,0))","v":""}]
[null,null,null,null,null,null,null,null,null,null,null,"",{"$f":"IF(ISERROR(VLOOKUP($B689,'300ppi Resolution Calc'!$A$2:$E$1001,4,0)),\"\",VLOOKUP($B689,'300ppi Resolution Calc'!$A$2:$E$1001,4,0))","v":""},{"$f":"IF(ISERROR(VLOOKUP($B689,'300ppi Resolution Calc'!$A$2:$E$1001,5,0)),\"\",VLOOKUP($B689,'300ppi Resolution Calc'!$A$2:$E$1001,5,0))","v":""}]
[null,null,null,null,null,null,null,null,null,null,null,"",{"$f":"IF(ISERROR(VLOOKUP($B690,'300ppi Resolution Calc'!$A$2:$E$1001,4,0)),\"\",VLOOKUP($B690,'300ppi Resolution Calc'!$A$2:$E$1001,4,0))","v":""},{"$f":"IF(ISERROR(VLOOKUP($B690,'300ppi Resolution Calc'!$A$2:$E$1001,5,0)),\"\",VLOOKUP($B690,'300ppi Resolution Calc'!$A$2:$E$1001,5,0))","v":""}]
[null,null,null,null,null,null,null,null,null,null,null,"",{"$f":"IF(ISERROR(VLOOKUP($B691,'300ppi Resolution Calc'!$A$2:$E$1001,4,0)),\"\",VLOOKUP($B691,'300ppi Resolution Calc'!$A$2:$E$1001,4,0))","v":""},{"$f":"IF(ISERROR(VLOOKUP($B691,'300ppi Resolution Calc'!$A$2:$E$1001,5,0)),\"\",VLOOKUP($B691,'300ppi Resolution Calc'!$A$2:$E$1001,5,0))","v":""}]
[null,null,null,null,null,null,null,null,null,null,null,"",{"$f":"IF(ISERROR(VLOOKUP($B692,'300ppi Resolution Calc'!$A$2:$E$1001,4,0)),\"\",VLOOKUP($B692,'300ppi Resolution Calc'!$A$2:$E$1001,4,0))","v":""},{"$f":"IF(ISERROR(VLOOKUP($B692,'300ppi Resolution Calc'!$A$2:$E$1001,5,0)),\"\",VLOOKUP($B692,'300ppi Resolution Calc'!$A$2:$E$1001,5,0))","v":""}]
[null,null,null,null,null,null,null,null,null,null,null,"",{"$f":"IF(ISERROR(VLOOKUP($B693,'300ppi Resolution Calc'!$A$2:$E$1001,4,0)),\"\",VLOOKUP($B693,'300ppi Resolution Calc'!$A$2:$E$1001,4,0))","v":""},{"$f":"IF(ISERROR(VLOOKUP($B693,'300ppi Resolution Calc'!$A$2:$E$1001,5,0)),\"\",VLOOKUP($B693,'300ppi Resolution Calc'!$A$2:$E$1001,5,0))","v":""}]
[null,null,null,null,null,null,null,null,null,null,null,"",{"$f":"IF(ISERROR(VLOOKUP($B694,'300ppi Resolution Calc'!$A$2:$E$1001,4,0)),\"\",VLOOKUP($B694,'300ppi Resolution Calc'!$A$2:$E$1001,4,0))","v":""},{"$f":"IF(ISERROR(VLOOKUP($B694,'300ppi Resolution Calc'!$A$2:$E$1001,5,0)),\"\",VLOOKUP($B694,'300ppi Resolution Calc'!$A$2:$E$1001,5,0))","v":""}]
[null,null,null,null,null,null,null,null,null,null,null,"",{"$f":"IF(ISERROR(VLOOKUP($B695,'300ppi Resolution Calc'!$A$2:$E$1001,4,0)),\"\",VLOOKUP($B695,'300ppi Resolution Calc'!$A$2:$E$1001,4,0))","v":""},{"$f":"IF(ISERROR(VLOOKUP($B695,'300ppi Resolution Calc'!$A$2:$E$1001,5,0)),\"\",VLOOKUP($B695,'300ppi Resolution Calc'!$A$2:$E$1001,5,0))","v":""}]
[null,null,null,null,null,null,null,null,null,null,null,"",{"$f":"IF(ISERROR(VLOOKUP($B696,'300ppi Resolution Calc'!$A$2:$E$1001,4,0)),\"\",VLOOKUP($B696,'300ppi Resolution Calc'!$A$2:$E$1001,4,0))","v":""},{"$f":"IF(ISERROR(VLOOKUP($B696,'300ppi Resolution Calc'!$A$2:$E$1001,5,0)),\"\",VLOOKUP($B696,'300ppi Resolution Calc'!$A$2:$E$1001,5,0))","v":""}]
[null,null,null,null,null,null,null,null,null,null,null,"",{"$f":"IF(ISERROR(VLOOKUP($B697,'300ppi Resolution Calc'!$A$2:$E$1001,4,0)),\"\",VLOOKUP($B697,'300ppi Resolution Calc'!$A$2:$E$1001,4,0))","v":""},{"$f":"IF(ISERROR(VLOOKUP($B697,'300ppi Resolution Calc'!$A$2:$E$1001,5,0)),\"\",VLOOKUP($B697,'300ppi Resolution Calc'!$A$2:$E$1001,5,0))","v":""}]
[null,null,null,null,null,null,null,null,null,null,null,"",{"$f":"IF(ISERROR(VLOOKUP($B698,'300ppi Resolution Calc'!$A$2:$E$1001,4,0)),\"\",VLOOKUP($B698,'300ppi Resolution Calc'!$A$2:$E$1001,4,0))","v":""},{"$f":"IF(ISERROR(VLOOKUP($B698,'300ppi Resolution Calc'!$A$2:$E$1001,5,0)),\"\",VLOOKUP($B698,'300ppi Resolution Calc'!$A$2:$E$1001,5,0))","v":""}]
[null,null,null,null,null,null,null,null,null,null,null,"",{"$f":"IF(ISERROR(VLOOKUP($B699,'300ppi Resolution Calc'!$A$2:$E$1001,4,0)),\"\",VLOOKUP($B699,'300ppi Resolution Calc'!$A$2:$E$1001,4,0))","v":""},{"$f":"IF(ISERROR(VLOOKUP($B699,'300ppi Resolution Calc'!$A$2:$E$1001,5,0)),\"\",VLOOKUP($B699,'300ppi Resolution Calc'!$A$2:$E$1001,5,0))","v":""}]
[null,null,null,null,null,null,null,null,null,null,null,"",{"$f":"IF(ISERROR(VLOOKUP($B700,'300ppi Resolution Calc'!$A$2:$E$1001,4,0)),\"\",VLOOKUP($B700,'300ppi Resolution Calc'!$A$2:$E$1001,4,0))","v":""},{"$f":"IF(ISERROR(VLOOKUP($B700,'300ppi Resolution Calc'!$A$2:$E$1001,5,0)),\"\",VLOOKUP($B700,'300ppi Resolution Calc'!$A$2:$E$1001,5,0))","v":""}]
[null,null,null,null,null,null,null,null,null,null,null,"",{"$f":"IF(ISERROR(VLOOKUP($B701,'300ppi Resolution Calc'!$A$2:$E$1001,4,0)),\"\",VLOOKUP($B701,'300ppi Resolution Calc'!$A$2:$E$1001,4,0))","v":""},{"$f":"IF(ISERROR(VLOOKUP($B701,'300ppi Resolution Calc'!$A$2:$E$1001,5,0)),\"\",VLOOKUP($B701,'300ppi Resolution Calc'!$A$2:$E$1001,5,0))","v":""}]
[null,null,null,null,null,null,null,null,null,null,null,"",{"$f":"IF(ISERROR(VLOOKUP($B702,'300ppi Resolution Calc'!$A$2:$E$1001,4,0)),\"\",VLOOKUP($B702,'300ppi Resolution Calc'!$A$2:$E$1001,4,0))","v":""},{"$f":"IF(ISERROR(VLOOKUP($B702,'300ppi Resolution Calc'!$A$2:$E$1001,5,0)),\"\",VLOOKUP($B702,'300ppi Resolution Calc'!$A$2:$E$1001,5,0))","v":""}]
[null,null,null,null,null,null,null,null,null,null,null,"",{"$f":"IF(ISERROR(VLOOKUP($B703,'300ppi Resolution Calc'!$A$2:$E$1001,4,0)),\"\",VLOOKUP($B703,'300ppi Resolution Calc'!$A$2:$E$1001,4,0))","v":""},{"$f":"IF(ISERROR(VLOOKUP($B703,'300ppi Resolution Calc'!$A$2:$E$1001,5,0)),\"\",VLOOKUP($B703,'300ppi Resolution Calc'!$A$2:$E$1001,5,0))","v":""}]
[null,null,null,null,null,null,null,null,null,null,null,"",{"$f":"IF(ISERROR(VLOOKUP($B704,'300ppi Resolution Calc'!$A$2:$E$1001,4,0)),\"\",VLOOKUP($B704,'300ppi Resolution Calc'!$A$2:$E$1001,4,0))","v":""},{"$f":"IF(ISERROR(VLOOKUP($B704,'300ppi Resolution Calc'!$A$2:$E$1001,5,0)),\"\",VLOOKUP($B704,'300ppi Resolution Calc'!$A$2:$E$1001,5,0))","v":""}]
[null,null,null,null,null,null,null,null,null,null,null,"",{"$f":"IF(ISERROR(VLOOKUP($B705,'300ppi Resolution Calc'!$A$2:$E$1001,4,0)),\"\",VLOOKUP($B705,'300ppi Resolution Calc'!$A$2:$E$1001,4,0))","v":""},{"$f":"IF(ISERROR(VLOOKUP($B705,'300ppi Resolution Calc'!$A$2:$E$1001,5,0)),\"\",VLOOKUP($B705,'300ppi Resolution Calc'!$A$2:$E$1001,5,0))","v":""}]
[null,null,null,null,null,null,null,null,null,null,null,"",{"$f":"IF(ISERROR(VLOOKUP($B706,'300ppi Resolution Calc'!$A$2:$E$1001,4,0)),\"\",VLOOKUP($B706,'300ppi Resolution Calc'!$A$2:$E$1001,4,0))","v":""},{"$f":"IF(ISERROR(VLOOKUP($B706,'300ppi Resolution Calc'!$A$2:$E$1001,5,0)),\"\",VLOOKUP($B706,'300ppi Resolution Calc'!$A$2:$E$1001,5,0))","v":""}]
[null,null,null,null,null,null,null,null,null,null,null,"",{"$f":"IF(ISERROR(VLOOKUP($B707,'300ppi Resolution Calc'!$A$2:$E$1001,4,0)),\"\",VLOOKUP($B707,'300ppi Resolution Calc'!$A$2:$E$1001,4,0))","v":""},{"$f":"IF(ISERROR(VLOOKUP($B707,'300ppi Resolution Calc'!$A$2:$E$1001,5,0)),\"\",VLOOKUP($B707,'300ppi Resolution Calc'!$A$2:$E$1001,5,0))","v":""}]
[null,null,null,null,null,null,null,null,null,null,null,"",{"$f":"IF(ISERROR(VLOOKUP($B708,'300ppi Resolution Calc'!$A$2:$E$1001,4,0)),\"\",VLOOKUP($B708,'300ppi Resolution Calc'!$A$2:$E$1001,4,0))","v":""},{"$f":"IF(ISERROR(VLOOKUP($B708,'300ppi Resolution Calc'!$A$2:$E$1001,5,0)),\"\",VLOOKUP($B708,'300ppi Resolution Calc'!$A$2:$E$1001,5,0))","v":""}]
[null,null,null,null,null,null,null,null,null,null,null,"",{"$f":"IF(ISERROR(VLOOKUP($B709,'300ppi Resolution Calc'!$A$2:$E$1001,4,0)),\"\",VLOOKUP($B709,'300ppi Resolution Calc'!$A$2:$E$1001,4,0))","v":""},{"$f":"IF(ISERROR(VLOOKUP($B709,'300ppi Resolution Calc'!$A$2:$E$1001,5,0)),\"\",VLOOKUP($B709,'300ppi Resolution Calc'!$A$2:$E$1001,5,0))","v":""}]
[null,null,null,null,null,null,null,null,null,null,null,"",{"$f":"IF(ISERROR(VLOOKUP($B710,'300ppi Resolution Calc'!$A$2:$E$1001,4,0)),\"\",VLOOKUP($B710,'300ppi Resolution Calc'!$A$2:$E$1001,4,0))","v":""},{"$f":"IF(ISERROR(VLOOKUP($B710,'300ppi Resolution Calc'!$A$2:$E$1001,5,0)),\"\",VLOOKUP($B710,'300ppi Resolution Calc'!$A$2:$E$1001,5,0))","v":""}]
[null,null,null,null,null,null,null,null,null,null,null,"",{"$f":"IF(ISERROR(VLOOKUP($B711,'300ppi Resolution Calc'!$A$2:$E$1001,4,0)),\"\",VLOOKUP($B711,'300ppi Resolution Calc'!$A$2:$E$1001,4,0))","v":""},{"$f":"IF(ISERROR(VLOOKUP($B711,'300ppi Resolution Calc'!$A$2:$E$1001,5,0)),\"\",VLOOKUP($B711,'300ppi Resolution Calc'!$A$2:$E$1001,5,0))","v":""}]
[null,null,null,null,null,null,null,null,null,null,null,{"$f":"IF(AND(I712=\"Creative Commons License\",ISNUMBER(SEARCH(\"(\",J712))),CONCATENATE(B712,\": \",\"Copyright © by \",F712,\" \",J712,\" at \",D712,\".\"),\nIF(AND(I712=\"Creative Commons License\",NOT(ISNUMBER(SEARCH(\"(\",J712)))),CONCATENATE(B712,\": \",\"Copyright © by \",F712,\" (\",J712,\") at \",D712,\".\"),\nIF(I712=\"Public Domain\",CONCATENATE(B712,\": Source: \",D712,\".\"),\nIF(AND(I712=\"Fair Use\",OR(ISNUMBER(SEARCH(\"discuss\",J712)),ISNUMBER(SEARCH(\"critique\",J712)))),CONCATENATE(B712,\": \",\"Copyright © by \",F712,\".\"),\nIF(AND(I712=\"Fair Use\",NOT(OR(ISNUMBER(SEARCH(\"discuss\",J712)),ISNUMBER(SEARCH(\"critique\",J712))))),CONCATENATE(B712,\": Source: \",D712,\".\"),\nIF(AND(I712=\"Request to Rights Holder\",ISBLANK(E712),NOT(ISNUMBER(SEARCH(\"depositphotos\",D712))),NOT(ISNUMBER(SEARCH(\"FAL \",J712))),NOT(ISNUMBER(SEARCH(\"GNU \",J712)))),CONCATENATE(B712,\": \",\"Copyright ©\",\" by \",F712,\".\",\" Reprinted with permission.\"),\nIF(AND(I712=\"Request to Rights Holder\",NOT(ISBLANK(E712)),NOT(ISNUMBER(SEARCH(\"depositphotos\",D712))),NOT(ISNUMBER(SEARCH(\"FAL \",J712))),NOT(ISNUMBER(SEARCH(\"GNU \",J712)))),CONCATENATE(B712,\": \",\"Copyright © \",E712,\" by \",F712,\".\",\" Reprinted with permission.\"),\nIF(AND(I712=\"Request to Rights Holder\",NOT(ISBLANK(E712)),ISNUMBER(SEARCH(\"depositphotos\",D712))),CONCATENATE(B712,\":\",\" Copyright © \",E712,\" Depositphotos\",\"/\",F712,\".\"),\nIF(AND(I712=\"Request to Rights Holder\",ISBLANK(E712),ISNUMBER(SEARCH(\"depositphotos\",D712))),CONCATENATE(B712,\":\",\" Copyright © \",E712,\"Depositphotos\",\"/\",F712,\".\"),\nIF(AND(I712=\"Request to Rights Holder\",ISNUMBER(SEARCH(\"FAL \",J712)),ISNUMBER(SEARCH(\"(\",J712))),CONCATENATE(B712,\": \",\"Copyright © by \",F712,\" \",J712,\" at \",D712,\". A copy of the license can be found here: http://artlibre.org/licence/lal/en.\"),\nIF(AND(I712=\"Request to Rights Holder\",ISNUMBER(SEARCH(\"FAL \",J712)),NOT(ISNUMBER(SEARCH(\"(\",J712)))),CONCATENATE(B712,\": \",\"Copyright © by \",F712,\" (\",J712,\") at \",D712,\". A copy of the license can be found here: http://artlibre.org/licence/lal/en.\"),\nIF(AND(I712=\"Request to Rights Holder\",ISNUMBER(SEARCH(\"GNU \",J712)),ISNUMBER(SEARCH(\"(\",J712))),CONCATENATE(B712,\": \",\"Copyright © by \",F712,\" \",J712,\" at \",D712,\". A copy of the license can be found here: http://www.gnu.org/licenses/gpl.html\"),\nIF(AND(I712=\"Request to Rights Holder\",ISNUMBER(SEARCH(\"GNU \",J712)),NOT(ISNUMBER(SEARCH(\"(\",J712)))),CONCATENATE(B712,\": \",\"Copyright © by \",F712,\" (\",J712,\") at \",D712,\". A copy of the license can be found here: http://www.gnu.org/licenses/gpl.html\"),\n\"\")))))))))))))","v":""},{"$f":"IF(ISERROR(VLOOKUP($B712,'300ppi Resolution Calc'!$A$2:$E$1001,4,0)),\"\",VLOOKUP($B712,'300ppi Resolution Calc'!$A$2:$E$1001,4,0))","v":""},{"$f":"IF(ISERROR(VLOOKUP($B712,'300ppi Resolution Calc'!$A$2:$E$1001,5,0)),\"\",VLOOKUP($B712,'300ppi Resolution Calc'!$A$2:$E$1001,5,0))","v":""}]
[null,null,null,null,null,null,null,null,null,null,null,"",{"$f":"IF(ISERROR(VLOOKUP($B713,'300ppi Resolution Calc'!$A$2:$E$1001,4,0)),\"\",VLOOKUP($B713,'300ppi Resolution Calc'!$A$2:$E$1001,4,0))","v":""},{"$f":"IF(ISERROR(VLOOKUP($B713,'300ppi Resolution Calc'!$A$2:$E$1001,5,0)),\"\",VLOOKUP($B713,'300ppi Resolution Calc'!$A$2:$E$1001,5,0))","v":""}]
[null,null,null,null,null,null,null,null,null,null,null,"",{"$f":"IF(ISERROR(VLOOKUP($B714,'300ppi Resolution Calc'!$A$2:$E$1001,4,0)),\"\",VLOOKUP($B714,'300ppi Resolution Calc'!$A$2:$E$1001,4,0))","v":""},{"$f":"IF(ISERROR(VLOOKUP($B714,'300ppi Resolution Calc'!$A$2:$E$1001,5,0)),\"\",VLOOKUP($B714,'300ppi Resolution Calc'!$A$2:$E$1001,5,0))","v":""}]
[null,null,null,null,null,null,null,null,null,null,null,"",{"$f":"IF(ISERROR(VLOOKUP($B715,'300ppi Resolution Calc'!$A$2:$E$1001,4,0)),\"\",VLOOKUP($B715,'300ppi Resolution Calc'!$A$2:$E$1001,4,0))","v":""},{"$f":"IF(ISERROR(VLOOKUP($B715,'300ppi Resolution Calc'!$A$2:$E$1001,5,0)),\"\",VLOOKUP($B715,'300ppi Resolution Calc'!$A$2:$E$1001,5,0))","v":""}]
[null,null,null,null,null,null,null,null,null,null,null,"",{"$f":"IF(ISERROR(VLOOKUP($B716,'300ppi Resolution Calc'!$A$2:$E$1001,4,0)),\"\",VLOOKUP($B716,'300ppi Resolution Calc'!$A$2:$E$1001,4,0))","v":""},{"$f":"IF(ISERROR(VLOOKUP($B716,'300ppi Resolution Calc'!$A$2:$E$1001,5,0)),\"\",VLOOKUP($B716,'300ppi Resolution Calc'!$A$2:$E$1001,5,0))","v":""}]
[null,null,null,null,null,null,null,null,null,null,null,"",{"$f":"IF(ISERROR(VLOOKUP($B717,'300ppi Resolution Calc'!$A$2:$E$1001,4,0)),\"\",VLOOKUP($B717,'300ppi Resolution Calc'!$A$2:$E$1001,4,0))","v":""},{"$f":"IF(ISERROR(VLOOKUP($B717,'300ppi Resolution Calc'!$A$2:$E$1001,5,0)),\"\",VLOOKUP($B717,'300ppi Resolution Calc'!$A$2:$E$1001,5,0))","v":""}]
[null,null,null,null,null,null,null,null,null,null,null,"",{"$f":"IF(ISERROR(VLOOKUP($B718,'300ppi Resolution Calc'!$A$2:$E$1001,4,0)),\"\",VLOOKUP($B718,'300ppi Resolution Calc'!$A$2:$E$1001,4,0))","v":""},{"$f":"IF(ISERROR(VLOOKUP($B718,'300ppi Resolution Calc'!$A$2:$E$1001,5,0)),\"\",VLOOKUP($B718,'300ppi Resolution Calc'!$A$2:$E$1001,5,0))","v":""}]
[null,null,null,null,null,null,null,null,null,null,null,"",{"$f":"IF(ISERROR(VLOOKUP($B719,'300ppi Resolution Calc'!$A$2:$E$1001,4,0)),\"\",VLOOKUP($B719,'300ppi Resolution Calc'!$A$2:$E$1001,4,0))","v":""},{"$f":"IF(ISERROR(VLOOKUP($B719,'300ppi Resolution Calc'!$A$2:$E$1001,5,0)),\"\",VLOOKUP($B719,'300ppi Resolution Calc'!$A$2:$E$1001,5,0))","v":""}]
[null,null,null,null,null,null,null,null,null,null,null,"",{"$f":"IF(ISERROR(VLOOKUP($B720,'300ppi Resolution Calc'!$A$2:$E$1001,4,0)),\"\",VLOOKUP($B720,'300ppi Resolution Calc'!$A$2:$E$1001,4,0))","v":""},{"$f":"IF(ISERROR(VLOOKUP($B720,'300ppi Resolution Calc'!$A$2:$E$1001,5,0)),\"\",VLOOKUP($B720,'300ppi Resolution Calc'!$A$2:$E$1001,5,0))","v":""}]
[null,null,null,null,null,null,null,null,null,null,null,"",{"$f":"IF(ISERROR(VLOOKUP($B721,'300ppi Resolution Calc'!$A$2:$E$1001,4,0)),\"\",VLOOKUP($B721,'300ppi Resolution Calc'!$A$2:$E$1001,4,0))","v":""},{"$f":"IF(ISERROR(VLOOKUP($B721,'300ppi Resolution Calc'!$A$2:$E$1001,5,0)),\"\",VLOOKUP($B721,'300ppi Resolution Calc'!$A$2:$E$1001,5,0))","v":""}]
[null,null,null,null,null,null,null,null,null,null,null,"",{"$f":"IF(ISERROR(VLOOKUP($B722,'300ppi Resolution Calc'!$A$2:$E$1001,4,0)),\"\",VLOOKUP($B722,'300ppi Resolution Calc'!$A$2:$E$1001,4,0))","v":""},{"$f":"IF(ISERROR(VLOOKUP($B722,'300ppi Resolution Calc'!$A$2:$E$1001,5,0)),\"\",VLOOKUP($B722,'300ppi Resolution Calc'!$A$2:$E$1001,5,0))","v":""}]
[null,null,null,null,null,null,null,null,null,null,null,"",{"$f":"IF(ISERROR(VLOOKUP($B723,'300ppi Resolution Calc'!$A$2:$E$1001,4,0)),\"\",VLOOKUP($B723,'300ppi Resolution Calc'!$A$2:$E$1001,4,0))","v":""},{"$f":"IF(ISERROR(VLOOKUP($B723,'300ppi Resolution Calc'!$A$2:$E$1001,5,0)),\"\",VLOOKUP($B723,'300ppi Resolution Calc'!$A$2:$E$1001,5,0))","v":""}]
[null,null,null,null,null,null,null,null,null,null,null,"",{"$f":"IF(ISERROR(VLOOKUP($B724,'300ppi Resolution Calc'!$A$2:$E$1001,4,0)),\"\",VLOOKUP($B724,'300ppi Resolution Calc'!$A$2:$E$1001,4,0))","v":""},{"$f":"IF(ISERROR(VLOOKUP($B724,'300ppi Resolution Calc'!$A$2:$E$1001,5,0)),\"\",VLOOKUP($B724,'300ppi Resolution Calc'!$A$2:$E$1001,5,0))","v":""}]
[null,null,null,null,null,null,null,null,null,null,null,"",{"$f":"IF(ISERROR(VLOOKUP($B725,'300ppi Resolution Calc'!$A$2:$E$1001,4,0)),\"\",VLOOKUP($B725,'300ppi Resolution Calc'!$A$2:$E$1001,4,0))","v":""},{"$f":"IF(ISERROR(VLOOKUP($B725,'300ppi Resolution Calc'!$A$2:$E$1001,5,0)),\"\",VLOOKUP($B725,'300ppi Resolution Calc'!$A$2:$E$1001,5,0))","v":""}]
[null,null,null,null,null,null,null,null,null,null,null,"",{"$f":"IF(ISERROR(VLOOKUP($B726,'300ppi Resolution Calc'!$A$2:$E$1001,4,0)),\"\",VLOOKUP($B726,'300ppi Resolution Calc'!$A$2:$E$1001,4,0))","v":""},{"$f":"IF(ISERROR(VLOOKUP($B726,'300ppi Resolution Calc'!$A$2:$E$1001,5,0)),\"\",VLOOKUP($B726,'300ppi Resolution Calc'!$A$2:$E$1001,5,0))","v":""}]
[null,null,null,null,null,null,null,null,null,null,null,"",{"$f":"IF(ISERROR(VLOOKUP($B727,'300ppi Resolution Calc'!$A$2:$E$1001,4,0)),\"\",VLOOKUP($B727,'300ppi Resolution Calc'!$A$2:$E$1001,4,0))","v":""},{"$f":"IF(ISERROR(VLOOKUP($B727,'300ppi Resolution Calc'!$A$2:$E$1001,5,0)),\"\",VLOOKUP($B727,'300ppi Resolution Calc'!$A$2:$E$1001,5,0))","v":""}]
[null,null,null,null,null,null,null,null,null,null,null,"",{"$f":"IF(ISERROR(VLOOKUP($B728,'300ppi Resolution Calc'!$A$2:$E$1001,4,0)),\"\",VLOOKUP($B728,'300ppi Resolution Calc'!$A$2:$E$1001,4,0))","v":""},{"$f":"IF(ISERROR(VLOOKUP($B728,'300ppi Resolution Calc'!$A$2:$E$1001,5,0)),\"\",VLOOKUP($B728,'300ppi Resolution Calc'!$A$2:$E$1001,5,0))","v":""}]
[null,null,null,null,null,null,null,null,null,null,null,"",{"$f":"IF(ISERROR(VLOOKUP($B729,'300ppi Resolution Calc'!$A$2:$E$1001,4,0)),\"\",VLOOKUP($B729,'300ppi Resolution Calc'!$A$2:$E$1001,4,0))","v":""},{"$f":"IF(ISERROR(VLOOKUP($B729,'300ppi Resolution Calc'!$A$2:$E$1001,5,0)),\"\",VLOOKUP($B729,'300ppi Resolution Calc'!$A$2:$E$1001,5,0))","v":""}]
[null,null,null,null,null,null,null,null,null,null,null,"",{"$f":"IF(ISERROR(VLOOKUP($B730,'300ppi Resolution Calc'!$A$2:$E$1001,4,0)),\"\",VLOOKUP($B730,'300ppi Resolution Calc'!$A$2:$E$1001,4,0))","v":""},{"$f":"IF(ISERROR(VLOOKUP($B730,'300ppi Resolution Calc'!$A$2:$E$1001,5,0)),\"\",VLOOKUP($B730,'300ppi Resolution Calc'!$A$2:$E$1001,5,0))","v":""}]
[null,null,null,null,null,null,null,null,null,null,null,"",{"$f":"IF(ISERROR(VLOOKUP($B731,'300ppi Resolution Calc'!$A$2:$E$1001,4,0)),\"\",VLOOKUP($B731,'300ppi Resolution Calc'!$A$2:$E$1001,4,0))","v":""},{"$f":"IF(ISERROR(VLOOKUP($B731,'300ppi Resolution Calc'!$A$2:$E$1001,5,0)),\"\",VLOOKUP($B731,'300ppi Resolution Calc'!$A$2:$E$1001,5,0))","v":""}]
[null,null,null,null,null,null,null,null,null,null,null,"",{"$f":"IF(ISERROR(VLOOKUP($B732,'300ppi Resolution Calc'!$A$2:$E$1001,4,0)),\"\",VLOOKUP($B732,'300ppi Resolution Calc'!$A$2:$E$1001,4,0))","v":""},{"$f":"IF(ISERROR(VLOOKUP($B732,'300ppi Resolution Calc'!$A$2:$E$1001,5,0)),\"\",VLOOKUP($B732,'300ppi Resolution Calc'!$A$2:$E$1001,5,0))","v":""}]
[null,null,null,null,null,null,null,null,null,null,null,"",{"$f":"IF(ISERROR(VLOOKUP($B733,'300ppi Resolution Calc'!$A$2:$E$1001,4,0)),\"\",VLOOKUP($B733,'300ppi Resolution Calc'!$A$2:$E$1001,4,0))","v":""},{"$f":"IF(ISERROR(VLOOKUP($B733,'300ppi Resolution Calc'!$A$2:$E$1001,5,0)),\"\",VLOOKUP($B733,'300ppi Resolution Calc'!$A$2:$E$1001,5,0))","v":""}]
[null,null,null,null,null,null,null,null,null,null,null,"",{"$f":"IF(ISERROR(VLOOKUP($B734,'300ppi Resolution Calc'!$A$2:$E$1001,4,0)),\"\",VLOOKUP($B734,'300ppi Resolution Calc'!$A$2:$E$1001,4,0))","v":""},{"$f":"IF(ISERROR(VLOOKUP($B734,'300ppi Resolution Calc'!$A$2:$E$1001,5,0)),\"\",VLOOKUP($B734,'300ppi Resolution Calc'!$A$2:$E$1001,5,0))","v":""}]
[null,null,null,null,null,null,null,null,null,null,null,"",{"$f":"IF(ISERROR(VLOOKUP($B735,'300ppi Resolution Calc'!$A$2:$E$1001,4,0)),\"\",VLOOKUP($B735,'300ppi Resolution Calc'!$A$2:$E$1001,4,0))","v":""},{"$f":"IF(ISERROR(VLOOKUP($B735,'300ppi Resolution Calc'!$A$2:$E$1001,5,0)),\"\",VLOOKUP($B735,'300ppi Resolution Calc'!$A$2:$E$1001,5,0))","v":""}]
[null,null,null,null,null,null,null,null,null,null,null,"",{"$f":"IF(ISERROR(VLOOKUP($B736,'300ppi Resolution Calc'!$A$2:$E$1001,4,0)),\"\",VLOOKUP($B736,'300ppi Resolution Calc'!$A$2:$E$1001,4,0))","v":""},{"$f":"IF(ISERROR(VLOOKUP($B736,'300ppi Resolution Calc'!$A$2:$E$1001,5,0)),\"\",VLOOKUP($B736,'300ppi Resolution Calc'!$A$2:$E$1001,5,0))","v":""}]
[null,null,null,null,null,null,null,null,null,null,null,"",{"$f":"IF(ISERROR(VLOOKUP($B737,'300ppi Resolution Calc'!$A$2:$E$1001,4,0)),\"\",VLOOKUP($B737,'300ppi Resolution Calc'!$A$2:$E$1001,4,0))","v":""},{"$f":"IF(ISERROR(VLOOKUP($B737,'300ppi Resolution Calc'!$A$2:$E$1001,5,0)),\"\",VLOOKUP($B737,'300ppi Resolution Calc'!$A$2:$E$1001,5,0))","v":""}]
[null,null,null,null,null,null,null,null,null,null,null,"",{"$f":"IF(ISERROR(VLOOKUP($B738,'300ppi Resolution Calc'!$A$2:$E$1001,4,0)),\"\",VLOOKUP($B738,'300ppi Resolution Calc'!$A$2:$E$1001,4,0))","v":""},{"$f":"IF(ISERROR(VLOOKUP($B738,'300ppi Resolution Calc'!$A$2:$E$1001,5,0)),\"\",VLOOKUP($B738,'300ppi Resolution Calc'!$A$2:$E$1001,5,0))","v":""}]
[null,null,null,null,null,null,null,null,null,null,null,"",{"$f":"IF(ISERROR(VLOOKUP($B739,'300ppi Resolution Calc'!$A$2:$E$1001,4,0)),\"\",VLOOKUP($B739,'300ppi Resolution Calc'!$A$2:$E$1001,4,0))","v":""},{"$f":"IF(ISERROR(VLOOKUP($B739,'300ppi Resolution Calc'!$A$2:$E$1001,5,0)),\"\",VLOOKUP($B739,'300ppi Resolution Calc'!$A$2:$E$1001,5,0))","v":""}]
[null,null,null,null,null,null,null,null,null,null,null,"",{"$f":"IF(ISERROR(VLOOKUP($B740,'300ppi Resolution Calc'!$A$2:$E$1001,4,0)),\"\",VLOOKUP($B740,'300ppi Resolution Calc'!$A$2:$E$1001,4,0))","v":""},{"$f":"IF(ISERROR(VLOOKUP($B740,'300ppi Resolution Calc'!$A$2:$E$1001,5,0)),\"\",VLOOKUP($B740,'300ppi Resolution Calc'!$A$2:$E$1001,5,0))","v":""}]
[null,null,null,null,null,null,null,null,null,null,null,"",{"$f":"IF(ISERROR(VLOOKUP($B741,'300ppi Resolution Calc'!$A$2:$E$1001,4,0)),\"\",VLOOKUP($B741,'300ppi Resolution Calc'!$A$2:$E$1001,4,0))","v":""},{"$f":"IF(ISERROR(VLOOKUP($B741,'300ppi Resolution Calc'!$A$2:$E$1001,5,0)),\"\",VLOOKUP($B741,'300ppi Resolution Calc'!$A$2:$E$1001,5,0))","v":""}]
[null,null,null,null,null,null,null,null,null,null,null,"",{"$f":"IF(ISERROR(VLOOKUP($B742,'300ppi Resolution Calc'!$A$2:$E$1001,4,0)),\"\",VLOOKUP($B742,'300ppi Resolution Calc'!$A$2:$E$1001,4,0))","v":""},{"$f":"IF(ISERROR(VLOOKUP($B742,'300ppi Resolution Calc'!$A$2:$E$1001,5,0)),\"\",VLOOKUP($B742,'300ppi Resolution Calc'!$A$2:$E$1001,5,0))","v":""}]
[null,null,null,null,null,null,null,null,null,null,null,"",{"$f":"IF(ISERROR(VLOOKUP($B743,'300ppi Resolution Calc'!$A$2:$E$1001,4,0)),\"\",VLOOKUP($B743,'300ppi Resolution Calc'!$A$2:$E$1001,4,0))","v":""},{"$f":"IF(ISERROR(VLOOKUP($B743,'300ppi Resolution Calc'!$A$2:$E$1001,5,0)),\"\",VLOOKUP($B743,'300ppi Resolution Calc'!$A$2:$E$1001,5,0))","v":""}]
[null,null,null,null,null,null,null,null,null,null,null,"",{"$f":"IF(ISERROR(VLOOKUP($B744,'300ppi Resolution Calc'!$A$2:$E$1001,4,0)),\"\",VLOOKUP($B744,'300ppi Resolution Calc'!$A$2:$E$1001,4,0))","v":""},{"$f":"IF(ISERROR(VLOOKUP($B744,'300ppi Resolution Calc'!$A$2:$E$1001,5,0)),\"\",VLOOKUP($B744,'300ppi Resolution Calc'!$A$2:$E$1001,5,0))","v":""}]
[null,null,null,null,null,null,null,null,null,null,null,"",{"$f":"IF(ISERROR(VLOOKUP($B745,'300ppi Resolution Calc'!$A$2:$E$1001,4,0)),\"\",VLOOKUP($B745,'300ppi Resolution Calc'!$A$2:$E$1001,4,0))","v":""},{"$f":"IF(ISERROR(VLOOKUP($B745,'300ppi Resolution Calc'!$A$2:$E$1001,5,0)),\"\",VLOOKUP($B745,'300ppi Resolution Calc'!$A$2:$E$1001,5,0))","v":""}]
[null,null,null,null,null,null,null,null,null,null,null,"",{"$f":"IF(ISERROR(VLOOKUP($B746,'300ppi Resolution Calc'!$A$2:$E$1001,4,0)),\"\",VLOOKUP($B746,'300ppi Resolution Calc'!$A$2:$E$1001,4,0))","v":""},{"$f":"IF(ISERROR(VLOOKUP($B746,'300ppi Resolution Calc'!$A$2:$E$1001,5,0)),\"\",VLOOKUP($B746,'300ppi Resolution Calc'!$A$2:$E$1001,5,0))","v":""}]
[null,null,null,null,null,null,null,null,null,null,null,"",{"$f":"IF(ISERROR(VLOOKUP($B747,'300ppi Resolution Calc'!$A$2:$E$1001,4,0)),\"\",VLOOKUP($B747,'300ppi Resolution Calc'!$A$2:$E$1001,4,0))","v":""},{"$f":"IF(ISERROR(VLOOKUP($B747,'300ppi Resolution Calc'!$A$2:$E$1001,5,0)),\"\",VLOOKUP($B747,'300ppi Resolution Calc'!$A$2:$E$1001,5,0))","v":""}]
[null,null,null,null,null,null,null,null,null,null,null,"",{"$f":"IF(ISERROR(VLOOKUP($B748,'300ppi Resolution Calc'!$A$2:$E$1001,4,0)),\"\",VLOOKUP($B748,'300ppi Resolution Calc'!$A$2:$E$1001,4,0))","v":""},{"$f":"IF(ISERROR(VLOOKUP($B748,'300ppi Resolution Calc'!$A$2:$E$1001,5,0)),\"\",VLOOKUP($B748,'300ppi Resolution Calc'!$A$2:$E$1001,5,0))","v":""}]
[null,null,null,null,null,null,null,null,null,null,null,"",{"$f":"IF(ISERROR(VLOOKUP($B749,'300ppi Resolution Calc'!$A$2:$E$1001,4,0)),\"\",VLOOKUP($B749,'300ppi Resolution Calc'!$A$2:$E$1001,4,0))","v":""},{"$f":"IF(ISERROR(VLOOKUP($B749,'300ppi Resolution Calc'!$A$2:$E$1001,5,0)),\"\",VLOOKUP($B749,'300ppi Resolution Calc'!$A$2:$E$1001,5,0))","v":""}]
[null,null,null,null,null,null,null,null,null,null,null,"",{"$f":"IF(ISERROR(VLOOKUP($B750,'300ppi Resolution Calc'!$A$2:$E$1001,4,0)),\"\",VLOOKUP($B750,'300ppi Resolution Calc'!$A$2:$E$1001,4,0))","v":""},{"$f":"IF(ISERROR(VLOOKUP($B750,'300ppi Resolution Calc'!$A$2:$E$1001,5,0)),\"\",VLOOKUP($B750,'300ppi Resolution Calc'!$A$2:$E$1001,5,0))","v":""}]
[null,null,null,null,null,null,null,null,null,null,null,"",{"$f":"IF(ISERROR(VLOOKUP($B751,'300ppi Resolution Calc'!$A$2:$E$1001,4,0)),\"\",VLOOKUP($B751,'300ppi Resolution Calc'!$A$2:$E$1001,4,0))","v":""},{"$f":"IF(ISERROR(VLOOKUP($B751,'300ppi Resolution Calc'!$A$2:$E$1001,5,0)),\"\",VLOOKUP($B751,'300ppi Resolution Calc'!$A$2:$E$1001,5,0))","v":""}]
[null,null,null,null,null,null,null,null,null,null,null,"",{"$f":"IF(ISERROR(VLOOKUP($B752,'300ppi Resolution Calc'!$A$2:$E$1001,4,0)),\"\",VLOOKUP($B752,'300ppi Resolution Calc'!$A$2:$E$1001,4,0))","v":""},{"$f":"IF(ISERROR(VLOOKUP($B752,'300ppi Resolution Calc'!$A$2:$E$1001,5,0)),\"\",VLOOKUP($B752,'300ppi Resolution Calc'!$A$2:$E$1001,5,0))","v":""}]
[null,null,null,null,null,null,null,null,null,null,null,"",{"$f":"IF(ISERROR(VLOOKUP($B753,'300ppi Resolution Calc'!$A$2:$E$1001,4,0)),\"\",VLOOKUP($B753,'300ppi Resolution Calc'!$A$2:$E$1001,4,0))","v":""},{"$f":"IF(ISERROR(VLOOKUP($B753,'300ppi Resolution Calc'!$A$2:$E$1001,5,0)),\"\",VLOOKUP($B753,'300ppi Resolution Calc'!$A$2:$E$1001,5,0))","v":""}]
[null,null,null,null,null,null,null,null,null,null,null,"",{"$f":"IF(ISERROR(VLOOKUP($B754,'300ppi Resolution Calc'!$A$2:$E$1001,4,0)),\"\",VLOOKUP($B754,'300ppi Resolution Calc'!$A$2:$E$1001,4,0))","v":""},{"$f":"IF(ISERROR(VLOOKUP($B754,'300ppi Resolution Calc'!$A$2:$E$1001,5,0)),\"\",VLOOKUP($B754,'300ppi Resolution Calc'!$A$2:$E$1001,5,0))","v":""}]
[null,null,null,null,null,null,null,null,null,null,null,"",{"$f":"IF(ISERROR(VLOOKUP($B755,'300ppi Resolution Calc'!$A$2:$E$1001,4,0)),\"\",VLOOKUP($B755,'300ppi Resolution Calc'!$A$2:$E$1001,4,0))","v":""},{"$f":"IF(ISERROR(VLOOKUP($B755,'300ppi Resolution Calc'!$A$2:$E$1001,5,0)),\"\",VLOOKUP($B755,'300ppi Resolution Calc'!$A$2:$E$1001,5,0))","v":""}]
[null,null,null,null,null,null,null,null,null,null,null,"",{"$f":"IF(ISERROR(VLOOKUP($B756,'300ppi Resolution Calc'!$A$2:$E$1001,4,0)),\"\",VLOOKUP($B756,'300ppi Resolution Calc'!$A$2:$E$1001,4,0))","v":""},{"$f":"IF(ISERROR(VLOOKUP($B756,'300ppi Resolution Calc'!$A$2:$E$1001,5,0)),\"\",VLOOKUP($B756,'300ppi Resolution Calc'!$A$2:$E$1001,5,0))","v":""}]
[null,null,null,null,null,null,null,null,null,null,null,"",{"$f":"IF(ISERROR(VLOOKUP($B757,'300ppi Resolution Calc'!$A$2:$E$1001,4,0)),\"\",VLOOKUP($B757,'300ppi Resolution Calc'!$A$2:$E$1001,4,0))","v":""},{"$f":"IF(ISERROR(VLOOKUP($B757,'300ppi Resolution Calc'!$A$2:$E$1001,5,0)),\"\",VLOOKUP($B757,'300ppi Resolution Calc'!$A$2:$E$1001,5,0))","v":""}]
[null,null,null,null,null,null,null,null,null,null,null,"",{"$f":"IF(ISERROR(VLOOKUP($B758,'300ppi Resolution Calc'!$A$2:$E$1001,4,0)),\"\",VLOOKUP($B758,'300ppi Resolution Calc'!$A$2:$E$1001,4,0))","v":""},{"$f":"IF(ISERROR(VLOOKUP($B758,'300ppi Resolution Calc'!$A$2:$E$1001,5,0)),\"\",VLOOKUP($B758,'300ppi Resolution Calc'!$A$2:$E$1001,5,0))","v":""}]
[null,null,null,null,null,null,null,null,null,null,null,"",{"$f":"IF(ISERROR(VLOOKUP($B759,'300ppi Resolution Calc'!$A$2:$E$1001,4,0)),\"\",VLOOKUP($B759,'300ppi Resolution Calc'!$A$2:$E$1001,4,0))","v":""},{"$f":"IF(ISERROR(VLOOKUP($B759,'300ppi Resolution Calc'!$A$2:$E$1001,5,0)),\"\",VLOOKUP($B759,'300ppi Resolution Calc'!$A$2:$E$1001,5,0))","v":""}]
[null,null,null,null,null,null,null,null,null,null,null,"",{"$f":"IF(ISERROR(VLOOKUP($B760,'300ppi Resolution Calc'!$A$2:$E$1001,4,0)),\"\",VLOOKUP($B760,'300ppi Resolution Calc'!$A$2:$E$1001,4,0))","v":""},{"$f":"IF(ISERROR(VLOOKUP($B760,'300ppi Resolution Calc'!$A$2:$E$1001,5,0)),\"\",VLOOKUP($B760,'300ppi Resolution Calc'!$A$2:$E$1001,5,0))","v":""}]
[null,null,null,null,null,null,null,null,null,null,null,"",{"$f":"IF(ISERROR(VLOOKUP($B761,'300ppi Resolution Calc'!$A$2:$E$1001,4,0)),\"\",VLOOKUP($B761,'300ppi Resolution Calc'!$A$2:$E$1001,4,0))","v":""},{"$f":"IF(ISERROR(VLOOKUP($B761,'300ppi Resolution Calc'!$A$2:$E$1001,5,0)),\"\",VLOOKUP($B761,'300ppi Resolution Calc'!$A$2:$E$1001,5,0))","v":""}]
[null,null,null,null,null,null,null,null,null,null,null,"",{"$f":"IF(ISERROR(VLOOKUP($B762,'300ppi Resolution Calc'!$A$2:$E$1001,4,0)),\"\",VLOOKUP($B762,'300ppi Resolution Calc'!$A$2:$E$1001,4,0))","v":""},{"$f":"IF(ISERROR(VLOOKUP($B762,'300ppi Resolution Calc'!$A$2:$E$1001,5,0)),\"\",VLOOKUP($B762,'300ppi Resolution Calc'!$A$2:$E$1001,5,0))","v":""}]
[null,null,null,null,null,null,null,null,null,null,null,"",{"$f":"IF(ISERROR(VLOOKUP($B763,'300ppi Resolution Calc'!$A$2:$E$1001,4,0)),\"\",VLOOKUP($B763,'300ppi Resolution Calc'!$A$2:$E$1001,4,0))","v":""},{"$f":"IF(ISERROR(VLOOKUP($B763,'300ppi Resolution Calc'!$A$2:$E$1001,5,0)),\"\",VLOOKUP($B763,'300ppi Resolution Calc'!$A$2:$E$1001,5,0))","v":""}]
[null,null,null,null,null,null,null,null,null,null,null,"",{"$f":"IF(ISERROR(VLOOKUP($B764,'300ppi Resolution Calc'!$A$2:$E$1001,4,0)),\"\",VLOOKUP($B764,'300ppi Resolution Calc'!$A$2:$E$1001,4,0))","v":""},{"$f":"IF(ISERROR(VLOOKUP($B764,'300ppi Resolution Calc'!$A$2:$E$1001,5,0)),\"\",VLOOKUP($B764,'300ppi Resolution Calc'!$A$2:$E$1001,5,0))","v":""}]
[null,null,null,null,null,null,null,null,null,null,null,"",{"$f":"IF(ISERROR(VLOOKUP($B765,'300ppi Resolution Calc'!$A$2:$E$1001,4,0)),\"\",VLOOKUP($B765,'300ppi Resolution Calc'!$A$2:$E$1001,4,0))","v":""},{"$f":"IF(ISERROR(VLOOKUP($B765,'300ppi Resolution Calc'!$A$2:$E$1001,5,0)),\"\",VLOOKUP($B765,'300ppi Resolution Calc'!$A$2:$E$1001,5,0))","v":""}]
[null,null,null,null,null,null,null,null,null,null,null,"",{"$f":"IF(ISERROR(VLOOKUP($B766,'300ppi Resolution Calc'!$A$2:$E$1001,4,0)),\"\",VLOOKUP($B766,'300ppi Resolution Calc'!$A$2:$E$1001,4,0))","v":""},{"$f":"IF(ISERROR(VLOOKUP($B766,'300ppi Resolution Calc'!$A$2:$E$1001,5,0)),\"\",VLOOKUP($B766,'300ppi Resolution Calc'!$A$2:$E$1001,5,0))","v":""}]
[null,null,null,null,null,null,null,null,null,null,null,"",{"$f":"IF(ISERROR(VLOOKUP($B767,'300ppi Resolution Calc'!$A$2:$E$1001,4,0)),\"\",VLOOKUP($B767,'300ppi Resolution Calc'!$A$2:$E$1001,4,0))","v":""},{"$f":"IF(ISERROR(VLOOKUP($B767,'300ppi Resolution Calc'!$A$2:$E$1001,5,0)),\"\",VLOOKUP($B767,'300ppi Resolution Calc'!$A$2:$E$1001,5,0))","v":""}]
[null,null,null,null,null,null,null,null,null,null,null,"",{"$f":"IF(ISERROR(VLOOKUP($B768,'300ppi Resolution Calc'!$A$2:$E$1001,4,0)),\"\",VLOOKUP($B768,'300ppi Resolution Calc'!$A$2:$E$1001,4,0))","v":""},{"$f":"IF(ISERROR(VLOOKUP($B768,'300ppi Resolution Calc'!$A$2:$E$1001,5,0)),\"\",VLOOKUP($B768,'300ppi Resolution Calc'!$A$2:$E$1001,5,0))","v":""}]
[null,null,null,null,null,null,null,null,null,null,null,"",{"$f":"IF(ISERROR(VLOOKUP($B769,'300ppi Resolution Calc'!$A$2:$E$1001,4,0)),\"\",VLOOKUP($B769,'300ppi Resolution Calc'!$A$2:$E$1001,4,0))","v":""},{"$f":"IF(ISERROR(VLOOKUP($B769,'300ppi Resolution Calc'!$A$2:$E$1001,5,0)),\"\",VLOOKUP($B769,'300ppi Resolution Calc'!$A$2:$E$1001,5,0))","v":""}]
[null,null,null,null,null,null,null,null,null,null,null,"",{"$f":"IF(ISERROR(VLOOKUP($B770,'300ppi Resolution Calc'!$A$2:$E$1001,4,0)),\"\",VLOOKUP($B770,'300ppi Resolution Calc'!$A$2:$E$1001,4,0))","v":""},{"$f":"IF(ISERROR(VLOOKUP($B770,'300ppi Resolution Calc'!$A$2:$E$1001,5,0)),\"\",VLOOKUP($B770,'300ppi Resolution Calc'!$A$2:$E$1001,5,0))","v":""}]
[null,null,null,null,null,null,null,null,null,null,null,"",{"$f":"IF(ISERROR(VLOOKUP($B771,'300ppi Resolution Calc'!$A$2:$E$1001,4,0)),\"\",VLOOKUP($B771,'300ppi Resolution Calc'!$A$2:$E$1001,4,0))","v":""},{"$f":"IF(ISERROR(VLOOKUP($B771,'300ppi Resolution Calc'!$A$2:$E$1001,5,0)),\"\",VLOOKUP($B771,'300ppi Resolution Calc'!$A$2:$E$1001,5,0))","v":""}]
[null,null,null,null,null,null,null,null,null,null,null,"",{"$f":"IF(ISERROR(VLOOKUP($B772,'300ppi Resolution Calc'!$A$2:$E$1001,4,0)),\"\",VLOOKUP($B772,'300ppi Resolution Calc'!$A$2:$E$1001,4,0))","v":""},{"$f":"IF(ISERROR(VLOOKUP($B772,'300ppi Resolution Calc'!$A$2:$E$1001,5,0)),\"\",VLOOKUP($B772,'300ppi Resolution Calc'!$A$2:$E$1001,5,0))","v":""}]
[null,null,null,null,null,null,null,null,null,null,null,"",{"$f":"IF(ISERROR(VLOOKUP($B773,'300ppi Resolution Calc'!$A$2:$E$1001,4,0)),\"\",VLOOKUP($B773,'300ppi Resolution Calc'!$A$2:$E$1001,4,0))","v":""},{"$f":"IF(ISERROR(VLOOKUP($B773,'300ppi Resolution Calc'!$A$2:$E$1001,5,0)),\"\",VLOOKUP($B773,'300ppi Resolution Calc'!$A$2:$E$1001,5,0))","v":""}]
[null,null,null,null,null,null,null,null,null,null,null,"",{"$f":"IF(ISERROR(VLOOKUP($B774,'300ppi Resolution Calc'!$A$2:$E$1001,4,0)),\"\",VLOOKUP($B774,'300ppi Resolution Calc'!$A$2:$E$1001,4,0))","v":""},{"$f":"IF(ISERROR(VLOOKUP($B774,'300ppi Resolution Calc'!$A$2:$E$1001,5,0)),\"\",VLOOKUP($B774,'300ppi Resolution Calc'!$A$2:$E$1001,5,0))","v":""}]
[null,null,null,null,null,null,null,null,null,null,null,"",{"$f":"IF(ISERROR(VLOOKUP($B775,'300ppi Resolution Calc'!$A$2:$E$1001,4,0)),\"\",VLOOKUP($B775,'300ppi Resolution Calc'!$A$2:$E$1001,4,0))","v":""},{"$f":"IF(ISERROR(VLOOKUP($B775,'300ppi Resolution Calc'!$A$2:$E$1001,5,0)),\"\",VLOOKUP($B775,'300ppi Resolution Calc'!$A$2:$E$1001,5,0))","v":""}]
[null,null,null,null,null,null,null,null,null,null,null,{"$f":"IF(AND(I776=\"Creative Commons License\",ISNUMBER(SEARCH(\"(\",J776))),CONCATENATE(B776,\": \",\"Copyright © by \",F776,\" \",J776,\" at \",D776,\".\"),\nIF(AND(I776=\"Creative Commons License\",NOT(ISNUMBER(SEARCH(\"(\",J776)))),CONCATENATE(B776,\": \",\"Copyright © by \",F776,\" (\",J776,\") at \",D776,\".\"),\nIF(I776=\"Public Domain\",CONCATENATE(B776,\": Source: \",D776,\".\"),\nIF(AND(I776=\"Fair Use\",OR(ISNUMBER(SEARCH(\"discuss\",J776)),ISNUMBER(SEARCH(\"critique\",J776)))),CONCATENATE(B776,\": \",\"Copyright © by \",F776,\".\"),\nIF(AND(I776=\"Fair Use\",NOT(OR(ISNUMBER(SEARCH(\"discuss\",J776)),ISNUMBER(SEARCH(\"critique\",J776))))),CONCATENATE(B776,\": Source: \",D776,\".\"),\nIF(AND(I776=\"Request to Rights Holder\",ISBLANK(E776),NOT(ISNUMBER(SEARCH(\"depositphotos\",D776))),NOT(ISNUMBER(SEARCH(\"FAL \",J776))),NOT(ISNUMBER(SEARCH(\"GNU \",J776)))),CONCATENATE(B776,\": \",\"Copyright ©\",\" by \",F776,\".\",\" Reprinted with permission.\"),\nIF(AND(I776=\"Request to Rights Holder\",NOT(ISBLANK(E776)),NOT(ISNUMBER(SEARCH(\"depositphotos\",D776))),NOT(ISNUMBER(SEARCH(\"FAL \",J776))),NOT(ISNUMBER(SEARCH(\"GNU \",J776)))),CONCATENATE(B776,\": \",\"Copyright © \",E776,\" by \",F776,\".\",\" Reprinted with permission.\"),\nIF(AND(I776=\"Request to Rights Holder\",NOT(ISBLANK(E776)),ISNUMBER(SEARCH(\"depositphotos\",D776))),CONCATENATE(B776,\":\",\" Copyright © \",E776,\" Depositphotos\",\"/\",F776,\".\"),\nIF(AND(I776=\"Request to Rights Holder\",ISBLANK(E776),ISNUMBER(SEARCH(\"depositphotos\",D776))),CONCATENATE(B776,\":\",\" Copyright © \",E776,\"Depositphotos\",\"/\",F776,\".\"),\nIF(AND(I776=\"Request to Rights Holder\",ISNUMBER(SEARCH(\"FAL \",J776)),ISNUMBER(SEARCH(\"(\",J776))),CONCATENATE(B776,\": \",\"Copyright © by \",F776,\" \",J776,\" at \",D776,\". A copy of the license can be found here: http://artlibre.org/licence/lal/en.\"),\nIF(AND(I776=\"Request to Rights Holder\",ISNUMBER(SEARCH(\"FAL \",J776)),NOT(ISNUMBER(SEARCH(\"(\",J776)))),CONCATENATE(B776,\": \",\"Copyright © by \",F776,\" (\",J776,\") at \",D776,\". A copy of the license can be found here: http://artlibre.org/licence/lal/en.\"),\nIF(AND(I776=\"Request to Rights Holder\",ISNUMBER(SEARCH(\"GNU \",J776)),ISNUMBER(SEARCH(\"(\",J776))),CONCATENATE(B776,\": \",\"Copyright © by \",F776,\" \",J776,\" at \",D776,\". A copy of the license can be found here: http://www.gnu.org/licenses/gpl.html\"),\nIF(AND(I776=\"Request to Rights Holder\",ISNUMBER(SEARCH(\"GNU \",J776)),NOT(ISNUMBER(SEARCH(\"(\",J776)))),CONCATENATE(B776,\": \",\"Copyright © by \",F776,\" (\",J776,\") at \",D776,\". A copy of the license can be found here: http://www.gnu.org/licenses/gpl.html\"),\n\"\")))))))))))))","v":""},{"$f":"IF(ISERROR(VLOOKUP($B776,'300ppi Resolution Calc'!$A$2:$E$1001,4,0)),\"\",VLOOKUP($B776,'300ppi Resolution Calc'!$A$2:$E$1001,4,0))","v":""},{"$f":"IF(ISERROR(VLOOKUP($B776,'300ppi Resolution Calc'!$A$2:$E$1001,5,0)),\"\",VLOOKUP($B776,'300ppi Resolution Calc'!$A$2:$E$1001,5,0))","v":""}]
[null,null,null,null,null,null,null,null,null,null,null,"",{"$f":"IF(ISERROR(VLOOKUP($B777,'300ppi Resolution Calc'!$A$2:$E$1001,4,0)),\"\",VLOOKUP($B777,'300ppi Resolution Calc'!$A$2:$E$1001,4,0))","v":""},{"$f":"IF(ISERROR(VLOOKUP($B777,'300ppi Resolution Calc'!$A$2:$E$1001,5,0)),\"\",VLOOKUP($B777,'300ppi Resolution Calc'!$A$2:$E$1001,5,0))","v":""}]
[null,null,null,null,null,null,null,null,null,null,null,"",{"$f":"IF(ISERROR(VLOOKUP($B778,'300ppi Resolution Calc'!$A$2:$E$1001,4,0)),\"\",VLOOKUP($B778,'300ppi Resolution Calc'!$A$2:$E$1001,4,0))","v":""},{"$f":"IF(ISERROR(VLOOKUP($B778,'300ppi Resolution Calc'!$A$2:$E$1001,5,0)),\"\",VLOOKUP($B778,'300ppi Resolution Calc'!$A$2:$E$1001,5,0))","v":""}]
[null,null,null,null,null,null,null,null,null,null,null,"",{"$f":"IF(ISERROR(VLOOKUP($B779,'300ppi Resolution Calc'!$A$2:$E$1001,4,0)),\"\",VLOOKUP($B779,'300ppi Resolution Calc'!$A$2:$E$1001,4,0))","v":""},{"$f":"IF(ISERROR(VLOOKUP($B779,'300ppi Resolution Calc'!$A$2:$E$1001,5,0)),\"\",VLOOKUP($B779,'300ppi Resolution Calc'!$A$2:$E$1001,5,0))","v":""}]
[null,null,null,null,null,null,null,null,null,null,null,"",{"$f":"IF(ISERROR(VLOOKUP($B780,'300ppi Resolution Calc'!$A$2:$E$1001,4,0)),\"\",VLOOKUP($B780,'300ppi Resolution Calc'!$A$2:$E$1001,4,0))","v":""},{"$f":"IF(ISERROR(VLOOKUP($B780,'300ppi Resolution Calc'!$A$2:$E$1001,5,0)),\"\",VLOOKUP($B780,'300ppi Resolution Calc'!$A$2:$E$1001,5,0))","v":""}]
[null,null,null,null,null,null,null,null,null,null,null,"",{"$f":"IF(ISERROR(VLOOKUP($B781,'300ppi Resolution Calc'!$A$2:$E$1001,4,0)),\"\",VLOOKUP($B781,'300ppi Resolution Calc'!$A$2:$E$1001,4,0))","v":""},{"$f":"IF(ISERROR(VLOOKUP($B781,'300ppi Resolution Calc'!$A$2:$E$1001,5,0)),\"\",VLOOKUP($B781,'300ppi Resolution Calc'!$A$2:$E$1001,5,0))","v":""}]
[null,null,null,null,null,null,null,null,null,null,null,"",{"$f":"IF(ISERROR(VLOOKUP($B782,'300ppi Resolution Calc'!$A$2:$E$1001,4,0)),\"\",VLOOKUP($B782,'300ppi Resolution Calc'!$A$2:$E$1001,4,0))","v":""},{"$f":"IF(ISERROR(VLOOKUP($B782,'300ppi Resolution Calc'!$A$2:$E$1001,5,0)),\"\",VLOOKUP($B782,'300ppi Resolution Calc'!$A$2:$E$1001,5,0))","v":""}]
[null,null,null,null,null,null,null,null,null,null,null,"",{"$f":"IF(ISERROR(VLOOKUP($B783,'300ppi Resolution Calc'!$A$2:$E$1001,4,0)),\"\",VLOOKUP($B783,'300ppi Resolution Calc'!$A$2:$E$1001,4,0))","v":""},{"$f":"IF(ISERROR(VLOOKUP($B783,'300ppi Resolution Calc'!$A$2:$E$1001,5,0)),\"\",VLOOKUP($B783,'300ppi Resolution Calc'!$A$2:$E$1001,5,0))","v":""}]
[null,null,null,null,null,null,null,null,null,null,null,"",{"$f":"IF(ISERROR(VLOOKUP($B784,'300ppi Resolution Calc'!$A$2:$E$1001,4,0)),\"\",VLOOKUP($B784,'300ppi Resolution Calc'!$A$2:$E$1001,4,0))","v":""},{"$f":"IF(ISERROR(VLOOKUP($B784,'300ppi Resolution Calc'!$A$2:$E$1001,5,0)),\"\",VLOOKUP($B784,'300ppi Resolution Calc'!$A$2:$E$1001,5,0))","v":""}]
[null,null,null,null,null,null,null,null,null,null,null,"",{"$f":"IF(ISERROR(VLOOKUP($B785,'300ppi Resolution Calc'!$A$2:$E$1001,4,0)),\"\",VLOOKUP($B785,'300ppi Resolution Calc'!$A$2:$E$1001,4,0))","v":""},{"$f":"IF(ISERROR(VLOOKUP($B785,'300ppi Resolution Calc'!$A$2:$E$1001,5,0)),\"\",VLOOKUP($B785,'300ppi Resolution Calc'!$A$2:$E$1001,5,0))","v":""}]
[null,null,null,null,null,null,null,null,null,null,null,"",{"$f":"IF(ISERROR(VLOOKUP($B786,'300ppi Resolution Calc'!$A$2:$E$1001,4,0)),\"\",VLOOKUP($B786,'300ppi Resolution Calc'!$A$2:$E$1001,4,0))","v":""},{"$f":"IF(ISERROR(VLOOKUP($B786,'300ppi Resolution Calc'!$A$2:$E$1001,5,0)),\"\",VLOOKUP($B786,'300ppi Resolution Calc'!$A$2:$E$1001,5,0))","v":""}]
[null,null,null,null,null,null,null,null,null,null,null,"",{"$f":"IF(ISERROR(VLOOKUP($B787,'300ppi Resolution Calc'!$A$2:$E$1001,4,0)),\"\",VLOOKUP($B787,'300ppi Resolution Calc'!$A$2:$E$1001,4,0))","v":""},{"$f":"IF(ISERROR(VLOOKUP($B787,'300ppi Resolution Calc'!$A$2:$E$1001,5,0)),\"\",VLOOKUP($B787,'300ppi Resolution Calc'!$A$2:$E$1001,5,0))","v":""}]
[null,null,null,null,null,null,null,null,null,null,null,"",{"$f":"IF(ISERROR(VLOOKUP($B788,'300ppi Resolution Calc'!$A$2:$E$1001,4,0)),\"\",VLOOKUP($B788,'300ppi Resolution Calc'!$A$2:$E$1001,4,0))","v":""},{"$f":"IF(ISERROR(VLOOKUP($B788,'300ppi Resolution Calc'!$A$2:$E$1001,5,0)),\"\",VLOOKUP($B788,'300ppi Resolution Calc'!$A$2:$E$1001,5,0))","v":""}]
[null,null,null,null,null,null,null,null,null,null,null,"",{"$f":"IF(ISERROR(VLOOKUP($B789,'300ppi Resolution Calc'!$A$2:$E$1001,4,0)),\"\",VLOOKUP($B789,'300ppi Resolution Calc'!$A$2:$E$1001,4,0))","v":""},{"$f":"IF(ISERROR(VLOOKUP($B789,'300ppi Resolution Calc'!$A$2:$E$1001,5,0)),\"\",VLOOKUP($B789,'300ppi Resolution Calc'!$A$2:$E$1001,5,0))","v":""}]
[null,null,null,null,null,null,null,null,null,null,null,"",{"$f":"IF(ISERROR(VLOOKUP($B790,'300ppi Resolution Calc'!$A$2:$E$1001,4,0)),\"\",VLOOKUP($B790,'300ppi Resolution Calc'!$A$2:$E$1001,4,0))","v":""},{"$f":"IF(ISERROR(VLOOKUP($B790,'300ppi Resolution Calc'!$A$2:$E$1001,5,0)),\"\",VLOOKUP($B790,'300ppi Resolution Calc'!$A$2:$E$1001,5,0))","v":""}]
[null,null,null,null,null,null,null,null,null,null,null,"",{"$f":"IF(ISERROR(VLOOKUP($B791,'300ppi Resolution Calc'!$A$2:$E$1001,4,0)),\"\",VLOOKUP($B791,'300ppi Resolution Calc'!$A$2:$E$1001,4,0))","v":""},{"$f":"IF(ISERROR(VLOOKUP($B791,'300ppi Resolution Calc'!$A$2:$E$1001,5,0)),\"\",VLOOKUP($B791,'300ppi Resolution Calc'!$A$2:$E$1001,5,0))","v":""}]
[null,null,null,null,null,null,null,null,null,null,null,"",{"$f":"IF(ISERROR(VLOOKUP($B792,'300ppi Resolution Calc'!$A$2:$E$1001,4,0)),\"\",VLOOKUP($B792,'300ppi Resolution Calc'!$A$2:$E$1001,4,0))","v":""},{"$f":"IF(ISERROR(VLOOKUP($B792,'300ppi Resolution Calc'!$A$2:$E$1001,5,0)),\"\",VLOOKUP($B792,'300ppi Resolution Calc'!$A$2:$E$1001,5,0))","v":""}]
[null,null,null,null,null,null,null,null,null,null,null,"",{"$f":"IF(ISERROR(VLOOKUP($B793,'300ppi Resolution Calc'!$A$2:$E$1001,4,0)),\"\",VLOOKUP($B793,'300ppi Resolution Calc'!$A$2:$E$1001,4,0))","v":""},{"$f":"IF(ISERROR(VLOOKUP($B793,'300ppi Resolution Calc'!$A$2:$E$1001,5,0)),\"\",VLOOKUP($B793,'300ppi Resolution Calc'!$A$2:$E$1001,5,0))","v":""}]
[null,null,null,null,null,null,null,null,null,null,null,"",{"$f":"IF(ISERROR(VLOOKUP($B794,'300ppi Resolution Calc'!$A$2:$E$1001,4,0)),\"\",VLOOKUP($B794,'300ppi Resolution Calc'!$A$2:$E$1001,4,0))","v":""},{"$f":"IF(ISERROR(VLOOKUP($B794,'300ppi Resolution Calc'!$A$2:$E$1001,5,0)),\"\",VLOOKUP($B794,'300ppi Resolution Calc'!$A$2:$E$1001,5,0))","v":""}]
[null,null,null,null,null,null,null,null,null,null,null,"",{"$f":"IF(ISERROR(VLOOKUP($B795,'300ppi Resolution Calc'!$A$2:$E$1001,4,0)),\"\",VLOOKUP($B795,'300ppi Resolution Calc'!$A$2:$E$1001,4,0))","v":""},{"$f":"IF(ISERROR(VLOOKUP($B795,'300ppi Resolution Calc'!$A$2:$E$1001,5,0)),\"\",VLOOKUP($B795,'300ppi Resolution Calc'!$A$2:$E$1001,5,0))","v":""}]
[null,null,null,null,null,null,null,null,null,null,null,"",{"$f":"IF(ISERROR(VLOOKUP($B796,'300ppi Resolution Calc'!$A$2:$E$1001,4,0)),\"\",VLOOKUP($B796,'300ppi Resolution Calc'!$A$2:$E$1001,4,0))","v":""},{"$f":"IF(ISERROR(VLOOKUP($B796,'300ppi Resolution Calc'!$A$2:$E$1001,5,0)),\"\",VLOOKUP($B796,'300ppi Resolution Calc'!$A$2:$E$1001,5,0))","v":""}]
[null,null,null,null,null,null,null,null,null,null,null,"",{"$f":"IF(ISERROR(VLOOKUP($B797,'300ppi Resolution Calc'!$A$2:$E$1001,4,0)),\"\",VLOOKUP($B797,'300ppi Resolution Calc'!$A$2:$E$1001,4,0))","v":""},{"$f":"IF(ISERROR(VLOOKUP($B797,'300ppi Resolution Calc'!$A$2:$E$1001,5,0)),\"\",VLOOKUP($B797,'300ppi Resolution Calc'!$A$2:$E$1001,5,0))","v":""}]
[null,null,null,null,null,null,null,null,null,null,null,"",{"$f":"IF(ISERROR(VLOOKUP($B798,'300ppi Resolution Calc'!$A$2:$E$1001,4,0)),\"\",VLOOKUP($B798,'300ppi Resolution Calc'!$A$2:$E$1001,4,0))","v":""},{"$f":"IF(ISERROR(VLOOKUP($B798,'300ppi Resolution Calc'!$A$2:$E$1001,5,0)),\"\",VLOOKUP($B798,'300ppi Resolution Calc'!$A$2:$E$1001,5,0))","v":""}]
[null,null,null,null,null,null,null,null,null,null,null,"",{"$f":"IF(ISERROR(VLOOKUP($B799,'300ppi Resolution Calc'!$A$2:$E$1001,4,0)),\"\",VLOOKUP($B799,'300ppi Resolution Calc'!$A$2:$E$1001,4,0))","v":""},{"$f":"IF(ISERROR(VLOOKUP($B799,'300ppi Resolution Calc'!$A$2:$E$1001,5,0)),\"\",VLOOKUP($B799,'300ppi Resolution Calc'!$A$2:$E$1001,5,0))","v":""}]
[null,null,null,null,null,null,null,null,null,null,null,"",{"$f":"IF(ISERROR(VLOOKUP($B800,'300ppi Resolution Calc'!$A$2:$E$1001,4,0)),\"\",VLOOKUP($B800,'300ppi Resolution Calc'!$A$2:$E$1001,4,0))","v":""},{"$f":"IF(ISERROR(VLOOKUP($B800,'300ppi Resolution Calc'!$A$2:$E$1001,5,0)),\"\",VLOOKUP($B800,'300ppi Resolution Calc'!$A$2:$E$1001,5,0))","v":""}]
[null,null,null,null,null,null,null,null,null,null,null,"",{"$f":"IF(ISERROR(VLOOKUP($B801,'300ppi Resolution Calc'!$A$2:$E$1001,4,0)),\"\",VLOOKUP($B801,'300ppi Resolution Calc'!$A$2:$E$1001,4,0))","v":""},{"$f":"IF(ISERROR(VLOOKUP($B801,'300ppi Resolution Calc'!$A$2:$E$1001,5,0)),\"\",VLOOKUP($B801,'300ppi Resolution Calc'!$A$2:$E$1001,5,0))","v":""}]
[null,null,null,null,null,null,null,null,null,null,null,"",{"$f":"IF(ISERROR(VLOOKUP($B802,'300ppi Resolution Calc'!$A$2:$E$1001,4,0)),\"\",VLOOKUP($B802,'300ppi Resolution Calc'!$A$2:$E$1001,4,0))","v":""},{"$f":"IF(ISERROR(VLOOKUP($B802,'300ppi Resolution Calc'!$A$2:$E$1001,5,0)),\"\",VLOOKUP($B802,'300ppi Resolution Calc'!$A$2:$E$1001,5,0))","v":""}]
[null,null,null,null,null,null,null,null,null,null,null,"",{"$f":"IF(ISERROR(VLOOKUP($B803,'300ppi Resolution Calc'!$A$2:$E$1001,4,0)),\"\",VLOOKUP($B803,'300ppi Resolution Calc'!$A$2:$E$1001,4,0))","v":""},{"$f":"IF(ISERROR(VLOOKUP($B803,'300ppi Resolution Calc'!$A$2:$E$1001,5,0)),\"\",VLOOKUP($B803,'300ppi Resolution Calc'!$A$2:$E$1001,5,0))","v":""}]
[null,null,null,null,null,null,null,null,null,null,null,"",{"$f":"IF(ISERROR(VLOOKUP($B804,'300ppi Resolution Calc'!$A$2:$E$1001,4,0)),\"\",VLOOKUP($B804,'300ppi Resolution Calc'!$A$2:$E$1001,4,0))","v":""},{"$f":"IF(ISERROR(VLOOKUP($B804,'300ppi Resolution Calc'!$A$2:$E$1001,5,0)),\"\",VLOOKUP($B804,'300ppi Resolution Calc'!$A$2:$E$1001,5,0))","v":""}]
[null,null,null,null,null,null,null,null,null,null,null,"",{"$f":"IF(ISERROR(VLOOKUP($B805,'300ppi Resolution Calc'!$A$2:$E$1001,4,0)),\"\",VLOOKUP($B805,'300ppi Resolution Calc'!$A$2:$E$1001,4,0))","v":""},{"$f":"IF(ISERROR(VLOOKUP($B805,'300ppi Resolution Calc'!$A$2:$E$1001,5,0)),\"\",VLOOKUP($B805,'300ppi Resolution Calc'!$A$2:$E$1001,5,0))","v":""}]
[null,null,null,null,null,null,null,null,null,null,null,"",{"$f":"IF(ISERROR(VLOOKUP($B806,'300ppi Resolution Calc'!$A$2:$E$1001,4,0)),\"\",VLOOKUP($B806,'300ppi Resolution Calc'!$A$2:$E$1001,4,0))","v":""},{"$f":"IF(ISERROR(VLOOKUP($B806,'300ppi Resolution Calc'!$A$2:$E$1001,5,0)),\"\",VLOOKUP($B806,'300ppi Resolution Calc'!$A$2:$E$1001,5,0))","v":""}]
[null,null,null,null,null,null,null,null,null,null,null,"",{"$f":"IF(ISERROR(VLOOKUP($B807,'300ppi Resolution Calc'!$A$2:$E$1001,4,0)),\"\",VLOOKUP($B807,'300ppi Resolution Calc'!$A$2:$E$1001,4,0))","v":""},{"$f":"IF(ISERROR(VLOOKUP($B807,'300ppi Resolution Calc'!$A$2:$E$1001,5,0)),\"\",VLOOKUP($B807,'300ppi Resolution Calc'!$A$2:$E$1001,5,0))","v":""}]
[null,null,null,null,null,null,null,null,null,null,null,"",{"$f":"IF(ISERROR(VLOOKUP($B808,'300ppi Resolution Calc'!$A$2:$E$1001,4,0)),\"\",VLOOKUP($B808,'300ppi Resolution Calc'!$A$2:$E$1001,4,0))","v":""},{"$f":"IF(ISERROR(VLOOKUP($B808,'300ppi Resolution Calc'!$A$2:$E$1001,5,0)),\"\",VLOOKUP($B808,'300ppi Resolution Calc'!$A$2:$E$1001,5,0))","v":""}]
[null,null,null,null,null,null,null,null,null,null,null,"",{"$f":"IF(ISERROR(VLOOKUP($B809,'300ppi Resolution Calc'!$A$2:$E$1001,4,0)),\"\",VLOOKUP($B809,'300ppi Resolution Calc'!$A$2:$E$1001,4,0))","v":""},{"$f":"IF(ISERROR(VLOOKUP($B809,'300ppi Resolution Calc'!$A$2:$E$1001,5,0)),\"\",VLOOKUP($B809,'300ppi Resolution Calc'!$A$2:$E$1001,5,0))","v":""}]
[null,null,null,null,null,null,null,null,null,null,null,"",{"$f":"IF(ISERROR(VLOOKUP($B810,'300ppi Resolution Calc'!$A$2:$E$1001,4,0)),\"\",VLOOKUP($B810,'300ppi Resolution Calc'!$A$2:$E$1001,4,0))","v":""},{"$f":"IF(ISERROR(VLOOKUP($B810,'300ppi Resolution Calc'!$A$2:$E$1001,5,0)),\"\",VLOOKUP($B810,'300ppi Resolution Calc'!$A$2:$E$1001,5,0))","v":""}]
[null,null,null,null,null,null,null,null,null,null,null,"",{"$f":"IF(ISERROR(VLOOKUP($B811,'300ppi Resolution Calc'!$A$2:$E$1001,4,0)),\"\",VLOOKUP($B811,'300ppi Resolution Calc'!$A$2:$E$1001,4,0))","v":""},{"$f":"IF(ISERROR(VLOOKUP($B811,'300ppi Resolution Calc'!$A$2:$E$1001,5,0)),\"\",VLOOKUP($B811,'300ppi Resolution Calc'!$A$2:$E$1001,5,0))","v":""}]
[null,null,null,null,null,null,null,null,null,null,null,"",{"$f":"IF(ISERROR(VLOOKUP($B812,'300ppi Resolution Calc'!$A$2:$E$1001,4,0)),\"\",VLOOKUP($B812,'300ppi Resolution Calc'!$A$2:$E$1001,4,0))","v":""},{"$f":"IF(ISERROR(VLOOKUP($B812,'300ppi Resolution Calc'!$A$2:$E$1001,5,0)),\"\",VLOOKUP($B812,'300ppi Resolution Calc'!$A$2:$E$1001,5,0))","v":""}]
[null,null,null,null,null,null,null,null,null,null,null,"",{"$f":"IF(ISERROR(VLOOKUP($B813,'300ppi Resolution Calc'!$A$2:$E$1001,4,0)),\"\",VLOOKUP($B813,'300ppi Resolution Calc'!$A$2:$E$1001,4,0))","v":""},{"$f":"IF(ISERROR(VLOOKUP($B813,'300ppi Resolution Calc'!$A$2:$E$1001,5,0)),\"\",VLOOKUP($B813,'300ppi Resolution Calc'!$A$2:$E$1001,5,0))","v":""}]
[null,null,null,null,null,null,null,null,null,null,null,"",{"$f":"IF(ISERROR(VLOOKUP($B814,'300ppi Resolution Calc'!$A$2:$E$1001,4,0)),\"\",VLOOKUP($B814,'300ppi Resolution Calc'!$A$2:$E$1001,4,0))","v":""},{"$f":"IF(ISERROR(VLOOKUP($B814,'300ppi Resolution Calc'!$A$2:$E$1001,5,0)),\"\",VLOOKUP($B814,'300ppi Resolution Calc'!$A$2:$E$1001,5,0))","v":""}]
[null,null,null,null,null,null,null,null,null,null,null,"",{"$f":"IF(ISERROR(VLOOKUP($B815,'300ppi Resolution Calc'!$A$2:$E$1001,4,0)),\"\",VLOOKUP($B815,'300ppi Resolution Calc'!$A$2:$E$1001,4,0))","v":""},{"$f":"IF(ISERROR(VLOOKUP($B815,'300ppi Resolution Calc'!$A$2:$E$1001,5,0)),\"\",VLOOKUP($B815,'300ppi Resolution Calc'!$A$2:$E$1001,5,0))","v":""}]
[null,null,null,null,null,null,null,null,null,null,null,"",{"$f":"IF(ISERROR(VLOOKUP($B816,'300ppi Resolution Calc'!$A$2:$E$1001,4,0)),\"\",VLOOKUP($B816,'300ppi Resolution Calc'!$A$2:$E$1001,4,0))","v":""},{"$f":"IF(ISERROR(VLOOKUP($B816,'300ppi Resolution Calc'!$A$2:$E$1001,5,0)),\"\",VLOOKUP($B816,'300ppi Resolution Calc'!$A$2:$E$1001,5,0))","v":""}]
[null,null,null,null,null,null,null,null,null,null,null,"",{"$f":"IF(ISERROR(VLOOKUP($B817,'300ppi Resolution Calc'!$A$2:$E$1001,4,0)),\"\",VLOOKUP($B817,'300ppi Resolution Calc'!$A$2:$E$1001,4,0))","v":""},{"$f":"IF(ISERROR(VLOOKUP($B817,'300ppi Resolution Calc'!$A$2:$E$1001,5,0)),\"\",VLOOKUP($B817,'300ppi Resolution Calc'!$A$2:$E$1001,5,0))","v":""}]
[null,null,null,null,null,null,null,null,null,null,null,"",{"$f":"IF(ISERROR(VLOOKUP($B818,'300ppi Resolution Calc'!$A$2:$E$1001,4,0)),\"\",VLOOKUP($B818,'300ppi Resolution Calc'!$A$2:$E$1001,4,0))","v":""},{"$f":"IF(ISERROR(VLOOKUP($B818,'300ppi Resolution Calc'!$A$2:$E$1001,5,0)),\"\",VLOOKUP($B818,'300ppi Resolution Calc'!$A$2:$E$1001,5,0))","v":""}]
[null,null,null,null,null,null,null,null,null,null,null,"",{"$f":"IF(ISERROR(VLOOKUP($B819,'300ppi Resolution Calc'!$A$2:$E$1001,4,0)),\"\",VLOOKUP($B819,'300ppi Resolution Calc'!$A$2:$E$1001,4,0))","v":""},{"$f":"IF(ISERROR(VLOOKUP($B819,'300ppi Resolution Calc'!$A$2:$E$1001,5,0)),\"\",VLOOKUP($B819,'300ppi Resolution Calc'!$A$2:$E$1001,5,0))","v":""}]
[null,null,null,null,null,null,null,null,null,null,null,"",{"$f":"IF(ISERROR(VLOOKUP($B820,'300ppi Resolution Calc'!$A$2:$E$1001,4,0)),\"\",VLOOKUP($B820,'300ppi Resolution Calc'!$A$2:$E$1001,4,0))","v":""},{"$f":"IF(ISERROR(VLOOKUP($B820,'300ppi Resolution Calc'!$A$2:$E$1001,5,0)),\"\",VLOOKUP($B820,'300ppi Resolution Calc'!$A$2:$E$1001,5,0))","v":""}]
[null,null,null,null,null,null,null,null,null,null,null,"",{"$f":"IF(ISERROR(VLOOKUP($B821,'300ppi Resolution Calc'!$A$2:$E$1001,4,0)),\"\",VLOOKUP($B821,'300ppi Resolution Calc'!$A$2:$E$1001,4,0))","v":""},{"$f":"IF(ISERROR(VLOOKUP($B821,'300ppi Resolution Calc'!$A$2:$E$1001,5,0)),\"\",VLOOKUP($B821,'300ppi Resolution Calc'!$A$2:$E$1001,5,0))","v":""}]
[null,null,null,null,null,null,null,null,null,null,null,"",{"$f":"IF(ISERROR(VLOOKUP($B822,'300ppi Resolution Calc'!$A$2:$E$1001,4,0)),\"\",VLOOKUP($B822,'300ppi Resolution Calc'!$A$2:$E$1001,4,0))","v":""},{"$f":"IF(ISERROR(VLOOKUP($B822,'300ppi Resolution Calc'!$A$2:$E$1001,5,0)),\"\",VLOOKUP($B822,'300ppi Resolution Calc'!$A$2:$E$1001,5,0))","v":""}]
[null,null,null,null,null,null,null,null,null,null,null,"",{"$f":"IF(ISERROR(VLOOKUP($B823,'300ppi Resolution Calc'!$A$2:$E$1001,4,0)),\"\",VLOOKUP($B823,'300ppi Resolution Calc'!$A$2:$E$1001,4,0))","v":""},{"$f":"IF(ISERROR(VLOOKUP($B823,'300ppi Resolution Calc'!$A$2:$E$1001,5,0)),\"\",VLOOKUP($B823,'300ppi Resolution Calc'!$A$2:$E$1001,5,0))","v":""}]
[null,null,null,null,null,null,null,null,null,null,null,"",{"$f":"IF(ISERROR(VLOOKUP($B824,'300ppi Resolution Calc'!$A$2:$E$1001,4,0)),\"\",VLOOKUP($B824,'300ppi Resolution Calc'!$A$2:$E$1001,4,0))","v":""},{"$f":"IF(ISERROR(VLOOKUP($B824,'300ppi Resolution Calc'!$A$2:$E$1001,5,0)),\"\",VLOOKUP($B824,'300ppi Resolution Calc'!$A$2:$E$1001,5,0))","v":""}]
[null,null,null,null,null,null,null,null,null,null,null,"",{"$f":"IF(ISERROR(VLOOKUP($B825,'300ppi Resolution Calc'!$A$2:$E$1001,4,0)),\"\",VLOOKUP($B825,'300ppi Resolution Calc'!$A$2:$E$1001,4,0))","v":""},{"$f":"IF(ISERROR(VLOOKUP($B825,'300ppi Resolution Calc'!$A$2:$E$1001,5,0)),\"\",VLOOKUP($B825,'300ppi Resolution Calc'!$A$2:$E$1001,5,0))","v":""}]
[null,null,null,null,null,null,null,null,null,null,null,"",{"$f":"IF(ISERROR(VLOOKUP($B826,'300ppi Resolution Calc'!$A$2:$E$1001,4,0)),\"\",VLOOKUP($B826,'300ppi Resolution Calc'!$A$2:$E$1001,4,0))","v":""},{"$f":"IF(ISERROR(VLOOKUP($B826,'300ppi Resolution Calc'!$A$2:$E$1001,5,0)),\"\",VLOOKUP($B826,'300ppi Resolution Calc'!$A$2:$E$1001,5,0))","v":""}]
[null,null,null,null,null,null,null,null,null,null,null,"",{"$f":"IF(ISERROR(VLOOKUP($B827,'300ppi Resolution Calc'!$A$2:$E$1001,4,0)),\"\",VLOOKUP($B827,'300ppi Resolution Calc'!$A$2:$E$1001,4,0))","v":""},{"$f":"IF(ISERROR(VLOOKUP($B827,'300ppi Resolution Calc'!$A$2:$E$1001,5,0)),\"\",VLOOKUP($B827,'300ppi Resolution Calc'!$A$2:$E$1001,5,0))","v":""}]
[null,null,null,null,null,null,null,null,null,null,null,"",{"$f":"IF(ISERROR(VLOOKUP($B828,'300ppi Resolution Calc'!$A$2:$E$1001,4,0)),\"\",VLOOKUP($B828,'300ppi Resolution Calc'!$A$2:$E$1001,4,0))","v":""},{"$f":"IF(ISERROR(VLOOKUP($B828,'300ppi Resolution Calc'!$A$2:$E$1001,5,0)),\"\",VLOOKUP($B828,'300ppi Resolution Calc'!$A$2:$E$1001,5,0))","v":""}]
[null,null,null,null,null,null,null,null,null,null,null,"",{"$f":"IF(ISERROR(VLOOKUP($B829,'300ppi Resolution Calc'!$A$2:$E$1001,4,0)),\"\",VLOOKUP($B829,'300ppi Resolution Calc'!$A$2:$E$1001,4,0))","v":""},{"$f":"IF(ISERROR(VLOOKUP($B829,'300ppi Resolution Calc'!$A$2:$E$1001,5,0)),\"\",VLOOKUP($B829,'300ppi Resolution Calc'!$A$2:$E$1001,5,0))","v":""}]
[null,null,null,null,null,null,null,null,null,null,null,"",{"$f":"IF(ISERROR(VLOOKUP($B830,'300ppi Resolution Calc'!$A$2:$E$1001,4,0)),\"\",VLOOKUP($B830,'300ppi Resolution Calc'!$A$2:$E$1001,4,0))","v":""},{"$f":"IF(ISERROR(VLOOKUP($B830,'300ppi Resolution Calc'!$A$2:$E$1001,5,0)),\"\",VLOOKUP($B830,'300ppi Resolution Calc'!$A$2:$E$1001,5,0))","v":""}]
[null,null,null,null,null,null,null,null,null,null,null,"",{"$f":"IF(ISERROR(VLOOKUP($B831,'300ppi Resolution Calc'!$A$2:$E$1001,4,0)),\"\",VLOOKUP($B831,'300ppi Resolution Calc'!$A$2:$E$1001,4,0))","v":""},{"$f":"IF(ISERROR(VLOOKUP($B831,'300ppi Resolution Calc'!$A$2:$E$1001,5,0)),\"\",VLOOKUP($B831,'300ppi Resolution Calc'!$A$2:$E$1001,5,0))","v":""}]
[null,null,null,null,null,null,null,null,null,null,null,"",{"$f":"IF(ISERROR(VLOOKUP($B832,'300ppi Resolution Calc'!$A$2:$E$1001,4,0)),\"\",VLOOKUP($B832,'300ppi Resolution Calc'!$A$2:$E$1001,4,0))","v":""},{"$f":"IF(ISERROR(VLOOKUP($B832,'300ppi Resolution Calc'!$A$2:$E$1001,5,0)),\"\",VLOOKUP($B832,'300ppi Resolution Calc'!$A$2:$E$1001,5,0))","v":""}]
[null,null,null,null,null,null,null,null,null,null,null,"",{"$f":"IF(ISERROR(VLOOKUP($B833,'300ppi Resolution Calc'!$A$2:$E$1001,4,0)),\"\",VLOOKUP($B833,'300ppi Resolution Calc'!$A$2:$E$1001,4,0))","v":""},{"$f":"IF(ISERROR(VLOOKUP($B833,'300ppi Resolution Calc'!$A$2:$E$1001,5,0)),\"\",VLOOKUP($B833,'300ppi Resolution Calc'!$A$2:$E$1001,5,0))","v":""}]
[null,null,null,null,null,null,null,null,null,null,null,"",{"$f":"IF(ISERROR(VLOOKUP($B834,'300ppi Resolution Calc'!$A$2:$E$1001,4,0)),\"\",VLOOKUP($B834,'300ppi Resolution Calc'!$A$2:$E$1001,4,0))","v":""},{"$f":"IF(ISERROR(VLOOKUP($B834,'300ppi Resolution Calc'!$A$2:$E$1001,5,0)),\"\",VLOOKUP($B834,'300ppi Resolution Calc'!$A$2:$E$1001,5,0))","v":""}]
[null,null,null,null,null,null,null,null,null,null,null,"",{"$f":"IF(ISERROR(VLOOKUP($B835,'300ppi Resolution Calc'!$A$2:$E$1001,4,0)),\"\",VLOOKUP($B835,'300ppi Resolution Calc'!$A$2:$E$1001,4,0))","v":""},{"$f":"IF(ISERROR(VLOOKUP($B835,'300ppi Resolution Calc'!$A$2:$E$1001,5,0)),\"\",VLOOKUP($B835,'300ppi Resolution Calc'!$A$2:$E$1001,5,0))","v":""}]
[null,null,null,null,null,null,null,null,null,null,null,"",{"$f":"IF(ISERROR(VLOOKUP($B836,'300ppi Resolution Calc'!$A$2:$E$1001,4,0)),\"\",VLOOKUP($B836,'300ppi Resolution Calc'!$A$2:$E$1001,4,0))","v":""},{"$f":"IF(ISERROR(VLOOKUP($B836,'300ppi Resolution Calc'!$A$2:$E$1001,5,0)),\"\",VLOOKUP($B836,'300ppi Resolution Calc'!$A$2:$E$1001,5,0))","v":""}]
[null,null,null,null,null,null,null,null,null,null,null,"",{"$f":"IF(ISERROR(VLOOKUP($B837,'300ppi Resolution Calc'!$A$2:$E$1001,4,0)),\"\",VLOOKUP($B837,'300ppi Resolution Calc'!$A$2:$E$1001,4,0))","v":""},{"$f":"IF(ISERROR(VLOOKUP($B837,'300ppi Resolution Calc'!$A$2:$E$1001,5,0)),\"\",VLOOKUP($B837,'300ppi Resolution Calc'!$A$2:$E$1001,5,0))","v":""}]
[null,null,null,null,null,null,null,null,null,null,null,"",{"$f":"IF(ISERROR(VLOOKUP($B838,'300ppi Resolution Calc'!$A$2:$E$1001,4,0)),\"\",VLOOKUP($B838,'300ppi Resolution Calc'!$A$2:$E$1001,4,0))","v":""},{"$f":"IF(ISERROR(VLOOKUP($B838,'300ppi Resolution Calc'!$A$2:$E$1001,5,0)),\"\",VLOOKUP($B838,'300ppi Resolution Calc'!$A$2:$E$1001,5,0))","v":""}]
[null,null,null,null,null,null,null,null,null,null,null,"",{"$f":"IF(ISERROR(VLOOKUP($B839,'300ppi Resolution Calc'!$A$2:$E$1001,4,0)),\"\",VLOOKUP($B839,'300ppi Resolution Calc'!$A$2:$E$1001,4,0))","v":""},{"$f":"IF(ISERROR(VLOOKUP($B839,'300ppi Resolution Calc'!$A$2:$E$1001,5,0)),\"\",VLOOKUP($B839,'300ppi Resolution Calc'!$A$2:$E$1001,5,0))","v":""}]
[null,null,null,null,null,null,null,null,null,null,null,{"$f":"IF(AND(I840=\"Creative Commons License\",ISNUMBER(SEARCH(\"(\",J840))),CONCATENATE(B840,\": \",\"Copyright © by \",F840,\" \",J840,\" at \",D840,\".\"),\nIF(AND(I840=\"Creative Commons License\",NOT(ISNUMBER(SEARCH(\"(\",J840)))),CONCATENATE(B840,\": \",\"Copyright © by \",F840,\" (\",J840,\") at \",D840,\".\"),\nIF(I840=\"Public Domain\",CONCATENATE(B840,\": Source: \",D840,\".\"),\nIF(AND(I840=\"Fair Use\",OR(ISNUMBER(SEARCH(\"discuss\",J840)),ISNUMBER(SEARCH(\"critique\",J840)))),CONCATENATE(B840,\": \",\"Copyright © by \",F840,\".\"),\nIF(AND(I840=\"Fair Use\",NOT(OR(ISNUMBER(SEARCH(\"discuss\",J840)),ISNUMBER(SEARCH(\"critique\",J840))))),CONCATENATE(B840,\": Source: \",D840,\".\"),\nIF(AND(I840=\"Request to Rights Holder\",ISBLANK(E840),NOT(ISNUMBER(SEARCH(\"depositphotos\",D840))),NOT(ISNUMBER(SEARCH(\"FAL \",J840))),NOT(ISNUMBER(SEARCH(\"GNU \",J840)))),CONCATENATE(B840,\": \",\"Copyright ©\",\" by \",F840,\".\",\" Reprinted with permission.\"),\nIF(AND(I840=\"Request to Rights Holder\",NOT(ISBLANK(E840)),NOT(ISNUMBER(SEARCH(\"depositphotos\",D840))),NOT(ISNUMBER(SEARCH(\"FAL \",J840))),NOT(ISNUMBER(SEARCH(\"GNU \",J840)))),CONCATENATE(B840,\": \",\"Copyright © \",E840,\" by \",F840,\".\",\" Reprinted with permission.\"),\nIF(AND(I840=\"Request to Rights Holder\",NOT(ISBLANK(E840)),ISNUMBER(SEARCH(\"depositphotos\",D840))),CONCATENATE(B840,\":\",\" Copyright © \",E840,\" Depositphotos\",\"/\",F840,\".\"),\nIF(AND(I840=\"Request to Rights Holder\",ISBLANK(E840),ISNUMBER(SEARCH(\"depositphotos\",D840))),CONCATENATE(B840,\":\",\" Copyright © \",E840,\"Depositphotos\",\"/\",F840,\".\"),\nIF(AND(I840=\"Request to Rights Holder\",ISNUMBER(SEARCH(\"FAL \",J840)),ISNUMBER(SEARCH(\"(\",J840))),CONCATENATE(B840,\": \",\"Copyright © by \",F840,\" \",J840,\" at \",D840,\". A copy of the license can be found here: http://artlibre.org/licence/lal/en.\"),\nIF(AND(I840=\"Request to Rights Holder\",ISNUMBER(SEARCH(\"FAL \",J840)),NOT(ISNUMBER(SEARCH(\"(\",J840)))),CONCATENATE(B840,\": \",\"Copyright © by \",F840,\" (\",J840,\") at \",D840,\". A copy of the license can be found here: http://artlibre.org/licence/lal/en.\"),\nIF(AND(I840=\"Request to Rights Holder\",ISNUMBER(SEARCH(\"GNU \",J840)),ISNUMBER(SEARCH(\"(\",J840))),CONCATENATE(B840,\": \",\"Copyright © by \",F840,\" \",J840,\" at \",D840,\". A copy of the license can be found here: http://www.gnu.org/licenses/gpl.html\"),\nIF(AND(I840=\"Request to Rights Holder\",ISNUMBER(SEARCH(\"GNU \",J840)),NOT(ISNUMBER(SEARCH(\"(\",J840)))),CONCATENATE(B840,\": \",\"Copyright © by \",F840,\" (\",J840,\") at \",D840,\". A copy of the license can be found here: http://www.gnu.org/licenses/gpl.html\"),\n\"\")))))))))))))","v":""},{"$f":"IF(ISERROR(VLOOKUP($B840,'300ppi Resolution Calc'!$A$2:$E$1001,4,0)),\"\",VLOOKUP($B840,'300ppi Resolution Calc'!$A$2:$E$1001,4,0))","v":""},{"$f":"IF(ISERROR(VLOOKUP($B840,'300ppi Resolution Calc'!$A$2:$E$1001,5,0)),\"\",VLOOKUP($B840,'300ppi Resolution Calc'!$A$2:$E$1001,5,0))","v":""}]
[null,null,null,null,null,null,null,null,null,null,null,"",{"$f":"IF(ISERROR(VLOOKUP($B841,'300ppi Resolution Calc'!$A$2:$E$1001,4,0)),\"\",VLOOKUP($B841,'300ppi Resolution Calc'!$A$2:$E$1001,4,0))","v":""},{"$f":"IF(ISERROR(VLOOKUP($B841,'300ppi Resolution Calc'!$A$2:$E$1001,5,0)),\"\",VLOOKUP($B841,'300ppi Resolution Calc'!$A$2:$E$1001,5,0))","v":""}]
[null,null,null,null,null,null,null,null,null,null,null,"",{"$f":"IF(ISERROR(VLOOKUP($B842,'300ppi Resolution Calc'!$A$2:$E$1001,4,0)),\"\",VLOOKUP($B842,'300ppi Resolution Calc'!$A$2:$E$1001,4,0))","v":""},{"$f":"IF(ISERROR(VLOOKUP($B842,'300ppi Resolution Calc'!$A$2:$E$1001,5,0)),\"\",VLOOKUP($B842,'300ppi Resolution Calc'!$A$2:$E$1001,5,0))","v":""}]
[null,null,null,null,null,null,null,null,null,null,null,"",{"$f":"IF(ISERROR(VLOOKUP($B843,'300ppi Resolution Calc'!$A$2:$E$1001,4,0)),\"\",VLOOKUP($B843,'300ppi Resolution Calc'!$A$2:$E$1001,4,0))","v":""},{"$f":"IF(ISERROR(VLOOKUP($B843,'300ppi Resolution Calc'!$A$2:$E$1001,5,0)),\"\",VLOOKUP($B843,'300ppi Resolution Calc'!$A$2:$E$1001,5,0))","v":""}]
[null,null,null,null,null,null,null,null,null,null,null,"",{"$f":"IF(ISERROR(VLOOKUP($B844,'300ppi Resolution Calc'!$A$2:$E$1001,4,0)),\"\",VLOOKUP($B844,'300ppi Resolution Calc'!$A$2:$E$1001,4,0))","v":""},{"$f":"IF(ISERROR(VLOOKUP($B844,'300ppi Resolution Calc'!$A$2:$E$1001,5,0)),\"\",VLOOKUP($B844,'300ppi Resolution Calc'!$A$2:$E$1001,5,0))","v":""}]
[null,null,null,null,null,null,null,null,null,null,null,"",{"$f":"IF(ISERROR(VLOOKUP($B845,'300ppi Resolution Calc'!$A$2:$E$1001,4,0)),\"\",VLOOKUP($B845,'300ppi Resolution Calc'!$A$2:$E$1001,4,0))","v":""},{"$f":"IF(ISERROR(VLOOKUP($B845,'300ppi Resolution Calc'!$A$2:$E$1001,5,0)),\"\",VLOOKUP($B845,'300ppi Resolution Calc'!$A$2:$E$1001,5,0))","v":""}]
[null,null,null,null,null,null,null,null,null,null,null,"",{"$f":"IF(ISERROR(VLOOKUP($B846,'300ppi Resolution Calc'!$A$2:$E$1001,4,0)),\"\",VLOOKUP($B846,'300ppi Resolution Calc'!$A$2:$E$1001,4,0))","v":""},{"$f":"IF(ISERROR(VLOOKUP($B846,'300ppi Resolution Calc'!$A$2:$E$1001,5,0)),\"\",VLOOKUP($B846,'300ppi Resolution Calc'!$A$2:$E$1001,5,0))","v":""}]
[null,null,null,null,null,null,null,null,null,null,null,"",{"$f":"IF(ISERROR(VLOOKUP($B847,'300ppi Resolution Calc'!$A$2:$E$1001,4,0)),\"\",VLOOKUP($B847,'300ppi Resolution Calc'!$A$2:$E$1001,4,0))","v":""},{"$f":"IF(ISERROR(VLOOKUP($B847,'300ppi Resolution Calc'!$A$2:$E$1001,5,0)),\"\",VLOOKUP($B847,'300ppi Resolution Calc'!$A$2:$E$1001,5,0))","v":""}]
[null,null,null,null,null,null,null,null,null,null,null,"",{"$f":"IF(ISERROR(VLOOKUP($B848,'300ppi Resolution Calc'!$A$2:$E$1001,4,0)),\"\",VLOOKUP($B848,'300ppi Resolution Calc'!$A$2:$E$1001,4,0))","v":""},{"$f":"IF(ISERROR(VLOOKUP($B848,'300ppi Resolution Calc'!$A$2:$E$1001,5,0)),\"\",VLOOKUP($B848,'300ppi Resolution Calc'!$A$2:$E$1001,5,0))","v":""}]
[null,null,null,null,null,null,null,null,null,null,null,"",{"$f":"IF(ISERROR(VLOOKUP($B849,'300ppi Resolution Calc'!$A$2:$E$1001,4,0)),\"\",VLOOKUP($B849,'300ppi Resolution Calc'!$A$2:$E$1001,4,0))","v":""},{"$f":"IF(ISERROR(VLOOKUP($B849,'300ppi Resolution Calc'!$A$2:$E$1001,5,0)),\"\",VLOOKUP($B849,'300ppi Resolution Calc'!$A$2:$E$1001,5,0))","v":""}]
[null,null,null,null,null,null,null,null,null,null,null,"",{"$f":"IF(ISERROR(VLOOKUP($B850,'300ppi Resolution Calc'!$A$2:$E$1001,4,0)),\"\",VLOOKUP($B850,'300ppi Resolution Calc'!$A$2:$E$1001,4,0))","v":""},{"$f":"IF(ISERROR(VLOOKUP($B850,'300ppi Resolution Calc'!$A$2:$E$1001,5,0)),\"\",VLOOKUP($B850,'300ppi Resolution Calc'!$A$2:$E$1001,5,0))","v":""}]
[null,null,null,null,null,null,null,null,null,null,null,"",{"$f":"IF(ISERROR(VLOOKUP($B851,'300ppi Resolution Calc'!$A$2:$E$1001,4,0)),\"\",VLOOKUP($B851,'300ppi Resolution Calc'!$A$2:$E$1001,4,0))","v":""},{"$f":"IF(ISERROR(VLOOKUP($B851,'300ppi Resolution Calc'!$A$2:$E$1001,5,0)),\"\",VLOOKUP($B851,'300ppi Resolution Calc'!$A$2:$E$1001,5,0))","v":""}]
[null,null,null,null,null,null,null,null,null,null,null,"",{"$f":"IF(ISERROR(VLOOKUP($B852,'300ppi Resolution Calc'!$A$2:$E$1001,4,0)),\"\",VLOOKUP($B852,'300ppi Resolution Calc'!$A$2:$E$1001,4,0))","v":""},{"$f":"IF(ISERROR(VLOOKUP($B852,'300ppi Resolution Calc'!$A$2:$E$1001,5,0)),\"\",VLOOKUP($B852,'300ppi Resolution Calc'!$A$2:$E$1001,5,0))","v":""}]
[null,null,null,null,null,null,null,null,null,null,null,"",{"$f":"IF(ISERROR(VLOOKUP($B853,'300ppi Resolution Calc'!$A$2:$E$1001,4,0)),\"\",VLOOKUP($B853,'300ppi Resolution Calc'!$A$2:$E$1001,4,0))","v":""},{"$f":"IF(ISERROR(VLOOKUP($B853,'300ppi Resolution Calc'!$A$2:$E$1001,5,0)),\"\",VLOOKUP($B853,'300ppi Resolution Calc'!$A$2:$E$1001,5,0))","v":""}]
[null,null,null,null,null,null,null,null,null,null,null,"",{"$f":"IF(ISERROR(VLOOKUP($B854,'300ppi Resolution Calc'!$A$2:$E$1001,4,0)),\"\",VLOOKUP($B854,'300ppi Resolution Calc'!$A$2:$E$1001,4,0))","v":""},{"$f":"IF(ISERROR(VLOOKUP($B854,'300ppi Resolution Calc'!$A$2:$E$1001,5,0)),\"\",VLOOKUP($B854,'300ppi Resolution Calc'!$A$2:$E$1001,5,0))","v":""}]
[null,null,null,null,null,null,null,null,null,null,null,"",{"$f":"IF(ISERROR(VLOOKUP($B855,'300ppi Resolution Calc'!$A$2:$E$1001,4,0)),\"\",VLOOKUP($B855,'300ppi Resolution Calc'!$A$2:$E$1001,4,0))","v":""},{"$f":"IF(ISERROR(VLOOKUP($B855,'300ppi Resolution Calc'!$A$2:$E$1001,5,0)),\"\",VLOOKUP($B855,'300ppi Resolution Calc'!$A$2:$E$1001,5,0))","v":""}]
[null,null,null,null,null,null,null,null,null,null,null,"",{"$f":"IF(ISERROR(VLOOKUP($B856,'300ppi Resolution Calc'!$A$2:$E$1001,4,0)),\"\",VLOOKUP($B856,'300ppi Resolution Calc'!$A$2:$E$1001,4,0))","v":""},{"$f":"IF(ISERROR(VLOOKUP($B856,'300ppi Resolution Calc'!$A$2:$E$1001,5,0)),\"\",VLOOKUP($B856,'300ppi Resolution Calc'!$A$2:$E$1001,5,0))","v":""}]
[null,null,null,null,null,null,null,null,null,null,null,"",{"$f":"IF(ISERROR(VLOOKUP($B857,'300ppi Resolution Calc'!$A$2:$E$1001,4,0)),\"\",VLOOKUP($B857,'300ppi Resolution Calc'!$A$2:$E$1001,4,0))","v":""},{"$f":"IF(ISERROR(VLOOKUP($B857,'300ppi Resolution Calc'!$A$2:$E$1001,5,0)),\"\",VLOOKUP($B857,'300ppi Resolution Calc'!$A$2:$E$1001,5,0))","v":""}]
[null,null,null,null,null,null,null,null,null,null,null,"",{"$f":"IF(ISERROR(VLOOKUP($B858,'300ppi Resolution Calc'!$A$2:$E$1001,4,0)),\"\",VLOOKUP($B858,'300ppi Resolution Calc'!$A$2:$E$1001,4,0))","v":""},{"$f":"IF(ISERROR(VLOOKUP($B858,'300ppi Resolution Calc'!$A$2:$E$1001,5,0)),\"\",VLOOKUP($B858,'300ppi Resolution Calc'!$A$2:$E$1001,5,0))","v":""}]
[null,null,null,null,null,null,null,null,null,null,null,"",{"$f":"IF(ISERROR(VLOOKUP($B859,'300ppi Resolution Calc'!$A$2:$E$1001,4,0)),\"\",VLOOKUP($B859,'300ppi Resolution Calc'!$A$2:$E$1001,4,0))","v":""},{"$f":"IF(ISERROR(VLOOKUP($B859,'300ppi Resolution Calc'!$A$2:$E$1001,5,0)),\"\",VLOOKUP($B859,'300ppi Resolution Calc'!$A$2:$E$1001,5,0))","v":""}]
[null,null,null,null,null,null,null,null,null,null,null,"",{"$f":"IF(ISERROR(VLOOKUP($B860,'300ppi Resolution Calc'!$A$2:$E$1001,4,0)),\"\",VLOOKUP($B860,'300ppi Resolution Calc'!$A$2:$E$1001,4,0))","v":""},{"$f":"IF(ISERROR(VLOOKUP($B860,'300ppi Resolution Calc'!$A$2:$E$1001,5,0)),\"\",VLOOKUP($B860,'300ppi Resolution Calc'!$A$2:$E$1001,5,0))","v":""}]
[null,null,null,null,null,null,null,null,null,null,null,"",{"$f":"IF(ISERROR(VLOOKUP($B861,'300ppi Resolution Calc'!$A$2:$E$1001,4,0)),\"\",VLOOKUP($B861,'300ppi Resolution Calc'!$A$2:$E$1001,4,0))","v":""},{"$f":"IF(ISERROR(VLOOKUP($B861,'300ppi Resolution Calc'!$A$2:$E$1001,5,0)),\"\",VLOOKUP($B861,'300ppi Resolution Calc'!$A$2:$E$1001,5,0))","v":""}]
[null,null,null,null,null,null,null,null,null,null,null,"",{"$f":"IF(ISERROR(VLOOKUP($B862,'300ppi Resolution Calc'!$A$2:$E$1001,4,0)),\"\",VLOOKUP($B862,'300ppi Resolution Calc'!$A$2:$E$1001,4,0))","v":""},{"$f":"IF(ISERROR(VLOOKUP($B862,'300ppi Resolution Calc'!$A$2:$E$1001,5,0)),\"\",VLOOKUP($B862,'300ppi Resolution Calc'!$A$2:$E$1001,5,0))","v":""}]
[null,null,null,null,null,null,null,null,null,null,null,"",{"$f":"IF(ISERROR(VLOOKUP($B863,'300ppi Resolution Calc'!$A$2:$E$1001,4,0)),\"\",VLOOKUP($B863,'300ppi Resolution Calc'!$A$2:$E$1001,4,0))","v":""},{"$f":"IF(ISERROR(VLOOKUP($B863,'300ppi Resolution Calc'!$A$2:$E$1001,5,0)),\"\",VLOOKUP($B863,'300ppi Resolution Calc'!$A$2:$E$1001,5,0))","v":""}]
[null,null,null,null,null,null,null,null,null,null,null,"",{"$f":"IF(ISERROR(VLOOKUP($B864,'300ppi Resolution Calc'!$A$2:$E$1001,4,0)),\"\",VLOOKUP($B864,'300ppi Resolution Calc'!$A$2:$E$1001,4,0))","v":""},{"$f":"IF(ISERROR(VLOOKUP($B864,'300ppi Resolution Calc'!$A$2:$E$1001,5,0)),\"\",VLOOKUP($B864,'300ppi Resolution Calc'!$A$2:$E$1001,5,0))","v":""}]
[null,null,null,null,null,null,null,null,null,null,null,"",{"$f":"IF(ISERROR(VLOOKUP($B865,'300ppi Resolution Calc'!$A$2:$E$1001,4,0)),\"\",VLOOKUP($B865,'300ppi Resolution Calc'!$A$2:$E$1001,4,0))","v":""},{"$f":"IF(ISERROR(VLOOKUP($B865,'300ppi Resolution Calc'!$A$2:$E$1001,5,0)),\"\",VLOOKUP($B865,'300ppi Resolution Calc'!$A$2:$E$1001,5,0))","v":""}]
[null,null,null,null,null,null,null,null,null,null,null,"",{"$f":"IF(ISERROR(VLOOKUP($B866,'300ppi Resolution Calc'!$A$2:$E$1001,4,0)),\"\",VLOOKUP($B866,'300ppi Resolution Calc'!$A$2:$E$1001,4,0))","v":""},{"$f":"IF(ISERROR(VLOOKUP($B866,'300ppi Resolution Calc'!$A$2:$E$1001,5,0)),\"\",VLOOKUP($B866,'300ppi Resolution Calc'!$A$2:$E$1001,5,0))","v":""}]
[null,null,null,null,null,null,null,null,null,null,null,"",{"$f":"IF(ISERROR(VLOOKUP($B867,'300ppi Resolution Calc'!$A$2:$E$1001,4,0)),\"\",VLOOKUP($B867,'300ppi Resolution Calc'!$A$2:$E$1001,4,0))","v":""},{"$f":"IF(ISERROR(VLOOKUP($B867,'300ppi Resolution Calc'!$A$2:$E$1001,5,0)),\"\",VLOOKUP($B867,'300ppi Resolution Calc'!$A$2:$E$1001,5,0))","v":""}]
[null,null,null,null,null,null,null,null,null,null,null,"",{"$f":"IF(ISERROR(VLOOKUP($B868,'300ppi Resolution Calc'!$A$2:$E$1001,4,0)),\"\",VLOOKUP($B868,'300ppi Resolution Calc'!$A$2:$E$1001,4,0))","v":""},{"$f":"IF(ISERROR(VLOOKUP($B868,'300ppi Resolution Calc'!$A$2:$E$1001,5,0)),\"\",VLOOKUP($B868,'300ppi Resolution Calc'!$A$2:$E$1001,5,0))","v":""}]
[null,null,null,null,null,null,null,null,null,null,null,"",{"$f":"IF(ISERROR(VLOOKUP($B869,'300ppi Resolution Calc'!$A$2:$E$1001,4,0)),\"\",VLOOKUP($B869,'300ppi Resolution Calc'!$A$2:$E$1001,4,0))","v":""},{"$f":"IF(ISERROR(VLOOKUP($B869,'300ppi Resolution Calc'!$A$2:$E$1001,5,0)),\"\",VLOOKUP($B869,'300ppi Resolution Calc'!$A$2:$E$1001,5,0))","v":""}]
[null,null,null,null,null,null,null,null,null,null,null,"",{"$f":"IF(ISERROR(VLOOKUP($B870,'300ppi Resolution Calc'!$A$2:$E$1001,4,0)),\"\",VLOOKUP($B870,'300ppi Resolution Calc'!$A$2:$E$1001,4,0))","v":""},{"$f":"IF(ISERROR(VLOOKUP($B870,'300ppi Resolution Calc'!$A$2:$E$1001,5,0)),\"\",VLOOKUP($B870,'300ppi Resolution Calc'!$A$2:$E$1001,5,0))","v":""}]
[null,null,null,null,null,null,null,null,null,null,null,"",{"$f":"IF(ISERROR(VLOOKUP($B871,'300ppi Resolution Calc'!$A$2:$E$1001,4,0)),\"\",VLOOKUP($B871,'300ppi Resolution Calc'!$A$2:$E$1001,4,0))","v":""},{"$f":"IF(ISERROR(VLOOKUP($B871,'300ppi Resolution Calc'!$A$2:$E$1001,5,0)),\"\",VLOOKUP($B871,'300ppi Resolution Calc'!$A$2:$E$1001,5,0))","v":""}]
[null,null,null,null,null,null,null,null,null,null,null,"",{"$f":"IF(ISERROR(VLOOKUP($B872,'300ppi Resolution Calc'!$A$2:$E$1001,4,0)),\"\",VLOOKUP($B872,'300ppi Resolution Calc'!$A$2:$E$1001,4,0))","v":""},{"$f":"IF(ISERROR(VLOOKUP($B872,'300ppi Resolution Calc'!$A$2:$E$1001,5,0)),\"\",VLOOKUP($B872,'300ppi Resolution Calc'!$A$2:$E$1001,5,0))","v":""}]
[null,null,null,null,null,null,null,null,null,null,null,"",{"$f":"IF(ISERROR(VLOOKUP($B873,'300ppi Resolution Calc'!$A$2:$E$1001,4,0)),\"\",VLOOKUP($B873,'300ppi Resolution Calc'!$A$2:$E$1001,4,0))","v":""},{"$f":"IF(ISERROR(VLOOKUP($B873,'300ppi Resolution Calc'!$A$2:$E$1001,5,0)),\"\",VLOOKUP($B873,'300ppi Resolution Calc'!$A$2:$E$1001,5,0))","v":""}]
[null,null,null,null,null,null,null,null,null,null,null,"",{"$f":"IF(ISERROR(VLOOKUP($B874,'300ppi Resolution Calc'!$A$2:$E$1001,4,0)),\"\",VLOOKUP($B874,'300ppi Resolution Calc'!$A$2:$E$1001,4,0))","v":""},{"$f":"IF(ISERROR(VLOOKUP($B874,'300ppi Resolution Calc'!$A$2:$E$1001,5,0)),\"\",VLOOKUP($B874,'300ppi Resolution Calc'!$A$2:$E$1001,5,0))","v":""}]
[null,null,null,null,null,null,null,null,null,null,null,"",{"$f":"IF(ISERROR(VLOOKUP($B875,'300ppi Resolution Calc'!$A$2:$E$1001,4,0)),\"\",VLOOKUP($B875,'300ppi Resolution Calc'!$A$2:$E$1001,4,0))","v":""},{"$f":"IF(ISERROR(VLOOKUP($B875,'300ppi Resolution Calc'!$A$2:$E$1001,5,0)),\"\",VLOOKUP($B875,'300ppi Resolution Calc'!$A$2:$E$1001,5,0))","v":""}]
[null,null,null,null,null,null,null,null,null,null,null,"",{"$f":"IF(ISERROR(VLOOKUP($B876,'300ppi Resolution Calc'!$A$2:$E$1001,4,0)),\"\",VLOOKUP($B876,'300ppi Resolution Calc'!$A$2:$E$1001,4,0))","v":""},{"$f":"IF(ISERROR(VLOOKUP($B876,'300ppi Resolution Calc'!$A$2:$E$1001,5,0)),\"\",VLOOKUP($B876,'300ppi Resolution Calc'!$A$2:$E$1001,5,0))","v":""}]
[null,null,null,null,null,null,null,null,null,null,null,"",{"$f":"IF(ISERROR(VLOOKUP($B877,'300ppi Resolution Calc'!$A$2:$E$1001,4,0)),\"\",VLOOKUP($B877,'300ppi Resolution Calc'!$A$2:$E$1001,4,0))","v":""},{"$f":"IF(ISERROR(VLOOKUP($B877,'300ppi Resolution Calc'!$A$2:$E$1001,5,0)),\"\",VLOOKUP($B877,'300ppi Resolution Calc'!$A$2:$E$1001,5,0))","v":""}]
[null,null,null,null,null,null,null,null,null,null,null,"",{"$f":"IF(ISERROR(VLOOKUP($B878,'300ppi Resolution Calc'!$A$2:$E$1001,4,0)),\"\",VLOOKUP($B878,'300ppi Resolution Calc'!$A$2:$E$1001,4,0))","v":""},{"$f":"IF(ISERROR(VLOOKUP($B878,'300ppi Resolution Calc'!$A$2:$E$1001,5,0)),\"\",VLOOKUP($B878,'300ppi Resolution Calc'!$A$2:$E$1001,5,0))","v":""}]
[null,null,null,null,null,null,null,null,null,null,null,"",{"$f":"IF(ISERROR(VLOOKUP($B879,'300ppi Resolution Calc'!$A$2:$E$1001,4,0)),\"\",VLOOKUP($B879,'300ppi Resolution Calc'!$A$2:$E$1001,4,0))","v":""},{"$f":"IF(ISERROR(VLOOKUP($B879,'300ppi Resolution Calc'!$A$2:$E$1001,5,0)),\"\",VLOOKUP($B879,'300ppi Resolution Calc'!$A$2:$E$1001,5,0))","v":""}]
[null,null,null,null,null,null,null,null,null,null,null,"",{"$f":"IF(ISERROR(VLOOKUP($B880,'300ppi Resolution Calc'!$A$2:$E$1001,4,0)),\"\",VLOOKUP($B880,'300ppi Resolution Calc'!$A$2:$E$1001,4,0))","v":""},{"$f":"IF(ISERROR(VLOOKUP($B880,'300ppi Resolution Calc'!$A$2:$E$1001,5,0)),\"\",VLOOKUP($B880,'300ppi Resolution Calc'!$A$2:$E$1001,5,0))","v":""}]
[null,null,null,null,null,null,null,null,null,null,null,"",{"$f":"IF(ISERROR(VLOOKUP($B881,'300ppi Resolution Calc'!$A$2:$E$1001,4,0)),\"\",VLOOKUP($B881,'300ppi Resolution Calc'!$A$2:$E$1001,4,0))","v":""},{"$f":"IF(ISERROR(VLOOKUP($B881,'300ppi Resolution Calc'!$A$2:$E$1001,5,0)),\"\",VLOOKUP($B881,'300ppi Resolution Calc'!$A$2:$E$1001,5,0))","v":""}]
[null,null,null,null,null,null,null,null,null,null,null,"",{"$f":"IF(ISERROR(VLOOKUP($B882,'300ppi Resolution Calc'!$A$2:$E$1001,4,0)),\"\",VLOOKUP($B882,'300ppi Resolution Calc'!$A$2:$E$1001,4,0))","v":""},{"$f":"IF(ISERROR(VLOOKUP($B882,'300ppi Resolution Calc'!$A$2:$E$1001,5,0)),\"\",VLOOKUP($B882,'300ppi Resolution Calc'!$A$2:$E$1001,5,0))","v":""}]
[null,null,null,null,null,null,null,null,null,null,null,"",{"$f":"IF(ISERROR(VLOOKUP($B883,'300ppi Resolution Calc'!$A$2:$E$1001,4,0)),\"\",VLOOKUP($B883,'300ppi Resolution Calc'!$A$2:$E$1001,4,0))","v":""},{"$f":"IF(ISERROR(VLOOKUP($B883,'300ppi Resolution Calc'!$A$2:$E$1001,5,0)),\"\",VLOOKUP($B883,'300ppi Resolution Calc'!$A$2:$E$1001,5,0))","v":""}]
[null,null,null,null,null,null,null,null,null,null,null,"",{"$f":"IF(ISERROR(VLOOKUP($B884,'300ppi Resolution Calc'!$A$2:$E$1001,4,0)),\"\",VLOOKUP($B884,'300ppi Resolution Calc'!$A$2:$E$1001,4,0))","v":""},{"$f":"IF(ISERROR(VLOOKUP($B884,'300ppi Resolution Calc'!$A$2:$E$1001,5,0)),\"\",VLOOKUP($B884,'300ppi Resolution Calc'!$A$2:$E$1001,5,0))","v":""}]
[null,null,null,null,null,null,null,null,null,null,null,"",{"$f":"IF(ISERROR(VLOOKUP($B885,'300ppi Resolution Calc'!$A$2:$E$1001,4,0)),\"\",VLOOKUP($B885,'300ppi Resolution Calc'!$A$2:$E$1001,4,0))","v":""},{"$f":"IF(ISERROR(VLOOKUP($B885,'300ppi Resolution Calc'!$A$2:$E$1001,5,0)),\"\",VLOOKUP($B885,'300ppi Resolution Calc'!$A$2:$E$1001,5,0))","v":""}]
[null,null,null,null,null,null,null,null,null,null,null,"",{"$f":"IF(ISERROR(VLOOKUP($B886,'300ppi Resolution Calc'!$A$2:$E$1001,4,0)),\"\",VLOOKUP($B886,'300ppi Resolution Calc'!$A$2:$E$1001,4,0))","v":""},{"$f":"IF(ISERROR(VLOOKUP($B886,'300ppi Resolution Calc'!$A$2:$E$1001,5,0)),\"\",VLOOKUP($B886,'300ppi Resolution Calc'!$A$2:$E$1001,5,0))","v":""}]
[null,null,null,null,null,null,null,null,null,null,null,"",{"$f":"IF(ISERROR(VLOOKUP($B887,'300ppi Resolution Calc'!$A$2:$E$1001,4,0)),\"\",VLOOKUP($B887,'300ppi Resolution Calc'!$A$2:$E$1001,4,0))","v":""},{"$f":"IF(ISERROR(VLOOKUP($B887,'300ppi Resolution Calc'!$A$2:$E$1001,5,0)),\"\",VLOOKUP($B887,'300ppi Resolution Calc'!$A$2:$E$1001,5,0))","v":""}]
[null,null,null,null,null,null,null,null,null,null,null,"",{"$f":"IF(ISERROR(VLOOKUP($B888,'300ppi Resolution Calc'!$A$2:$E$1001,4,0)),\"\",VLOOKUP($B888,'300ppi Resolution Calc'!$A$2:$E$1001,4,0))","v":""},{"$f":"IF(ISERROR(VLOOKUP($B888,'300ppi Resolution Calc'!$A$2:$E$1001,5,0)),\"\",VLOOKUP($B888,'300ppi Resolution Calc'!$A$2:$E$1001,5,0))","v":""}]
[null,null,null,null,null,null,null,null,null,null,null,"",{"$f":"IF(ISERROR(VLOOKUP($B889,'300ppi Resolution Calc'!$A$2:$E$1001,4,0)),\"\",VLOOKUP($B889,'300ppi Resolution Calc'!$A$2:$E$1001,4,0))","v":""},{"$f":"IF(ISERROR(VLOOKUP($B889,'300ppi Resolution Calc'!$A$2:$E$1001,5,0)),\"\",VLOOKUP($B889,'300ppi Resolution Calc'!$A$2:$E$1001,5,0))","v":""}]
[null,null,null,null,null,null,null,null,null,null,null,"",{"$f":"IF(ISERROR(VLOOKUP($B890,'300ppi Resolution Calc'!$A$2:$E$1001,4,0)),\"\",VLOOKUP($B890,'300ppi Resolution Calc'!$A$2:$E$1001,4,0))","v":""},{"$f":"IF(ISERROR(VLOOKUP($B890,'300ppi Resolution Calc'!$A$2:$E$1001,5,0)),\"\",VLOOKUP($B890,'300ppi Resolution Calc'!$A$2:$E$1001,5,0))","v":""}]
[null,null,null,null,null,null,null,null,null,null,null,"",{"$f":"IF(ISERROR(VLOOKUP($B891,'300ppi Resolution Calc'!$A$2:$E$1001,4,0)),\"\",VLOOKUP($B891,'300ppi Resolution Calc'!$A$2:$E$1001,4,0))","v":""},{"$f":"IF(ISERROR(VLOOKUP($B891,'300ppi Resolution Calc'!$A$2:$E$1001,5,0)),\"\",VLOOKUP($B891,'300ppi Resolution Calc'!$A$2:$E$1001,5,0))","v":""}]
[null,null,null,null,null,null,null,null,null,null,null,"",{"$f":"IF(ISERROR(VLOOKUP($B892,'300ppi Resolution Calc'!$A$2:$E$1001,4,0)),\"\",VLOOKUP($B892,'300ppi Resolution Calc'!$A$2:$E$1001,4,0))","v":""},{"$f":"IF(ISERROR(VLOOKUP($B892,'300ppi Resolution Calc'!$A$2:$E$1001,5,0)),\"\",VLOOKUP($B892,'300ppi Resolution Calc'!$A$2:$E$1001,5,0))","v":""}]
[null,null,null,null,null,null,null,null,null,null,null,"",{"$f":"IF(ISERROR(VLOOKUP($B893,'300ppi Resolution Calc'!$A$2:$E$1001,4,0)),\"\",VLOOKUP($B893,'300ppi Resolution Calc'!$A$2:$E$1001,4,0))","v":""},{"$f":"IF(ISERROR(VLOOKUP($B893,'300ppi Resolution Calc'!$A$2:$E$1001,5,0)),\"\",VLOOKUP($B893,'300ppi Resolution Calc'!$A$2:$E$1001,5,0))","v":""}]
[null,null,null,null,null,null,null,null,null,null,null,"",{"$f":"IF(ISERROR(VLOOKUP($B894,'300ppi Resolution Calc'!$A$2:$E$1001,4,0)),\"\",VLOOKUP($B894,'300ppi Resolution Calc'!$A$2:$E$1001,4,0))","v":""},{"$f":"IF(ISERROR(VLOOKUP($B894,'300ppi Resolution Calc'!$A$2:$E$1001,5,0)),\"\",VLOOKUP($B894,'300ppi Resolution Calc'!$A$2:$E$1001,5,0))","v":""}]
[null,null,null,null,null,null,null,null,null,null,null,"",{"$f":"IF(ISERROR(VLOOKUP($B895,'300ppi Resolution Calc'!$A$2:$E$1001,4,0)),\"\",VLOOKUP($B895,'300ppi Resolution Calc'!$A$2:$E$1001,4,0))","v":""},{"$f":"IF(ISERROR(VLOOKUP($B895,'300ppi Resolution Calc'!$A$2:$E$1001,5,0)),\"\",VLOOKUP($B895,'300ppi Resolution Calc'!$A$2:$E$1001,5,0))","v":""}]
[null,null,null,null,null,null,null,null,null,null,null,"",{"$f":"IF(ISERROR(VLOOKUP($B896,'300ppi Resolution Calc'!$A$2:$E$1001,4,0)),\"\",VLOOKUP($B896,'300ppi Resolution Calc'!$A$2:$E$1001,4,0))","v":""},{"$f":"IF(ISERROR(VLOOKUP($B896,'300ppi Resolution Calc'!$A$2:$E$1001,5,0)),\"\",VLOOKUP($B896,'300ppi Resolution Calc'!$A$2:$E$1001,5,0))","v":""}]
[null,null,null,null,null,null,null,null,null,null,null,"",{"$f":"IF(ISERROR(VLOOKUP($B897,'300ppi Resolution Calc'!$A$2:$E$1001,4,0)),\"\",VLOOKUP($B897,'300ppi Resolution Calc'!$A$2:$E$1001,4,0))","v":""},{"$f":"IF(ISERROR(VLOOKUP($B897,'300ppi Resolution Calc'!$A$2:$E$1001,5,0)),\"\",VLOOKUP($B897,'300ppi Resolution Calc'!$A$2:$E$1001,5,0))","v":""}]
[null,null,null,null,null,null,null,null,null,null,null,"",{"$f":"IF(ISERROR(VLOOKUP($B898,'300ppi Resolution Calc'!$A$2:$E$1001,4,0)),\"\",VLOOKUP($B898,'300ppi Resolution Calc'!$A$2:$E$1001,4,0))","v":""},{"$f":"IF(ISERROR(VLOOKUP($B898,'300ppi Resolution Calc'!$A$2:$E$1001,5,0)),\"\",VLOOKUP($B898,'300ppi Resolution Calc'!$A$2:$E$1001,5,0))","v":""}]
[null,null,null,null,null,null,null,null,null,null,null,"",{"$f":"IF(ISERROR(VLOOKUP($B899,'300ppi Resolution Calc'!$A$2:$E$1001,4,0)),\"\",VLOOKUP($B899,'300ppi Resolution Calc'!$A$2:$E$1001,4,0))","v":""},{"$f":"IF(ISERROR(VLOOKUP($B899,'300ppi Resolution Calc'!$A$2:$E$1001,5,0)),\"\",VLOOKUP($B899,'300ppi Resolution Calc'!$A$2:$E$1001,5,0))","v":""}]
[null,null,null,null,null,null,null,null,null,null,null,"",{"$f":"IF(ISERROR(VLOOKUP($B900,'300ppi Resolution Calc'!$A$2:$E$1001,4,0)),\"\",VLOOKUP($B900,'300ppi Resolution Calc'!$A$2:$E$1001,4,0))","v":""},{"$f":"IF(ISERROR(VLOOKUP($B900,'300ppi Resolution Calc'!$A$2:$E$1001,5,0)),\"\",VLOOKUP($B900,'300ppi Resolution Calc'!$A$2:$E$1001,5,0))","v":""}]
[null,null,null,null,null,null,null,null,null,null,null,"",{"$f":"IF(ISERROR(VLOOKUP($B901,'300ppi Resolution Calc'!$A$2:$E$1001,4,0)),\"\",VLOOKUP($B901,'300ppi Resolution Calc'!$A$2:$E$1001,4,0))","v":""},{"$f":"IF(ISERROR(VLOOKUP($B901,'300ppi Resolution Calc'!$A$2:$E$1001,5,0)),\"\",VLOOKUP($B901,'300ppi Resolution Calc'!$A$2:$E$1001,5,0))","v":""}]
[null,null,null,null,null,null,null,null,null,null,null,"",{"$f":"IF(ISERROR(VLOOKUP($B902,'300ppi Resolution Calc'!$A$2:$E$1001,4,0)),\"\",VLOOKUP($B902,'300ppi Resolution Calc'!$A$2:$E$1001,4,0))","v":""},{"$f":"IF(ISERROR(VLOOKUP($B902,'300ppi Resolution Calc'!$A$2:$E$1001,5,0)),\"\",VLOOKUP($B902,'300ppi Resolution Calc'!$A$2:$E$1001,5,0))","v":""}]
[null,null,null,null,null,null,null,null,null,null,null,"",{"$f":"IF(ISERROR(VLOOKUP($B903,'300ppi Resolution Calc'!$A$2:$E$1001,4,0)),\"\",VLOOKUP($B903,'300ppi Resolution Calc'!$A$2:$E$1001,4,0))","v":""},{"$f":"IF(ISERROR(VLOOKUP($B903,'300ppi Resolution Calc'!$A$2:$E$1001,5,0)),\"\",VLOOKUP($B903,'300ppi Resolution Calc'!$A$2:$E$1001,5,0))","v":""}]
[null,null,null,null,null,null,null,null,null,null,null,{"$f":"IF(AND(I904=\"Creative Commons License\",ISNUMBER(SEARCH(\"(\",J904))),CONCATENATE(B904,\": \",\"Copyright © by \",F904,\" \",J904,\" at \",D904,\".\"),\nIF(AND(I904=\"Creative Commons License\",NOT(ISNUMBER(SEARCH(\"(\",J904)))),CONCATENATE(B904,\": \",\"Copyright © by \",F904,\" (\",J904,\") at \",D904,\".\"),\nIF(I904=\"Public Domain\",CONCATENATE(B904,\": Source: \",D904,\".\"),\nIF(AND(I904=\"Fair Use\",OR(ISNUMBER(SEARCH(\"discuss\",J904)),ISNUMBER(SEARCH(\"critique\",J904)))),CONCATENATE(B904,\": \",\"Copyright © by \",F904,\".\"),\nIF(AND(I904=\"Fair Use\",NOT(OR(ISNUMBER(SEARCH(\"discuss\",J904)),ISNUMBER(SEARCH(\"critique\",J904))))),CONCATENATE(B904,\": Source: \",D904,\".\"),\nIF(AND(I904=\"Request to Rights Holder\",ISBLANK(E904),NOT(ISNUMBER(SEARCH(\"depositphotos\",D904))),NOT(ISNUMBER(SEARCH(\"FAL \",J904))),NOT(ISNUMBER(SEARCH(\"GNU \",J904)))),CONCATENATE(B904,\": \",\"Copyright ©\",\" by \",F904,\".\",\" Reprinted with permission.\"),\nIF(AND(I904=\"Request to Rights Holder\",NOT(ISBLANK(E904)),NOT(ISNUMBER(SEARCH(\"depositphotos\",D904))),NOT(ISNUMBER(SEARCH(\"FAL \",J904))),NOT(ISNUMBER(SEARCH(\"GNU \",J904)))),CONCATENATE(B904,\": \",\"Copyright © \",E904,\" by \",F904,\".\",\" Reprinted with permission.\"),\nIF(AND(I904=\"Request to Rights Holder\",NOT(ISBLANK(E904)),ISNUMBER(SEARCH(\"depositphotos\",D904))),CONCATENATE(B904,\":\",\" Copyright © \",E904,\" Depositphotos\",\"/\",F904,\".\"),\nIF(AND(I904=\"Request to Rights Holder\",ISBLANK(E904),ISNUMBER(SEARCH(\"depositphotos\",D904))),CONCATENATE(B904,\":\",\" Copyright © \",E904,\"Depositphotos\",\"/\",F904,\".\"),\nIF(AND(I904=\"Request to Rights Holder\",ISNUMBER(SEARCH(\"FAL \",J904)),ISNUMBER(SEARCH(\"(\",J904))),CONCATENATE(B904,\": \",\"Copyright © by \",F904,\" \",J904,\" at \",D904,\". A copy of the license can be found here: http://artlibre.org/licence/lal/en.\"),\nIF(AND(I904=\"Request to Rights Holder\",ISNUMBER(SEARCH(\"FAL \",J904)),NOT(ISNUMBER(SEARCH(\"(\",J904)))),CONCATENATE(B904,\": \",\"Copyright © by \",F904,\" (\",J904,\") at \",D904,\". A copy of the license can be found here: http://artlibre.org/licence/lal/en.\"),\nIF(AND(I904=\"Request to Rights Holder\",ISNUMBER(SEARCH(\"GNU \",J904)),ISNUMBER(SEARCH(\"(\",J904))),CONCATENATE(B904,\": \",\"Copyright © by \",F904,\" \",J904,\" at \",D904,\". A copy of the license can be found here: http://www.gnu.org/licenses/gpl.html\"),\nIF(AND(I904=\"Request to Rights Holder\",ISNUMBER(SEARCH(\"GNU \",J904)),NOT(ISNUMBER(SEARCH(\"(\",J904)))),CONCATENATE(B904,\": \",\"Copyright © by \",F904,\" (\",J904,\") at \",D904,\". A copy of the license can be found here: http://www.gnu.org/licenses/gpl.html\"),\n\"\")))))))))))))","v":""},{"$f":"IF(ISERROR(VLOOKUP($B904,'300ppi Resolution Calc'!$A$2:$E$1001,4,0)),\"\",VLOOKUP($B904,'300ppi Resolution Calc'!$A$2:$E$1001,4,0))","v":""},{"$f":"IF(ISERROR(VLOOKUP($B904,'300ppi Resolution Calc'!$A$2:$E$1001,5,0)),\"\",VLOOKUP($B904,'300ppi Resolution Calc'!$A$2:$E$1001,5,0))","v":""}]
[null,null,null,null,null,null,null,null,null,null,null,"",{"$f":"IF(ISERROR(VLOOKUP($B905,'300ppi Resolution Calc'!$A$2:$E$1001,4,0)),\"\",VLOOKUP($B905,'300ppi Resolution Calc'!$A$2:$E$1001,4,0))","v":""},{"$f":"IF(ISERROR(VLOOKUP($B905,'300ppi Resolution Calc'!$A$2:$E$1001,5,0)),\"\",VLOOKUP($B905,'300ppi Resolution Calc'!$A$2:$E$1001,5,0))","v":""}]
[null,null,null,null,null,null,null,null,null,null,null,"",{"$f":"IF(ISERROR(VLOOKUP($B906,'300ppi Resolution Calc'!$A$2:$E$1001,4,0)),\"\",VLOOKUP($B906,'300ppi Resolution Calc'!$A$2:$E$1001,4,0))","v":""},{"$f":"IF(ISERROR(VLOOKUP($B906,'300ppi Resolution Calc'!$A$2:$E$1001,5,0)),\"\",VLOOKUP($B906,'300ppi Resolution Calc'!$A$2:$E$1001,5,0))","v":""}]
[null,null,null,null,null,null,null,null,null,null,null,"",{"$f":"IF(ISERROR(VLOOKUP($B907,'300ppi Resolution Calc'!$A$2:$E$1001,4,0)),\"\",VLOOKUP($B907,'300ppi Resolution Calc'!$A$2:$E$1001,4,0))","v":""},{"$f":"IF(ISERROR(VLOOKUP($B907,'300ppi Resolution Calc'!$A$2:$E$1001,5,0)),\"\",VLOOKUP($B907,'300ppi Resolution Calc'!$A$2:$E$1001,5,0))","v":""}]
[null,null,null,null,null,null,null,null,null,null,null,"",{"$f":"IF(ISERROR(VLOOKUP($B908,'300ppi Resolution Calc'!$A$2:$E$1001,4,0)),\"\",VLOOKUP($B908,'300ppi Resolution Calc'!$A$2:$E$1001,4,0))","v":""},{"$f":"IF(ISERROR(VLOOKUP($B908,'300ppi Resolution Calc'!$A$2:$E$1001,5,0)),\"\",VLOOKUP($B908,'300ppi Resolution Calc'!$A$2:$E$1001,5,0))","v":""}]
[null,null,null,null,null,null,null,null,null,null,null,"",{"$f":"IF(ISERROR(VLOOKUP($B909,'300ppi Resolution Calc'!$A$2:$E$1001,4,0)),\"\",VLOOKUP($B909,'300ppi Resolution Calc'!$A$2:$E$1001,4,0))","v":""},{"$f":"IF(ISERROR(VLOOKUP($B909,'300ppi Resolution Calc'!$A$2:$E$1001,5,0)),\"\",VLOOKUP($B909,'300ppi Resolution Calc'!$A$2:$E$1001,5,0))","v":""}]
[null,null,null,null,null,null,null,null,null,null,null,"",{"$f":"IF(ISERROR(VLOOKUP($B910,'300ppi Resolution Calc'!$A$2:$E$1001,4,0)),\"\",VLOOKUP($B910,'300ppi Resolution Calc'!$A$2:$E$1001,4,0))","v":""},{"$f":"IF(ISERROR(VLOOKUP($B910,'300ppi Resolution Calc'!$A$2:$E$1001,5,0)),\"\",VLOOKUP($B910,'300ppi Resolution Calc'!$A$2:$E$1001,5,0))","v":""}]
[null,null,null,null,null,null,null,null,null,null,null,"",{"$f":"IF(ISERROR(VLOOKUP($B911,'300ppi Resolution Calc'!$A$2:$E$1001,4,0)),\"\",VLOOKUP($B911,'300ppi Resolution Calc'!$A$2:$E$1001,4,0))","v":""},{"$f":"IF(ISERROR(VLOOKUP($B911,'300ppi Resolution Calc'!$A$2:$E$1001,5,0)),\"\",VLOOKUP($B911,'300ppi Resolution Calc'!$A$2:$E$1001,5,0))","v":""}]
[null,null,null,null,null,null,null,null,null,null,null,"",{"$f":"IF(ISERROR(VLOOKUP($B912,'300ppi Resolution Calc'!$A$2:$E$1001,4,0)),\"\",VLOOKUP($B912,'300ppi Resolution Calc'!$A$2:$E$1001,4,0))","v":""},{"$f":"IF(ISERROR(VLOOKUP($B912,'300ppi Resolution Calc'!$A$2:$E$1001,5,0)),\"\",VLOOKUP($B912,'300ppi Resolution Calc'!$A$2:$E$1001,5,0))","v":""}]
[null,null,null,null,null,null,null,null,null,null,null,"",{"$f":"IF(ISERROR(VLOOKUP($B913,'300ppi Resolution Calc'!$A$2:$E$1001,4,0)),\"\",VLOOKUP($B913,'300ppi Resolution Calc'!$A$2:$E$1001,4,0))","v":""},{"$f":"IF(ISERROR(VLOOKUP($B913,'300ppi Resolution Calc'!$A$2:$E$1001,5,0)),\"\",VLOOKUP($B913,'300ppi Resolution Calc'!$A$2:$E$1001,5,0))","v":""}]
[null,null,null,null,null,null,null,null,null,null,null,"",{"$f":"IF(ISERROR(VLOOKUP($B914,'300ppi Resolution Calc'!$A$2:$E$1001,4,0)),\"\",VLOOKUP($B914,'300ppi Resolution Calc'!$A$2:$E$1001,4,0))","v":""},{"$f":"IF(ISERROR(VLOOKUP($B914,'300ppi Resolution Calc'!$A$2:$E$1001,5,0)),\"\",VLOOKUP($B914,'300ppi Resolution Calc'!$A$2:$E$1001,5,0))","v":""}]
[null,null,null,null,null,null,null,null,null,null,null,"",{"$f":"IF(ISERROR(VLOOKUP($B915,'300ppi Resolution Calc'!$A$2:$E$1001,4,0)),\"\",VLOOKUP($B915,'300ppi Resolution Calc'!$A$2:$E$1001,4,0))","v":""},{"$f":"IF(ISERROR(VLOOKUP($B915,'300ppi Resolution Calc'!$A$2:$E$1001,5,0)),\"\",VLOOKUP($B915,'300ppi Resolution Calc'!$A$2:$E$1001,5,0))","v":""}]
[null,null,null,null,null,null,null,null,null,null,null,"",{"$f":"IF(ISERROR(VLOOKUP($B916,'300ppi Resolution Calc'!$A$2:$E$1001,4,0)),\"\",VLOOKUP($B916,'300ppi Resolution Calc'!$A$2:$E$1001,4,0))","v":""},{"$f":"IF(ISERROR(VLOOKUP($B916,'300ppi Resolution Calc'!$A$2:$E$1001,5,0)),\"\",VLOOKUP($B916,'300ppi Resolution Calc'!$A$2:$E$1001,5,0))","v":""}]
[null,null,null,null,null,null,null,null,null,null,null,"",{"$f":"IF(ISERROR(VLOOKUP($B917,'300ppi Resolution Calc'!$A$2:$E$1001,4,0)),\"\",VLOOKUP($B917,'300ppi Resolution Calc'!$A$2:$E$1001,4,0))","v":""},{"$f":"IF(ISERROR(VLOOKUP($B917,'300ppi Resolution Calc'!$A$2:$E$1001,5,0)),\"\",VLOOKUP($B917,'300ppi Resolution Calc'!$A$2:$E$1001,5,0))","v":""}]
[null,null,null,null,null,null,null,null,null,null,null,"",{"$f":"IF(ISERROR(VLOOKUP($B918,'300ppi Resolution Calc'!$A$2:$E$1001,4,0)),\"\",VLOOKUP($B918,'300ppi Resolution Calc'!$A$2:$E$1001,4,0))","v":""},{"$f":"IF(ISERROR(VLOOKUP($B918,'300ppi Resolution Calc'!$A$2:$E$1001,5,0)),\"\",VLOOKUP($B918,'300ppi Resolution Calc'!$A$2:$E$1001,5,0))","v":""}]
[null,null,null,null,null,null,null,null,null,null,null,"",{"$f":"IF(ISERROR(VLOOKUP($B919,'300ppi Resolution Calc'!$A$2:$E$1001,4,0)),\"\",VLOOKUP($B919,'300ppi Resolution Calc'!$A$2:$E$1001,4,0))","v":""},{"$f":"IF(ISERROR(VLOOKUP($B919,'300ppi Resolution Calc'!$A$2:$E$1001,5,0)),\"\",VLOOKUP($B919,'300ppi Resolution Calc'!$A$2:$E$1001,5,0))","v":""}]
[null,null,null,null,null,null,null,null,null,null,null,"",{"$f":"IF(ISERROR(VLOOKUP($B920,'300ppi Resolution Calc'!$A$2:$E$1001,4,0)),\"\",VLOOKUP($B920,'300ppi Resolution Calc'!$A$2:$E$1001,4,0))","v":""},{"$f":"IF(ISERROR(VLOOKUP($B920,'300ppi Resolution Calc'!$A$2:$E$1001,5,0)),\"\",VLOOKUP($B920,'300ppi Resolution Calc'!$A$2:$E$1001,5,0))","v":""}]
[null,null,null,null,null,null,null,null,null,null,null,"",{"$f":"IF(ISERROR(VLOOKUP($B921,'300ppi Resolution Calc'!$A$2:$E$1001,4,0)),\"\",VLOOKUP($B921,'300ppi Resolution Calc'!$A$2:$E$1001,4,0))","v":""},{"$f":"IF(ISERROR(VLOOKUP($B921,'300ppi Resolution Calc'!$A$2:$E$1001,5,0)),\"\",VLOOKUP($B921,'300ppi Resolution Calc'!$A$2:$E$1001,5,0))","v":""}]
[null,null,null,null,null,null,null,null,null,null,null,"",{"$f":"IF(ISERROR(VLOOKUP($B922,'300ppi Resolution Calc'!$A$2:$E$1001,4,0)),\"\",VLOOKUP($B922,'300ppi Resolution Calc'!$A$2:$E$1001,4,0))","v":""},{"$f":"IF(ISERROR(VLOOKUP($B922,'300ppi Resolution Calc'!$A$2:$E$1001,5,0)),\"\",VLOOKUP($B922,'300ppi Resolution Calc'!$A$2:$E$1001,5,0))","v":""}]
[null,null,null,null,null,null,null,null,null,null,null,"",{"$f":"IF(ISERROR(VLOOKUP($B923,'300ppi Resolution Calc'!$A$2:$E$1001,4,0)),\"\",VLOOKUP($B923,'300ppi Resolution Calc'!$A$2:$E$1001,4,0))","v":""},{"$f":"IF(ISERROR(VLOOKUP($B923,'300ppi Resolution Calc'!$A$2:$E$1001,5,0)),\"\",VLOOKUP($B923,'300ppi Resolution Calc'!$A$2:$E$1001,5,0))","v":""}]
[null,null,null,null,null,null,null,null,null,null,null,"",{"$f":"IF(ISERROR(VLOOKUP($B924,'300ppi Resolution Calc'!$A$2:$E$1001,4,0)),\"\",VLOOKUP($B924,'300ppi Resolution Calc'!$A$2:$E$1001,4,0))","v":""},{"$f":"IF(ISERROR(VLOOKUP($B924,'300ppi Resolution Calc'!$A$2:$E$1001,5,0)),\"\",VLOOKUP($B924,'300ppi Resolution Calc'!$A$2:$E$1001,5,0))","v":""}]
[null,null,null,null,null,null,null,null,null,null,null,"",{"$f":"IF(ISERROR(VLOOKUP($B925,'300ppi Resolution Calc'!$A$2:$E$1001,4,0)),\"\",VLOOKUP($B925,'300ppi Resolution Calc'!$A$2:$E$1001,4,0))","v":""},{"$f":"IF(ISERROR(VLOOKUP($B925,'300ppi Resolution Calc'!$A$2:$E$1001,5,0)),\"\",VLOOKUP($B925,'300ppi Resolution Calc'!$A$2:$E$1001,5,0))","v":""}]
[null,null,null,null,null,null,null,null,null,null,null,"",{"$f":"IF(ISERROR(VLOOKUP($B926,'300ppi Resolution Calc'!$A$2:$E$1001,4,0)),\"\",VLOOKUP($B926,'300ppi Resolution Calc'!$A$2:$E$1001,4,0))","v":""},{"$f":"IF(ISERROR(VLOOKUP($B926,'300ppi Resolution Calc'!$A$2:$E$1001,5,0)),\"\",VLOOKUP($B926,'300ppi Resolution Calc'!$A$2:$E$1001,5,0))","v":""}]
[null,null,null,null,null,null,null,null,null,null,null,"",{"$f":"IF(ISERROR(VLOOKUP($B927,'300ppi Resolution Calc'!$A$2:$E$1001,4,0)),\"\",VLOOKUP($B927,'300ppi Resolution Calc'!$A$2:$E$1001,4,0))","v":""},{"$f":"IF(ISERROR(VLOOKUP($B927,'300ppi Resolution Calc'!$A$2:$E$1001,5,0)),\"\",VLOOKUP($B927,'300ppi Resolution Calc'!$A$2:$E$1001,5,0))","v":""}]
[null,null,null,null,null,null,null,null,null,null,null,"",{"$f":"IF(ISERROR(VLOOKUP($B928,'300ppi Resolution Calc'!$A$2:$E$1001,4,0)),\"\",VLOOKUP($B928,'300ppi Resolution Calc'!$A$2:$E$1001,4,0))","v":""},{"$f":"IF(ISERROR(VLOOKUP($B928,'300ppi Resolution Calc'!$A$2:$E$1001,5,0)),\"\",VLOOKUP($B928,'300ppi Resolution Calc'!$A$2:$E$1001,5,0))","v":""}]
[null,null,null,null,null,null,null,null,null,null,null,"",{"$f":"IF(ISERROR(VLOOKUP($B929,'300ppi Resolution Calc'!$A$2:$E$1001,4,0)),\"\",VLOOKUP($B929,'300ppi Resolution Calc'!$A$2:$E$1001,4,0))","v":""},{"$f":"IF(ISERROR(VLOOKUP($B929,'300ppi Resolution Calc'!$A$2:$E$1001,5,0)),\"\",VLOOKUP($B929,'300ppi Resolution Calc'!$A$2:$E$1001,5,0))","v":""}]
[null,null,null,null,null,null,null,null,null,null,null,"",{"$f":"IF(ISERROR(VLOOKUP($B930,'300ppi Resolution Calc'!$A$2:$E$1001,4,0)),\"\",VLOOKUP($B930,'300ppi Resolution Calc'!$A$2:$E$1001,4,0))","v":""},{"$f":"IF(ISERROR(VLOOKUP($B930,'300ppi Resolution Calc'!$A$2:$E$1001,5,0)),\"\",VLOOKUP($B930,'300ppi Resolution Calc'!$A$2:$E$1001,5,0))","v":""}]
[null,null,null,null,null,null,null,null,null,null,null,"",{"$f":"IF(ISERROR(VLOOKUP($B931,'300ppi Resolution Calc'!$A$2:$E$1001,4,0)),\"\",VLOOKUP($B931,'300ppi Resolution Calc'!$A$2:$E$1001,4,0))","v":""},{"$f":"IF(ISERROR(VLOOKUP($B931,'300ppi Resolution Calc'!$A$2:$E$1001,5,0)),\"\",VLOOKUP($B931,'300ppi Resolution Calc'!$A$2:$E$1001,5,0))","v":""}]
[null,null,null,null,null,null,null,null,null,null,null,"",{"$f":"IF(ISERROR(VLOOKUP($B932,'300ppi Resolution Calc'!$A$2:$E$1001,4,0)),\"\",VLOOKUP($B932,'300ppi Resolution Calc'!$A$2:$E$1001,4,0))","v":""},{"$f":"IF(ISERROR(VLOOKUP($B932,'300ppi Resolution Calc'!$A$2:$E$1001,5,0)),\"\",VLOOKUP($B932,'300ppi Resolution Calc'!$A$2:$E$1001,5,0))","v":""}]
[null,null,null,null,null,null,null,null,null,null,null,"",{"$f":"IF(ISERROR(VLOOKUP($B933,'300ppi Resolution Calc'!$A$2:$E$1001,4,0)),\"\",VLOOKUP($B933,'300ppi Resolution Calc'!$A$2:$E$1001,4,0))","v":""},{"$f":"IF(ISERROR(VLOOKUP($B933,'300ppi Resolution Calc'!$A$2:$E$1001,5,0)),\"\",VLOOKUP($B933,'300ppi Resolution Calc'!$A$2:$E$1001,5,0))","v":""}]
[null,null,null,null,null,null,null,null,null,null,null,"",{"$f":"IF(ISERROR(VLOOKUP($B934,'300ppi Resolution Calc'!$A$2:$E$1001,4,0)),\"\",VLOOKUP($B934,'300ppi Resolution Calc'!$A$2:$E$1001,4,0))","v":""},{"$f":"IF(ISERROR(VLOOKUP($B934,'300ppi Resolution Calc'!$A$2:$E$1001,5,0)),\"\",VLOOKUP($B934,'300ppi Resolution Calc'!$A$2:$E$1001,5,0))","v":""}]
[null,null,null,null,null,null,null,null,null,null,null,"",{"$f":"IF(ISERROR(VLOOKUP($B935,'300ppi Resolution Calc'!$A$2:$E$1001,4,0)),\"\",VLOOKUP($B935,'300ppi Resolution Calc'!$A$2:$E$1001,4,0))","v":""},{"$f":"IF(ISERROR(VLOOKUP($B935,'300ppi Resolution Calc'!$A$2:$E$1001,5,0)),\"\",VLOOKUP($B935,'300ppi Resolution Calc'!$A$2:$E$1001,5,0))","v":""}]
[null,null,null,null,null,null,null,null,null,null,null,"",{"$f":"IF(ISERROR(VLOOKUP($B936,'300ppi Resolution Calc'!$A$2:$E$1001,4,0)),\"\",VLOOKUP($B936,'300ppi Resolution Calc'!$A$2:$E$1001,4,0))","v":""},{"$f":"IF(ISERROR(VLOOKUP($B936,'300ppi Resolution Calc'!$A$2:$E$1001,5,0)),\"\",VLOOKUP($B936,'300ppi Resolution Calc'!$A$2:$E$1001,5,0))","v":""}]
[null,null,null,null,null,null,null,null,null,null,null,"",{"$f":"IF(ISERROR(VLOOKUP($B937,'300ppi Resolution Calc'!$A$2:$E$1001,4,0)),\"\",VLOOKUP($B937,'300ppi Resolution Calc'!$A$2:$E$1001,4,0))","v":""},{"$f":"IF(ISERROR(VLOOKUP($B937,'300ppi Resolution Calc'!$A$2:$E$1001,5,0)),\"\",VLOOKUP($B937,'300ppi Resolution Calc'!$A$2:$E$1001,5,0))","v":""}]
[null,null,null,null,null,null,null,null,null,null,null,"",{"$f":"IF(ISERROR(VLOOKUP($B938,'300ppi Resolution Calc'!$A$2:$E$1001,4,0)),\"\",VLOOKUP($B938,'300ppi Resolution Calc'!$A$2:$E$1001,4,0))","v":""},{"$f":"IF(ISERROR(VLOOKUP($B938,'300ppi Resolution Calc'!$A$2:$E$1001,5,0)),\"\",VLOOKUP($B938,'300ppi Resolution Calc'!$A$2:$E$1001,5,0))","v":""}]
[null,null,null,null,null,null,null,null,null,null,null,"",{"$f":"IF(ISERROR(VLOOKUP($B939,'300ppi Resolution Calc'!$A$2:$E$1001,4,0)),\"\",VLOOKUP($B939,'300ppi Resolution Calc'!$A$2:$E$1001,4,0))","v":""},{"$f":"IF(ISERROR(VLOOKUP($B939,'300ppi Resolution Calc'!$A$2:$E$1001,5,0)),\"\",VLOOKUP($B939,'300ppi Resolution Calc'!$A$2:$E$1001,5,0))","v":""}]
[null,null,null,null,null,null,null,null,null,null,null,"",{"$f":"IF(ISERROR(VLOOKUP($B940,'300ppi Resolution Calc'!$A$2:$E$1001,4,0)),\"\",VLOOKUP($B940,'300ppi Resolution Calc'!$A$2:$E$1001,4,0))","v":""},{"$f":"IF(ISERROR(VLOOKUP($B940,'300ppi Resolution Calc'!$A$2:$E$1001,5,0)),\"\",VLOOKUP($B940,'300ppi Resolution Calc'!$A$2:$E$1001,5,0))","v":""}]
[null,null,null,null,null,null,null,null,null,null,null,"",{"$f":"IF(ISERROR(VLOOKUP($B941,'300ppi Resolution Calc'!$A$2:$E$1001,4,0)),\"\",VLOOKUP($B941,'300ppi Resolution Calc'!$A$2:$E$1001,4,0))","v":""},{"$f":"IF(ISERROR(VLOOKUP($B941,'300ppi Resolution Calc'!$A$2:$E$1001,5,0)),\"\",VLOOKUP($B941,'300ppi Resolution Calc'!$A$2:$E$1001,5,0))","v":""}]
[null,null,null,null,null,null,null,null,null,null,null,"",{"$f":"IF(ISERROR(VLOOKUP($B942,'300ppi Resolution Calc'!$A$2:$E$1001,4,0)),\"\",VLOOKUP($B942,'300ppi Resolution Calc'!$A$2:$E$1001,4,0))","v":""},{"$f":"IF(ISERROR(VLOOKUP($B942,'300ppi Resolution Calc'!$A$2:$E$1001,5,0)),\"\",VLOOKUP($B942,'300ppi Resolution Calc'!$A$2:$E$1001,5,0))","v":""}]
[null,null,null,null,null,null,null,null,null,null,null,"",{"$f":"IF(ISERROR(VLOOKUP($B943,'300ppi Resolution Calc'!$A$2:$E$1001,4,0)),\"\",VLOOKUP($B943,'300ppi Resolution Calc'!$A$2:$E$1001,4,0))","v":""},{"$f":"IF(ISERROR(VLOOKUP($B943,'300ppi Resolution Calc'!$A$2:$E$1001,5,0)),\"\",VLOOKUP($B943,'300ppi Resolution Calc'!$A$2:$E$1001,5,0))","v":""}]
[null,null,null,null,null,null,null,null,null,null,null,"",{"$f":"IF(ISERROR(VLOOKUP($B944,'300ppi Resolution Calc'!$A$2:$E$1001,4,0)),\"\",VLOOKUP($B944,'300ppi Resolution Calc'!$A$2:$E$1001,4,0))","v":""},{"$f":"IF(ISERROR(VLOOKUP($B944,'300ppi Resolution Calc'!$A$2:$E$1001,5,0)),\"\",VLOOKUP($B944,'300ppi Resolution Calc'!$A$2:$E$1001,5,0))","v":""}]
[null,null,null,null,null,null,null,null,null,null,null,"",{"$f":"IF(ISERROR(VLOOKUP($B945,'300ppi Resolution Calc'!$A$2:$E$1001,4,0)),\"\",VLOOKUP($B945,'300ppi Resolution Calc'!$A$2:$E$1001,4,0))","v":""},{"$f":"IF(ISERROR(VLOOKUP($B945,'300ppi Resolution Calc'!$A$2:$E$1001,5,0)),\"\",VLOOKUP($B945,'300ppi Resolution Calc'!$A$2:$E$1001,5,0))","v":""}]
[null,null,null,null,null,null,null,null,null,null,null,"",{"$f":"IF(ISERROR(VLOOKUP($B946,'300ppi Resolution Calc'!$A$2:$E$1001,4,0)),\"\",VLOOKUP($B946,'300ppi Resolution Calc'!$A$2:$E$1001,4,0))","v":""},{"$f":"IF(ISERROR(VLOOKUP($B946,'300ppi Resolution Calc'!$A$2:$E$1001,5,0)),\"\",VLOOKUP($B946,'300ppi Resolution Calc'!$A$2:$E$1001,5,0))","v":""}]
[null,null,null,null,null,null,null,null,null,null,null,"",{"$f":"IF(ISERROR(VLOOKUP($B947,'300ppi Resolution Calc'!$A$2:$E$1001,4,0)),\"\",VLOOKUP($B947,'300ppi Resolution Calc'!$A$2:$E$1001,4,0))","v":""},{"$f":"IF(ISERROR(VLOOKUP($B947,'300ppi Resolution Calc'!$A$2:$E$1001,5,0)),\"\",VLOOKUP($B947,'300ppi Resolution Calc'!$A$2:$E$1001,5,0))","v":""}]
[null,null,null,null,null,null,null,null,null,null,null,"",{"$f":"IF(ISERROR(VLOOKUP($B948,'300ppi Resolution Calc'!$A$2:$E$1001,4,0)),\"\",VLOOKUP($B948,'300ppi Resolution Calc'!$A$2:$E$1001,4,0))","v":""},{"$f":"IF(ISERROR(VLOOKUP($B948,'300ppi Resolution Calc'!$A$2:$E$1001,5,0)),\"\",VLOOKUP($B948,'300ppi Resolution Calc'!$A$2:$E$1001,5,0))","v":""}]
[null,null,null,null,null,null,null,null,null,null,null,"",{"$f":"IF(ISERROR(VLOOKUP($B949,'300ppi Resolution Calc'!$A$2:$E$1001,4,0)),\"\",VLOOKUP($B949,'300ppi Resolution Calc'!$A$2:$E$1001,4,0))","v":""},{"$f":"IF(ISERROR(VLOOKUP($B949,'300ppi Resolution Calc'!$A$2:$E$1001,5,0)),\"\",VLOOKUP($B949,'300ppi Resolution Calc'!$A$2:$E$1001,5,0))","v":""}]
[null,null,null,null,null,null,null,null,null,null,null,"",{"$f":"IF(ISERROR(VLOOKUP($B950,'300ppi Resolution Calc'!$A$2:$E$1001,4,0)),\"\",VLOOKUP($B950,'300ppi Resolution Calc'!$A$2:$E$1001,4,0))","v":""},{"$f":"IF(ISERROR(VLOOKUP($B950,'300ppi Resolution Calc'!$A$2:$E$1001,5,0)),\"\",VLOOKUP($B950,'300ppi Resolution Calc'!$A$2:$E$1001,5,0))","v":""}]
[null,null,null,null,null,null,null,null,null,null,null,"",{"$f":"IF(ISERROR(VLOOKUP($B951,'300ppi Resolution Calc'!$A$2:$E$1001,4,0)),\"\",VLOOKUP($B951,'300ppi Resolution Calc'!$A$2:$E$1001,4,0))","v":""},{"$f":"IF(ISERROR(VLOOKUP($B951,'300ppi Resolution Calc'!$A$2:$E$1001,5,0)),\"\",VLOOKUP($B951,'300ppi Resolution Calc'!$A$2:$E$1001,5,0))","v":""}]
[null,null,null,null,null,null,null,null,null,null,null,"",{"$f":"IF(ISERROR(VLOOKUP($B952,'300ppi Resolution Calc'!$A$2:$E$1001,4,0)),\"\",VLOOKUP($B952,'300ppi Resolution Calc'!$A$2:$E$1001,4,0))","v":""},{"$f":"IF(ISERROR(VLOOKUP($B952,'300ppi Resolution Calc'!$A$2:$E$1001,5,0)),\"\",VLOOKUP($B952,'300ppi Resolution Calc'!$A$2:$E$1001,5,0))","v":""}]
[null,null,null,null,null,null,null,null,null,null,null,"",{"$f":"IF(ISERROR(VLOOKUP($B953,'300ppi Resolution Calc'!$A$2:$E$1001,4,0)),\"\",VLOOKUP($B953,'300ppi Resolution Calc'!$A$2:$E$1001,4,0))","v":""},{"$f":"IF(ISERROR(VLOOKUP($B953,'300ppi Resolution Calc'!$A$2:$E$1001,5,0)),\"\",VLOOKUP($B953,'300ppi Resolution Calc'!$A$2:$E$1001,5,0))","v":""}]
[null,null,null,null,null,null,null,null,null,null,null,"",{"$f":"IF(ISERROR(VLOOKUP($B954,'300ppi Resolution Calc'!$A$2:$E$1001,4,0)),\"\",VLOOKUP($B954,'300ppi Resolution Calc'!$A$2:$E$1001,4,0))","v":""},{"$f":"IF(ISERROR(VLOOKUP($B954,'300ppi Resolution Calc'!$A$2:$E$1001,5,0)),\"\",VLOOKUP($B954,'300ppi Resolution Calc'!$A$2:$E$1001,5,0))","v":""}]
[null,null,null,null,null,null,null,null,null,null,null,"",{"$f":"IF(ISERROR(VLOOKUP($B955,'300ppi Resolution Calc'!$A$2:$E$1001,4,0)),\"\",VLOOKUP($B955,'300ppi Resolution Calc'!$A$2:$E$1001,4,0))","v":""},{"$f":"IF(ISERROR(VLOOKUP($B955,'300ppi Resolution Calc'!$A$2:$E$1001,5,0)),\"\",VLOOKUP($B955,'300ppi Resolution Calc'!$A$2:$E$1001,5,0))","v":""}]
[null,null,null,null,null,null,null,null,null,null,null,"",{"$f":"IF(ISERROR(VLOOKUP($B956,'300ppi Resolution Calc'!$A$2:$E$1001,4,0)),\"\",VLOOKUP($B956,'300ppi Resolution Calc'!$A$2:$E$1001,4,0))","v":""},{"$f":"IF(ISERROR(VLOOKUP($B956,'300ppi Resolution Calc'!$A$2:$E$1001,5,0)),\"\",VLOOKUP($B956,'300ppi Resolution Calc'!$A$2:$E$1001,5,0))","v":""}]
[null,null,null,null,null,null,null,null,null,null,null,"",{"$f":"IF(ISERROR(VLOOKUP($B957,'300ppi Resolution Calc'!$A$2:$E$1001,4,0)),\"\",VLOOKUP($B957,'300ppi Resolution Calc'!$A$2:$E$1001,4,0))","v":""},{"$f":"IF(ISERROR(VLOOKUP($B957,'300ppi Resolution Calc'!$A$2:$E$1001,5,0)),\"\",VLOOKUP($B957,'300ppi Resolution Calc'!$A$2:$E$1001,5,0))","v":""}]
[null,null,null,null,null,null,null,null,null,null,null,"",{"$f":"IF(ISERROR(VLOOKUP($B958,'300ppi Resolution Calc'!$A$2:$E$1001,4,0)),\"\",VLOOKUP($B958,'300ppi Resolution Calc'!$A$2:$E$1001,4,0))","v":""},{"$f":"IF(ISERROR(VLOOKUP($B958,'300ppi Resolution Calc'!$A$2:$E$1001,5,0)),\"\",VLOOKUP($B958,'300ppi Resolution Calc'!$A$2:$E$1001,5,0))","v":""}]
[null,null,null,null,null,null,null,null,null,null,null,"",{"$f":"IF(ISERROR(VLOOKUP($B959,'300ppi Resolution Calc'!$A$2:$E$1001,4,0)),\"\",VLOOKUP($B959,'300ppi Resolution Calc'!$A$2:$E$1001,4,0))","v":""},{"$f":"IF(ISERROR(VLOOKUP($B959,'300ppi Resolution Calc'!$A$2:$E$1001,5,0)),\"\",VLOOKUP($B959,'300ppi Resolution Calc'!$A$2:$E$1001,5,0))","v":""}]
[null,null,null,null,null,null,null,null,null,null,null,"",{"$f":"IF(ISERROR(VLOOKUP($B960,'300ppi Resolution Calc'!$A$2:$E$1001,4,0)),\"\",VLOOKUP($B960,'300ppi Resolution Calc'!$A$2:$E$1001,4,0))","v":""},{"$f":"IF(ISERROR(VLOOKUP($B960,'300ppi Resolution Calc'!$A$2:$E$1001,5,0)),\"\",VLOOKUP($B960,'300ppi Resolution Calc'!$A$2:$E$1001,5,0))","v":""}]
[null,null,null,null,null,null,null,null,null,null,null,"",{"$f":"IF(ISERROR(VLOOKUP($B961,'300ppi Resolution Calc'!$A$2:$E$1001,4,0)),\"\",VLOOKUP($B961,'300ppi Resolution Calc'!$A$2:$E$1001,4,0))","v":""},{"$f":"IF(ISERROR(VLOOKUP($B961,'300ppi Resolution Calc'!$A$2:$E$1001,5,0)),\"\",VLOOKUP($B961,'300ppi Resolution Calc'!$A$2:$E$1001,5,0))","v":""}]
[null,null,null,null,null,null,null,null,null,null,null,"",{"$f":"IF(ISERROR(VLOOKUP($B962,'300ppi Resolution Calc'!$A$2:$E$1001,4,0)),\"\",VLOOKUP($B962,'300ppi Resolution Calc'!$A$2:$E$1001,4,0))","v":""},{"$f":"IF(ISERROR(VLOOKUP($B962,'300ppi Resolution Calc'!$A$2:$E$1001,5,0)),\"\",VLOOKUP($B962,'300ppi Resolution Calc'!$A$2:$E$1001,5,0))","v":""}]
[null,null,null,null,null,null,null,null,null,null,null,"",{"$f":"IF(ISERROR(VLOOKUP($B963,'300ppi Resolution Calc'!$A$2:$E$1001,4,0)),\"\",VLOOKUP($B963,'300ppi Resolution Calc'!$A$2:$E$1001,4,0))","v":""},{"$f":"IF(ISERROR(VLOOKUP($B963,'300ppi Resolution Calc'!$A$2:$E$1001,5,0)),\"\",VLOOKUP($B963,'300ppi Resolution Calc'!$A$2:$E$1001,5,0))","v":""}]
[null,null,null,null,null,null,null,null,null,null,null,"",{"$f":"IF(ISERROR(VLOOKUP($B964,'300ppi Resolution Calc'!$A$2:$E$1001,4,0)),\"\",VLOOKUP($B964,'300ppi Resolution Calc'!$A$2:$E$1001,4,0))","v":""},{"$f":"IF(ISERROR(VLOOKUP($B964,'300ppi Resolution Calc'!$A$2:$E$1001,5,0)),\"\",VLOOKUP($B964,'300ppi Resolution Calc'!$A$2:$E$1001,5,0))","v":""}]
[null,null,null,null,null,null,null,null,null,null,null,"",{"$f":"IF(ISERROR(VLOOKUP($B965,'300ppi Resolution Calc'!$A$2:$E$1001,4,0)),\"\",VLOOKUP($B965,'300ppi Resolution Calc'!$A$2:$E$1001,4,0))","v":""},{"$f":"IF(ISERROR(VLOOKUP($B965,'300ppi Resolution Calc'!$A$2:$E$1001,5,0)),\"\",VLOOKUP($B965,'300ppi Resolution Calc'!$A$2:$E$1001,5,0))","v":""}]
[null,null,null,null,null,null,null,null,null,null,null,"",{"$f":"IF(ISERROR(VLOOKUP($B966,'300ppi Resolution Calc'!$A$2:$E$1001,4,0)),\"\",VLOOKUP($B966,'300ppi Resolution Calc'!$A$2:$E$1001,4,0))","v":""},{"$f":"IF(ISERROR(VLOOKUP($B966,'300ppi Resolution Calc'!$A$2:$E$1001,5,0)),\"\",VLOOKUP($B966,'300ppi Resolution Calc'!$A$2:$E$1001,5,0))","v":""}]
[null,null,null,null,null,null,null,null,null,null,null,"",{"$f":"IF(ISERROR(VLOOKUP($B967,'300ppi Resolution Calc'!$A$2:$E$1001,4,0)),\"\",VLOOKUP($B967,'300ppi Resolution Calc'!$A$2:$E$1001,4,0))","v":""},{"$f":"IF(ISERROR(VLOOKUP($B967,'300ppi Resolution Calc'!$A$2:$E$1001,5,0)),\"\",VLOOKUP($B967,'300ppi Resolution Calc'!$A$2:$E$1001,5,0))","v":""}]
[null,null,null,null,null,null,null,null,null,null,null,{"$f":"IF(AND(I968=\"Creative Commons License\",ISNUMBER(SEARCH(\"(\",J968))),CONCATENATE(B968,\": \",\"Copyright © by \",F968,\" \",J968,\" at \",D968,\".\"),\nIF(AND(I968=\"Creative Commons License\",NOT(ISNUMBER(SEARCH(\"(\",J968)))),CONCATENATE(B968,\": \",\"Copyright © by \",F968,\" (\",J968,\") at \",D968,\".\"),\nIF(I968=\"Public Domain\",CONCATENATE(B968,\": Source: \",D968,\".\"),\nIF(AND(I968=\"Fair Use\",OR(ISNUMBER(SEARCH(\"discuss\",J968)),ISNUMBER(SEARCH(\"critique\",J968)))),CONCATENATE(B968,\": \",\"Copyright © by \",F968,\".\"),\nIF(AND(I968=\"Fair Use\",NOT(OR(ISNUMBER(SEARCH(\"discuss\",J968)),ISNUMBER(SEARCH(\"critique\",J968))))),CONCATENATE(B968,\": Source: \",D968,\".\"),\nIF(AND(I968=\"Request to Rights Holder\",ISBLANK(E968),NOT(ISNUMBER(SEARCH(\"depositphotos\",D968))),NOT(ISNUMBER(SEARCH(\"FAL \",J968))),NOT(ISNUMBER(SEARCH(\"GNU \",J968)))),CONCATENATE(B968,\": \",\"Copyright ©\",\" by \",F968,\".\",\" Reprinted with permission.\"),\nIF(AND(I968=\"Request to Rights Holder\",NOT(ISBLANK(E968)),NOT(ISNUMBER(SEARCH(\"depositphotos\",D968))),NOT(ISNUMBER(SEARCH(\"FAL \",J968))),NOT(ISNUMBER(SEARCH(\"GNU \",J968)))),CONCATENATE(B968,\": \",\"Copyright © \",E968,\" by \",F968,\".\",\" Reprinted with permission.\"),\nIF(AND(I968=\"Request to Rights Holder\",NOT(ISBLANK(E968)),ISNUMBER(SEARCH(\"depositphotos\",D968))),CONCATENATE(B968,\":\",\" Copyright © \",E968,\" Depositphotos\",\"/\",F968,\".\"),\nIF(AND(I968=\"Request to Rights Holder\",ISBLANK(E968),ISNUMBER(SEARCH(\"depositphotos\",D968))),CONCATENATE(B968,\":\",\" Copyright © \",E968,\"Depositphotos\",\"/\",F968,\".\"),\nIF(AND(I968=\"Request to Rights Holder\",ISNUMBER(SEARCH(\"FAL \",J968)),ISNUMBER(SEARCH(\"(\",J968))),CONCATENATE(B968,\": \",\"Copyright © by \",F968,\" \",J968,\" at \",D968,\". A copy of the license can be found here: http://artlibre.org/licence/lal/en.\"),\nIF(AND(I968=\"Request to Rights Holder\",ISNUMBER(SEARCH(\"FAL \",J968)),NOT(ISNUMBER(SEARCH(\"(\",J968)))),CONCATENATE(B968,\": \",\"Copyright © by \",F968,\" (\",J968,\") at \",D968,\". A copy of the license can be found here: http://artlibre.org/licence/lal/en.\"),\nIF(AND(I968=\"Request to Rights Holder\",ISNUMBER(SEARCH(\"GNU \",J968)),ISNUMBER(SEARCH(\"(\",J968))),CONCATENATE(B968,\": \",\"Copyright © by \",F968,\" \",J968,\" at \",D968,\". A copy of the license can be found here: http://www.gnu.org/licenses/gpl.html\"),\nIF(AND(I968=\"Request to Rights Holder\",ISNUMBER(SEARCH(\"GNU \",J968)),NOT(ISNUMBER(SEARCH(\"(\",J968)))),CONCATENATE(B968,\": \",\"Copyright © by \",F968,\" (\",J968,\") at \",D968,\". A copy of the license can be found here: http://www.gnu.org/licenses/gpl.html\"),\n\"\")))))))))))))","v":""},{"$f":"IF(ISERROR(VLOOKUP($B968,'300ppi Resolution Calc'!$A$2:$E$1001,4,0)),\"\",VLOOKUP($B968,'300ppi Resolution Calc'!$A$2:$E$1001,4,0))","v":""},{"$f":"IF(ISERROR(VLOOKUP($B968,'300ppi Resolution Calc'!$A$2:$E$1001,5,0)),\"\",VLOOKUP($B968,'300ppi Resolution Calc'!$A$2:$E$1001,5,0))","v":""}]
[null,null,null,null,null,null,null,null,null,null,null,"",{"$f":"IF(ISERROR(VLOOKUP($B969,'300ppi Resolution Calc'!$A$2:$E$1001,4,0)),\"\",VLOOKUP($B969,'300ppi Resolution Calc'!$A$2:$E$1001,4,0))","v":""},{"$f":"IF(ISERROR(VLOOKUP($B969,'300ppi Resolution Calc'!$A$2:$E$1001,5,0)),\"\",VLOOKUP($B969,'300ppi Resolution Calc'!$A$2:$E$1001,5,0))","v":""}]
[null,null,null,null,null,null,null,null,null,null,null,"",{"$f":"IF(ISERROR(VLOOKUP($B970,'300ppi Resolution Calc'!$A$2:$E$1001,4,0)),\"\",VLOOKUP($B970,'300ppi Resolution Calc'!$A$2:$E$1001,4,0))","v":""},{"$f":"IF(ISERROR(VLOOKUP($B970,'300ppi Resolution Calc'!$A$2:$E$1001,5,0)),\"\",VLOOKUP($B970,'300ppi Resolution Calc'!$A$2:$E$1001,5,0))","v":""}]
[null,null,null,null,null,null,null,null,null,null,null,"",{"$f":"IF(ISERROR(VLOOKUP($B971,'300ppi Resolution Calc'!$A$2:$E$1001,4,0)),\"\",VLOOKUP($B971,'300ppi Resolution Calc'!$A$2:$E$1001,4,0))","v":""},{"$f":"IF(ISERROR(VLOOKUP($B971,'300ppi Resolution Calc'!$A$2:$E$1001,5,0)),\"\",VLOOKUP($B971,'300ppi Resolution Calc'!$A$2:$E$1001,5,0))","v":""}]
[null,null,null,null,null,null,null,null,null,null,null,"",{"$f":"IF(ISERROR(VLOOKUP($B972,'300ppi Resolution Calc'!$A$2:$E$1001,4,0)),\"\",VLOOKUP($B972,'300ppi Resolution Calc'!$A$2:$E$1001,4,0))","v":""},{"$f":"IF(ISERROR(VLOOKUP($B972,'300ppi Resolution Calc'!$A$2:$E$1001,5,0)),\"\",VLOOKUP($B972,'300ppi Resolution Calc'!$A$2:$E$1001,5,0))","v":""}]
[null,null,null,null,null,null,null,null,null,null,null,"",{"$f":"IF(ISERROR(VLOOKUP($B973,'300ppi Resolution Calc'!$A$2:$E$1001,4,0)),\"\",VLOOKUP($B973,'300ppi Resolution Calc'!$A$2:$E$1001,4,0))","v":""},{"$f":"IF(ISERROR(VLOOKUP($B973,'300ppi Resolution Calc'!$A$2:$E$1001,5,0)),\"\",VLOOKUP($B973,'300ppi Resolution Calc'!$A$2:$E$1001,5,0))","v":""}]
[null,null,null,null,null,null,null,null,null,null,null,"",{"$f":"IF(ISERROR(VLOOKUP($B974,'300ppi Resolution Calc'!$A$2:$E$1001,4,0)),\"\",VLOOKUP($B974,'300ppi Resolution Calc'!$A$2:$E$1001,4,0))","v":""},{"$f":"IF(ISERROR(VLOOKUP($B974,'300ppi Resolution Calc'!$A$2:$E$1001,5,0)),\"\",VLOOKUP($B974,'300ppi Resolution Calc'!$A$2:$E$1001,5,0))","v":""}]
[null,null,null,null,null,null,null,null,null,null,null,"",{"$f":"IF(ISERROR(VLOOKUP($B975,'300ppi Resolution Calc'!$A$2:$E$1001,4,0)),\"\",VLOOKUP($B975,'300ppi Resolution Calc'!$A$2:$E$1001,4,0))","v":""},{"$f":"IF(ISERROR(VLOOKUP($B975,'300ppi Resolution Calc'!$A$2:$E$1001,5,0)),\"\",VLOOKUP($B975,'300ppi Resolution Calc'!$A$2:$E$1001,5,0))","v":""}]
[null,null,null,null,null,null,null,null,null,null,null,"",{"$f":"IF(ISERROR(VLOOKUP($B976,'300ppi Resolution Calc'!$A$2:$E$1001,4,0)),\"\",VLOOKUP($B976,'300ppi Resolution Calc'!$A$2:$E$1001,4,0))","v":""},{"$f":"IF(ISERROR(VLOOKUP($B976,'300ppi Resolution Calc'!$A$2:$E$1001,5,0)),\"\",VLOOKUP($B976,'300ppi Resolution Calc'!$A$2:$E$1001,5,0))","v":""}]
[null,null,null,null,null,null,null,null,null,null,null,"",{"$f":"IF(ISERROR(VLOOKUP($B977,'300ppi Resolution Calc'!$A$2:$E$1001,4,0)),\"\",VLOOKUP($B977,'300ppi Resolution Calc'!$A$2:$E$1001,4,0))","v":""},{"$f":"IF(ISERROR(VLOOKUP($B977,'300ppi Resolution Calc'!$A$2:$E$1001,5,0)),\"\",VLOOKUP($B977,'300ppi Resolution Calc'!$A$2:$E$1001,5,0))","v":""}]
[null,null,null,null,null,null,null,null,null,null,null,"",{"$f":"IF(ISERROR(VLOOKUP($B978,'300ppi Resolution Calc'!$A$2:$E$1001,4,0)),\"\",VLOOKUP($B978,'300ppi Resolution Calc'!$A$2:$E$1001,4,0))","v":""},{"$f":"IF(ISERROR(VLOOKUP($B978,'300ppi Resolution Calc'!$A$2:$E$1001,5,0)),\"\",VLOOKUP($B978,'300ppi Resolution Calc'!$A$2:$E$1001,5,0))","v":""}]
[null,null,null,null,null,null,null,null,null,null,null,"",{"$f":"IF(ISERROR(VLOOKUP($B979,'300ppi Resolution Calc'!$A$2:$E$1001,4,0)),\"\",VLOOKUP($B979,'300ppi Resolution Calc'!$A$2:$E$1001,4,0))","v":""},{"$f":"IF(ISERROR(VLOOKUP($B979,'300ppi Resolution Calc'!$A$2:$E$1001,5,0)),\"\",VLOOKUP($B979,'300ppi Resolution Calc'!$A$2:$E$1001,5,0))","v":""}]
[null,null,null,null,null,null,null,null,null,null,null,"",{"$f":"IF(ISERROR(VLOOKUP($B980,'300ppi Resolution Calc'!$A$2:$E$1001,4,0)),\"\",VLOOKUP($B980,'300ppi Resolution Calc'!$A$2:$E$1001,4,0))","v":""},{"$f":"IF(ISERROR(VLOOKUP($B980,'300ppi Resolution Calc'!$A$2:$E$1001,5,0)),\"\",VLOOKUP($B980,'300ppi Resolution Calc'!$A$2:$E$1001,5,0))","v":""}]
[null,null,null,null,null,null,null,null,null,null,null,"",{"$f":"IF(ISERROR(VLOOKUP($B981,'300ppi Resolution Calc'!$A$2:$E$1001,4,0)),\"\",VLOOKUP($B981,'300ppi Resolution Calc'!$A$2:$E$1001,4,0))","v":""},{"$f":"IF(ISERROR(VLOOKUP($B981,'300ppi Resolution Calc'!$A$2:$E$1001,5,0)),\"\",VLOOKUP($B981,'300ppi Resolution Calc'!$A$2:$E$1001,5,0))","v":""}]
[null,null,null,null,null,null,null,null,null,null,null,"",{"$f":"IF(ISERROR(VLOOKUP($B982,'300ppi Resolution Calc'!$A$2:$E$1001,4,0)),\"\",VLOOKUP($B982,'300ppi Resolution Calc'!$A$2:$E$1001,4,0))","v":""},{"$f":"IF(ISERROR(VLOOKUP($B982,'300ppi Resolution Calc'!$A$2:$E$1001,5,0)),\"\",VLOOKUP($B982,'300ppi Resolution Calc'!$A$2:$E$1001,5,0))","v":""}]
[null,null,null,null,null,null,null,null,null,null,null,"",{"$f":"IF(ISERROR(VLOOKUP($B983,'300ppi Resolution Calc'!$A$2:$E$1001,4,0)),\"\",VLOOKUP($B983,'300ppi Resolution Calc'!$A$2:$E$1001,4,0))","v":""},{"$f":"IF(ISERROR(VLOOKUP($B983,'300ppi Resolution Calc'!$A$2:$E$1001,5,0)),\"\",VLOOKUP($B983,'300ppi Resolution Calc'!$A$2:$E$1001,5,0))","v":""}]
[null,null,null,null,null,null,null,null,null,null,null,"",{"$f":"IF(ISERROR(VLOOKUP($B984,'300ppi Resolution Calc'!$A$2:$E$1001,4,0)),\"\",VLOOKUP($B984,'300ppi Resolution Calc'!$A$2:$E$1001,4,0))","v":""},{"$f":"IF(ISERROR(VLOOKUP($B984,'300ppi Resolution Calc'!$A$2:$E$1001,5,0)),\"\",VLOOKUP($B984,'300ppi Resolution Calc'!$A$2:$E$1001,5,0))","v":""}]
[null,null,null,null,null,null,null,null,null,null,null,"",{"$f":"IF(ISERROR(VLOOKUP($B985,'300ppi Resolution Calc'!$A$2:$E$1001,4,0)),\"\",VLOOKUP($B985,'300ppi Resolution Calc'!$A$2:$E$1001,4,0))","v":""},{"$f":"IF(ISERROR(VLOOKUP($B985,'300ppi Resolution Calc'!$A$2:$E$1001,5,0)),\"\",VLOOKUP($B985,'300ppi Resolution Calc'!$A$2:$E$1001,5,0))","v":""}]
[null,null,null,null,null,null,null,null,null,null,null,"",{"$f":"IF(ISERROR(VLOOKUP($B986,'300ppi Resolution Calc'!$A$2:$E$1001,4,0)),\"\",VLOOKUP($B986,'300ppi Resolution Calc'!$A$2:$E$1001,4,0))","v":""},{"$f":"IF(ISERROR(VLOOKUP($B986,'300ppi Resolution Calc'!$A$2:$E$1001,5,0)),\"\",VLOOKUP($B986,'300ppi Resolution Calc'!$A$2:$E$1001,5,0))","v":""}]
[null,null,null,null,null,null,null,null,null,null,null,"",{"$f":"IF(ISERROR(VLOOKUP($B987,'300ppi Resolution Calc'!$A$2:$E$1001,4,0)),\"\",VLOOKUP($B987,'300ppi Resolution Calc'!$A$2:$E$1001,4,0))","v":""},{"$f":"IF(ISERROR(VLOOKUP($B987,'300ppi Resolution Calc'!$A$2:$E$1001,5,0)),\"\",VLOOKUP($B987,'300ppi Resolution Calc'!$A$2:$E$1001,5,0))","v":""}]
[null,null,null,null,null,null,null,null,null,null,null,"",{"$f":"IF(ISERROR(VLOOKUP($B988,'300ppi Resolution Calc'!$A$2:$E$1001,4,0)),\"\",VLOOKUP($B988,'300ppi Resolution Calc'!$A$2:$E$1001,4,0))","v":""},{"$f":"IF(ISERROR(VLOOKUP($B988,'300ppi Resolution Calc'!$A$2:$E$1001,5,0)),\"\",VLOOKUP($B988,'300ppi Resolution Calc'!$A$2:$E$1001,5,0))","v":""}]
[null,null,null,null,null,null,null,null,null,null,null,"",{"$f":"IF(ISERROR(VLOOKUP($B989,'300ppi Resolution Calc'!$A$2:$E$1001,4,0)),\"\",VLOOKUP($B989,'300ppi Resolution Calc'!$A$2:$E$1001,4,0))","v":""},{"$f":"IF(ISERROR(VLOOKUP($B989,'300ppi Resolution Calc'!$A$2:$E$1001,5,0)),\"\",VLOOKUP($B989,'300ppi Resolution Calc'!$A$2:$E$1001,5,0))","v":""}]
[null,null,null,null,null,null,null,null,null,null,null,"",{"$f":"IF(ISERROR(VLOOKUP($B990,'300ppi Resolution Calc'!$A$2:$E$1001,4,0)),\"\",VLOOKUP($B990,'300ppi Resolution Calc'!$A$2:$E$1001,4,0))","v":""},{"$f":"IF(ISERROR(VLOOKUP($B990,'300ppi Resolution Calc'!$A$2:$E$1001,5,0)),\"\",VLOOKUP($B990,'300ppi Resolution Calc'!$A$2:$E$1001,5,0))","v":""}]
[null,null,null,null,null,null,null,null,null,null,null,"",{"$f":"IF(ISERROR(VLOOKUP($B991,'300ppi Resolution Calc'!$A$2:$E$1001,4,0)),\"\",VLOOKUP($B991,'300ppi Resolution Calc'!$A$2:$E$1001,4,0))","v":""},{"$f":"IF(ISERROR(VLOOKUP($B991,'300ppi Resolution Calc'!$A$2:$E$1001,5,0)),\"\",VLOOKUP($B991,'300ppi Resolution Calc'!$A$2:$E$1001,5,0))","v":""}]
[null,null,null,null,null,null,null,null,null,null,null,"",{"$f":"IF(ISERROR(VLOOKUP($B992,'300ppi Resolution Calc'!$A$2:$E$1001,4,0)),\"\",VLOOKUP($B992,'300ppi Resolution Calc'!$A$2:$E$1001,4,0))","v":""},{"$f":"IF(ISERROR(VLOOKUP($B992,'300ppi Resolution Calc'!$A$2:$E$1001,5,0)),\"\",VLOOKUP($B992,'300ppi Resolution Calc'!$A$2:$E$1001,5,0))","v":""}]
[null,null,null,null,null,null,null,null,null,null,null,"",{"$f":"IF(ISERROR(VLOOKUP($B993,'300ppi Resolution Calc'!$A$2:$E$1001,4,0)),\"\",VLOOKUP($B993,'300ppi Resolution Calc'!$A$2:$E$1001,4,0))","v":""},{"$f":"IF(ISERROR(VLOOKUP($B993,'300ppi Resolution Calc'!$A$2:$E$1001,5,0)),\"\",VLOOKUP($B993,'300ppi Resolution Calc'!$A$2:$E$1001,5,0))","v":""}]
[null,null,null,null,null,null,null,null,null,null,null,"",{"$f":"IF(ISERROR(VLOOKUP($B994,'300ppi Resolution Calc'!$A$2:$E$1001,4,0)),\"\",VLOOKUP($B994,'300ppi Resolution Calc'!$A$2:$E$1001,4,0))","v":""},{"$f":"IF(ISERROR(VLOOKUP($B994,'300ppi Resolution Calc'!$A$2:$E$1001,5,0)),\"\",VLOOKUP($B994,'300ppi Resolution Calc'!$A$2:$E$1001,5,0))","v":""}]
[null,null,null,null,null,null,null,null,null,null,null,"",{"$f":"IF(ISERROR(VLOOKUP($B995,'300ppi Resolution Calc'!$A$2:$E$1001,4,0)),\"\",VLOOKUP($B995,'300ppi Resolution Calc'!$A$2:$E$1001,4,0))","v":""},{"$f":"IF(ISERROR(VLOOKUP($B995,'300ppi Resolution Calc'!$A$2:$E$1001,5,0)),\"\",VLOOKUP($B995,'300ppi Resolution Calc'!$A$2:$E$1001,5,0))","v":""}]
[null,null,null,null,null,null,null,null,null,null,null,"",{"$f":"IF(ISERROR(VLOOKUP($B996,'300ppi Resolution Calc'!$A$2:$E$1001,4,0)),\"\",VLOOKUP($B996,'300ppi Resolution Calc'!$A$2:$E$1001,4,0))","v":""},{"$f":"IF(ISERROR(VLOOKUP($B996,'300ppi Resolution Calc'!$A$2:$E$1001,5,0)),\"\",VLOOKUP($B996,'300ppi Resolution Calc'!$A$2:$E$1001,5,0))","v":""}]
[null,null,null,null,null,null,null,null,null,null,null,"",{"$f":"IF(ISERROR(VLOOKUP($B997,'300ppi Resolution Calc'!$A$2:$E$1001,4,0)),\"\",VLOOKUP($B997,'300ppi Resolution Calc'!$A$2:$E$1001,4,0))","v":""},{"$f":"IF(ISERROR(VLOOKUP($B997,'300ppi Resolution Calc'!$A$2:$E$1001,5,0)),\"\",VLOOKUP($B997,'300ppi Resolution Calc'!$A$2:$E$1001,5,0))","v":""}]
[null,null,null,null,null,null,null,null,null,null,null,"",{"$f":"IF(ISERROR(VLOOKUP($B998,'300ppi Resolution Calc'!$A$2:$E$1001,4,0)),\"\",VLOOKUP($B998,'300ppi Resolution Calc'!$A$2:$E$1001,4,0))","v":""},{"$f":"IF(ISERROR(VLOOKUP($B998,'300ppi Resolution Calc'!$A$2:$E$1001,5,0)),\"\",VLOOKUP($B998,'300ppi Resolution Calc'!$A$2:$E$1001,5,0))","v":""}]
[null,null,null,null,null,null,null,null,null,null,null,"",{"$f":"IF(ISERROR(VLOOKUP($B999,'300ppi Resolution Calc'!$A$2:$E$1001,4,0)),\"\",VLOOKUP($B999,'300ppi Resolution Calc'!$A$2:$E$1001,4,0))","v":""},{"$f":"IF(ISERROR(VLOOKUP($B999,'300ppi Resolution Calc'!$A$2:$E$1001,5,0)),\"\",VLOOKUP($B999,'300ppi Resolution Calc'!$A$2:$E$1001,5,0))","v":""}]
[null,null,null,null,null,null,null,null,null,null,null,"",{"$f":"IF(ISERROR(VLOOKUP($B1000,'300ppi Resolution Calc'!$A$2:$E$1001,4,0)),\"\",VLOOKUP($B1000,'300ppi Resolution Calc'!$A$2:$E$1001,4,0))","v":""},{"$f":"IF(ISERROR(VLOOKUP($B1000,'300ppi Resolution Calc'!$A$2:$E$1001,5,0)),\"\",VLOOKUP($B1000,'300ppi Resolution Calc'!$A$2:$E$1001,5,0))","v":""}]
[null,null,null,null,null,null,null,null,null,null,null,null,{"$f":"IF(ISERROR(VLOOKUP($B1001,'300ppi Resolution Calc'!$A$2:$E$1001,4,0)),\"\",VLOOKUP($B1001,'300ppi Resolution Calc'!$A$2:$E$1001,4,0))","v":""},{"$f":"IF(ISERROR(VLOOKUP($B1001,'300ppi Resolution Calc'!$A$2:$E$1001,5,0)),\"\",VLOOKUP($B1001,'300ppi Resolution Calc'!$A$2:$E$1001,5,0))","v":""}]

{"sheet":"300ppi Resolution Calc","index":1,"n_rows":1001,"n_cols":5,"rows_kept":1001,"cut":false,"hidden":true,"merged":[]}
["Figure Number","Width - Pixels","Height - Pixels","Width Inches - 300 ppi","Height Inches - 300 ppi"]
["Fig. B.1",1000,1600,{"$f":"ROUND(B2/300,2)","v":3.33},{"$f":"ROUND(C2/300,2)","v":5.33}]
["Fig. A.1",300,200,{"$f":"ROUND(B3/300,2)","v":1},{"$f":"ROUND(C3/300,2)","v":0.67}]
["Fig. A.2",1600,1000,5.33,3.33]
[null,null,null,{"$f":"ROUND(B5/300,2)","v":0},{"$f":"ROUND(C5/300,2)","v":0}]
[null,null,null,{"$f":"ROUND(B6/300,2)","v":0},{"$f":"ROUND(C6/300,2)","v":0}]
[null,null,null,0,0]
[null,null,null,0,0]
[null,null,null,0,0]
[null,null,null,0,0]
[null,null,null,0,0]
[null,null,null,0,0]
[null,null,null,0,0]
[null,null,null,0,0]
[null,null,null,0,0]
[null,null,null,0,0]
[null,null,null,0,0]
[null,null,null,0,0]
[null,null,null,0,0]
[null,null,null,0,0]
[null,null,null,0,0]
[null,null,null,0,0]
[null,null,null,0,0]
[null,null,null,0,0]
[null,null,null,0,0]
[null,null,null,0,0]
[null,null,null,0,0]
[null,null,null,0,0]
[null,null,null,0,0]
[null,null,null,0,0]
[null,null,null,0,0]
[null,null,null,0,0]
[null,null,null,0,0]
[null,null,null,0,0]
[null,null,null,0,0]
[null,null,null,0,0]
[null,null,null,0,0]
[null,null,null,0,0]
[null,null,null,0,0]
[null,null,null,0,0]
[null,null,null,0,0]
[null,null,null,0,0]
[null,null,null,0,0]
[null,null,null,0,0]
[null,null,null,0,0]
[null,null,null,0,0]
[null,null,null,0,0]
[null,null,null,0,0]
[null,null,null,0,0]
[null,null,null,0,0]
[null,null,null,0,0]
[null,null,null,0,0]
[null,null,null,0,0]
[null,null,null,0,0]
[null,null,null,0,0]
[null,null,null,0,0]
[null,null,null,0,0]
[null,null,null,0,0]
[null,null,null,0,0]
[null,null,null,0,0]
[null,null,null,0,0]
[null,null,null,0,0]
[null,null,null,0,0]
[null,null,null,0,0]
[null,null,null,0,0]
[null,null,null,0,0]
[null,null,null,0,0]
[null,null,null,0,0]
[null,null,null,0,0]
[null,null,null,{"$f":"ROUND(B70/300,2)","v":0},{"$f":"ROUND(C70/300,2)","v":0}]
[null,null,null,0,0]
[null,null,null,0,0]
[null,null,null,0,0]
[null,null,null,0,0]
[null,null,null,0,0]
[null,null,null,0,0]
[null,null,null,0,0]
[null,null,null,0,0]
[null,null,null,0,0]
[null,null,null,0,0]
[null,null,null,0,0]
[null,null,null,0,0]
[null,null,null,0,0]
[null,null,null,0,0]
[null,null,null,0,0]
[null,null,null,0,0]
[null,null,null,0,0]
[null,null,null,0,0]
[null,null,null,0,0]
[null,null,null,0,0]
[null,null,null,0,0]
[null,null,null,0,0]
[null,null,null,0,0]
[null,null,null,0,0]
[null,null,null,0,0]
[null,null,null,0,0]
[null,null,null,0,0]
[null,null,null,0,0]
[null,null,null,0,0]
[null,null,null,0,0]
[null,null,null,0,0]
[null,null,null,0,0]
[null,null,null,0,0]
[null,null,null,0,0]
[null,null,null,0,0]
[null,null,null,0,0]
[null,null,null,0,0]
[null,null,null,0,0]
[null,null,null,0,0]
[null,null,null,0,0]
[null,null,null,0,0]
[null,null,null,0,0]
[null,null,null,0,0]
[null,null,null,0,0]
[null,null,null,0,0]
[null,null,null,0,0]
[null,null,null,0,0]
[null,null,null,0,0]
[null,null,null,0,0]
[null,null,null,0,0]
[null,null,null,0,0]
[null,null,null,0,0]
[null,null,null,0,0]
[null,null,null,0,0]
[null,null,null,0,0]
[null,null,null,0,0]
[null,null,null,0,0]
[null,null,null,0,0]
[null,null,null,0,0]
[null,null,null,0,0]
[null,null,null,0,0]
[null,null,null,0,0]
[null,null,null,0,0]
[null,null,null,{"$f":"ROUND(B134/300,2)","v":0},{"$f":"ROUND(C134/300,2)","v":0}]
[null,null,null,0,0]
[null,null,null,0,0]
[null,null,null,0,0]
[null,null,null,0,0]
[null,null,null,0,0]
[null,null,null,0,0]
[null,null,null,0,0]
[null,null,null,0,0]
[null,null,null,0,0]
[null,null,null,0,0]
[null,null,null,0,0]
[null,null,null,0,0]
[null,null,null,0,0]
[null,null,null,0,0]
[null,null,null,0,0]
[null,null,null,0,0]
[null,null,null,0,0]
[null,null,null,0,0]
[null,null,null,0,0]
[null,null,null,0,0]
[null,null,null,0,0]
[null,null,null,0,0]
[null,null,null,0,0]
[null,null,null,0,0]
[null,null,null,0,0]
[null,null,null,0,0]
[null,null,null,0,0]
[null,null,null,0,0]
[null,null,null,0,0]
[null,null,null,0,0]
[null,null,null,0,0]
[null,null,null,0,0]
[null,null,null,0,0]
[null,null,null,0,0]
[null,null,null,0,0]
[null,null,null,0,0]
[null,null,null,0,0]
[null,null,null,0,0]
[null,null,null,0,0]
[null,null,null,0,0]
[null,null,null,0,0]
[null,null,null,0,0]
[null,null,null,0,0]
[null,null,null,0,0]
[null,null,null,0,0]
[null,null,null,0,0]
[null,null,null,0,0]
[null,null,null,0,0]
[null,null,null,0,0]
[null,null,null,0,0]
[null,null,null,0,0]
[null,null,null,0,0]
[null,null,null,0,0]
[null,null,null,0,0]
[null,null,null,0,0]
[null,null,null,0,0]
[null,null,null,0,0]
[null,null,null,0,0]
[null,null,null,0,0]
[null,null,null,0,0]
[null,null,null,0,0]
[null,null,null,0,0]
[null,null,null,0,0]
[null,null,null,{"$f":"ROUND(B198/300,2)","v":0},{"$f":"ROUND(C198/300,2)","v":0}]
[null,null,null,0,0]
[null,null,null,0,0]
[null,null,null,0,0]
[null,null,null,0,0]
[null,null,null,0,0]
[null,null,null,0,0]
[null,null,null,0,0]
[null,null,null,0,0]
[null,null,null,0,0]
[null,null,null,0,0]
[null,null,null,0,0]
[null,null,null,0,0]
[null,null,null,0,0]
[null,null,null,0,0]
[null,null,null,0,0]
[null,null,null,0,0]
[null,null,null,0,0]
[null,null,null,0,0]
[null,null,null,0,0]
[null,null,null,0,0]
[null,null,null,0,0]
[null,null,null,0,0]
[null,null,null,0,0]
[null,null,null,0,0]
[null,null,null,0,0]
[null,null,null,0,0]
[null,null,null,0,0]
[null,null,null,0,0]
[null,null,null,0,0]
[null,null,null,0,0]
[null,null,null,0,0]
[null,null,null,0,0]
[null,null,null,0,0]
[null,null,null,0,0]
[null,null,null,0,0]
[null,null,null,0,0]
[null,null,null,0,0]
[null,null,null,0,0]
[null,null,null,0,0]
[null,null,null,0,0]
[null,null,null,0,0]
[null,null,null,0,0]
[null,null,null,0,0]
[null,null,null,0,0]
[null,null,null,0,0]
[null,null,null,0,0]
[null,null,null,0,0]
[null,null,null,0,0]
[null,null,null,0,0]
[null,null,null,0,0]
[null,null,null,0,0]
[null,null,null,0,0]
[null,null,null,0,0]
[null,null,null,0,0]
[null,null,null,0,0]
[null,null,null,0,0]
[null,null,null,0,0]
[null,null,null,0,0]
[null,null,null,0,0]
[null,null,null,0,0]
[null,null,null,0,0]
[null,null,null,0,0]
[null,null,null,0,0]
[null,null,null,{"$f":"ROUND(B262/300,2)","v":0},{"$f":"ROUND(C262/300,2)","v":0}]
[null,null,null,0,0]
[null,null,null,0,0]
[null,null,null,0,0]
[null,null,null,0,0]
[null,null,null,0,0]
[null,null,null,0,0]
[null,null,null,0,0]
[null,null,null,0,0]
[null,null,null,0,0]
[null,null,null,0,0]
[null,null,null,0,0]
[null,null,null,0,0]
[null,null,null,0,0]
[null,null,null,0,0]
[null,null,null,0,0]
[null,null,null,0,0]
[null,null,null,0,0]
[null,null,null,0,0]
[null,null,null,0,0]
[null,null,null,0,0]
[null,null,null,0,0]
[null,null,null,0,0]
[null,null,null,0,0]
[null,null,null,0,0]
[null,null,null,0,0]
[null,null,null,0,0]
[null,null,null,0,0]
[null,null,null,0,0]
[null,null,null,0,0]
[null,null,null,0,0]
[null,null,null,0,0]
[null,null,null,0,0]
[null,null,null,0,0]
[null,null,null,0,0]
[null,null,null,0,0]
[null,null,null,0,0]
[null,null,null,0,0]
[null,null,null,0,0]
[null,null,null,0,0]
[null,null,null,0,0]
[null,null,null,0,0]
[null,null,null,0,0]
[null,null,null,0,0]
[null,null,null,0,0]
[null,null,null,0,0]
[null,null,null,0,0]
[null,null,null,0,0]
[null,null,null,0,0]
[null,null,null,0,0]
[null,null,null,0,0]
[null,null,null,0,0]
[null,null,null,0,0]
[null,null,null,0,0]
[null,null,null,0,0]
[null,null,null,0,0]
[null,null,null,0,0]
[null,null,null,0,0]
[null,null,null,0,0]
[null,null,null,0,0]
[null,null,null,0,0]
[null,null,null,0,0]
[null,null,null,0,0]
[null,null,null,0,0]
[null,null,null,{"$f":"ROUND(B326/300,2)","v":0},{"$f":"ROUND(C326/300,2)","v":0}]
[null,null,null,0,0]
[null,null,null,0,0]
[null,null,null,0,0]
[null,null,null,0,0]
[null,null,null,0,0]
[null,null,null,0,0]
[null,null,null,0,0]
[null,null,null,0,0]
[null,null,null,0,0]
[null,null,null,0,0]
[null,null,null,0,0]
[null,null,null,0,0]
[null,null,null,0,0]
[null,null,null,0,0]
[null,null,null,0,0]
[null,null,null,0,0]
[null,null,null,0,0]
[null,null,null,0,0]
[null,null,null,0,0]
[null,null,null,0,0]
[null,null,null,0,0]
[null,null,null,0,0]
[null,null,null,0,0]
[null,null,null,0,0]
[null,null,null,0,0]
[null,null,null,0,0]
[null,null,null,0,0]
[null,null,null,0,0]
[null,null,null,0,0]
[null,null,null,0,0]
[null,null,null,0,0]
[null,null,null,0,0]
[null,null,null,0,0]
[null,null,null,0,0]
[null,null,null,0,0]
[null,null,null,0,0]
[null,null,null,0,0]
[null,null,null,0,0]
[null,null,null,0,0]
[null,null,null,0,0]
[null,null,null,0,0]
[null,null,null,0,0]
[null,null,null,0,0]
[null,null,null,0,0]
[null,null,null,0,0]
[null,null,null,0,0]
[null,null,null,0,0]
[null,null,null,0,0]
[null,null,null,0,0]
[null,null,null,0,0]
[null,null,null,0,0]
[null,null,null,0,0]
[null,null,null,0,0]
[null,null,null,0,0]
[null,null,null,0,0]
[null,null,null,0,0]
[null,null,null,0,0]
[null,null,null,0,0]
[null,null,null,0,0]
[null,null,null,0,0]
[null,null,null,0,0]
[null,null,null,0,0]
[null,null,null,0,0]
[null,null,null,{"$f":"ROUND(B390/300,2)","v":0},{"$f":"ROUND(C390/300,2)","v":0}]
[null,null,null,0,0]
[null,null,null,0,0]
[null,null,null,0,0]
[null,null,null,0,0]
[null,null,null,0,0]
[null,null,null,0,0]
[null,null,null,0,0]
[null,null,null,0,0]
[null,null,null,0,0]
[null,null,null,0,0]
[null,null,null,0,0]
[null,null,null,0,0]
[null,null,null,0,0]
[null,null,null,0,0]
[null,null,null,0,0]
[null,null,null,0,0]
[null,null,null,0,0]
[null,null,null,0,0]
[null,null,null,0,0]
[null,null,null,0,0]
[null,null,null,0,0]
[null,null,null,0,0]
[null,null,null,0,0]
[null,null,null,0,0]
[null,null,null,0,0]
[null,null,null,0,0]
[null,null,null,0,0]
[null,null,null,0,0]
[null,null,null,0,0]
[null,null,null,0,0]
[null,null,null,0,0]
[null,null,null,0,0]
[null,null,null,0,0]
[null,null,null,0,0]
[null,null,null,0,0]
[null,null,null,0,0]
[null,null,null,0,0]
[null,null,null,0,0]
[null,null,null,0,0]
[null,null,null,0,0]
[null,null,null,0,0]
[null,null,null,0,0]
[null,null,null,0,0]
[null,null,null,0,0]
[null,null,null,0,0]
[null,null,null,0,0]
[null,null,null,0,0]
[null,null,null,0,0]
[null,null,null,0,0]
[null,null,null,0,0]
[null,null,null,0,0]
[null,null,null,0,0]
[null,null,null,0,0]
[null,null,null,0,0]
[null,null,null,0,0]
[null,null,null,0,0]
[null,null,null,0,0]
[null,null,null,0,0]
[null,null,null,0,0]
[null,null,null,0,0]
[null,null,null,0,0]
[null,null,null,0,0]
[null,null,null,0,0]
[null,null,null,{"$f":"ROUND(B454/300,2)","v":0},{"$f":"ROUND(C454/300,2)","v":0}]
[null,null,null,0,0]
[null,null,null,0,0]
[null,null,null,0,0]
[null,null,null,0,0]
[null,null,null,0,0]
[null,null,null,0,0]
[null,null,null,0,0]
[null,null,null,0,0]
[null,null,null,0,0]
[null,null,null,0,0]
[null,null,null,0,0]
[null,null,null,0,0]
[null,null,null,0,0]
[null,null,null,0,0]
[null,null,null,0,0]
[null,null,null,0,0]
[null,null,null,0,0]
[null,null,null,0,0]
[null,null,null,0,0]
[null,null,null,0,0]
[null,null,null,0,0]
[null,null,null,0,0]
[null,null,null,0,0]
[null,null,null,0,0]
[null,null,null,0,0]
[null,null,null,0,0]
[null,null,null,0,0]
[null,null,null,0,0]
[null,null,null,0,0]
[null,null,null,0,0]
[null,null,null,0,0]
[null,null,null,0,0]
[null,null,null,0,0]
[null,null,null,0,0]
[null,null,null,0,0]
[null,null,null,0,0]
[null,null,null,0,0]
[null,null,null,0,0]
[null,null,null,0,0]
[null,null,null,0,0]
[null,null,null,0,0]
[null,null,null,0,0]
[null,null,null,0,0]
[null,null,null,0,0]
[null,null,null,0,0]
[null,null,null,0,0]
[null,null,null,0,0]
[null,null,null,0,0]
[null,null,null,0,0]
[null,null,null,0,0]
[null,null,null,0,0]
[null,null,null,0,0]
[null,null,null,0,0]
[null,null,null,0,0]
[null,null,null,0,0]
[null,null,null,0,0]
[null,null,null,0,0]
[null,null,null,0,0]
[null,null,null,0,0]
[null,null,null,0,0]
[null,null,null,0,0]
[null,null,null,0,0]
[null,null,null,0,0]
[null,null,null,{"$f":"ROUND(B518/300,2)","v":0},{"$f":"ROUND(C518/300,2)","v":0}]
[null,null,null,0,0]
[null,null,null,0,0]
[null,null,null,0,0]
[null,null,null,0,0]
[null,null,null,0,0]
[null,null,null,0,0]
[null,null,null,0,0]
[null,null,null,0,0]
[null,null,null,0,0]
[null,null,null,0,0]
[null,null,null,0,0]
[null,null,null,0,0]
[null,null,null,0,0]
[null,null,null,0,0]
[null,null,null,0,0]
[null,null,null,0,0]
[null,null,null,0,0]
[null,null,null,0,0]
[null,null,null,0,0]
[null,null,null,0,0]
[null,null,null,0,0]
[null,null,null,0,0]
[null,null,null,0,0]
[null,null,null,0,0]
[null,null,null,0,0]
[null,null,null,0,0]
[null,null,null,0,0]
[null,null,null,0,0]
[null,null,null,0,0]
[null,null,null,0,0]
[null,null,null,0,0]
[null,null,null,0,0]
[null,null,null,0,0]
[null,null,null,0,0]
[null,null,null,0,0]
[null,null,null,0,0]
[null,null,null,0,0]
[null,null,null,0,0]
[null,null,null,0,0]
[null,null,null,0,0]
[null,null,null,0,0]
[null,null,null,0,0]
[null,null,null,0,0]
[null,null,null,0,0]
[null,null,null,0,0]
[null,null,null,0,0]
[null,null,null,0,0]
[null,null,null,0,0]
[null,null,null,0,0]
[null,null,null,0,0]
[null,null,null,0,0]
[null,null,null,0,0]
[null,null,null,0,0]
[null,null,null,0,0]
[null,null,null,0,0]
[null,null,null,0,0]
[null,null,null,0,0]
[null,null,null,0,0]
[null,null,null,0,0]
[null,null,null,0,0]
[null,null,null,0,0]
[null,null,null,0,0]
[null,null,null,0,0]
[null,null,null,{"$f":"ROUND(B582/300,2)","v":0},{"$f":"ROUND(C582/300,2)","v":0}]
[null,null,null,0,0]
[null,null,null,0,0]
[null,null,null,0,0]
[null,null,null,0,0]
[null,null,null,0,0]
[null,null,null,0,0]
[null,null,null,0,0]
[null,null,null,0,0]
[null,null,null,0,0]
[null,null,null,0,0]
[null,null,null,0,0]
[null,null,null,0,0]
[null,null,null,0,0]
[null,null,null,0,0]
[null,null,null,0,0]
[null,null,null,0,0]
[null,null,null,0,0]
[null,null,null,0,0]
[null,null,null,0,0]
[null,null,null,0,0]
[null,null,null,0,0]
[null,null,null,0,0]
[null,null,null,0,0]
[null,null,null,0,0]
[null,null,null,0,0]
[null,null,null,0,0]
[null,null,null,0,0]
[null,null,null,0,0]
[null,null,null,0,0]
[null,null,null,0,0]
[null,null,null,0,0]
[null,null,null,0,0]
[null,null,null,0,0]
[null,null,null,0,0]
[null,null,null,0,0]
[null,null,null,0,0]
[null,null,null,0,0]
[null,null,null,0,0]
[null,null,null,0,0]
[null,null,null,0,0]
[null,null,null,0,0]
[null,null,null,0,0]
[null,null,null,0,0]
[null,null,null,0,0]
[null,null,null,0,0]
[null,null,null,0,0]
[null,null,null,0,0]
[null,null,null,0,0]
[null,null,null,0,0]
[null,null,null,0,0]
[null,null,null,0,0]
[null,null,null,0,0]
[null,null,null,0,0]
[null,null,null,0,0]
[null,null,null,0,0]
[null,null,null,0,0]
[null,null,null,0,0]
[null,null,null,0,0]
[null,null,null,0,0]
[null,null,null,0,0]
[null,null,null,0,0]
[null,null,null,0,0]
[null,null,null,0,0]
[null,null,null,{"$f":"ROUND(B646/300,2)","v":0},{"$f":"ROUND(C646/300,2)","v":0}]
[null,null,null,0,0]
[null,null,null,0,0]
[null,null,null,0,0]
[null,null,null,0,0]
[null,null,null,0,0]
[null,null,null,0,0]
[null,null,null,0,0]
[null,null,null,0,0]
[null,null,null,0,0]
[null,null,null,0,0]
[null,null,null,0,0]
[null,null,null,0,0]
[null,null,null,0,0]
[null,null,null,0,0]
[null,null,null,0,0]
[null,null,null,0,0]
[null,null,null,0,0]
[null,null,null,0,0]
[null,null,null,0,0]
[null,null,null,0,0]
[null,null,null,0,0]
[null,null,null,0,0]
[null,null,null,0,0]
[null,null,null,0,0]
[null,null,null,0,0]
[null,null,null,0,0]
[null,null,null,0,0]
[null,null,null,0,0]
[null,null,null,0,0]
[null,null,null,0,0]
[null,null,null,0,0]
[null,null,null,0,0]
[null,null,null,0,0]
[null,null,null,0,0]
[null,null,null,0,0]
[null,null,null,0,0]
[null,null,null,0,0]
[null,null,null,0,0]
[null,null,null,0,0]
[null,null,null,0,0]
[null,null,null,0,0]
[null,null,null,0,0]
[null,null,null,0,0]
[null,null,null,0,0]
[null,null,null,0,0]
[null,null,null,0,0]
[null,null,null,0,0]
[null,null,null,0,0]
[null,null,null,0,0]
[null,null,null,0,0]
[null,null,null,0,0]
[null,null,null,0,0]
[null,null,null,0,0]
[null,null,null,0,0]
[null,null,null,0,0]
[null,null,null,0,0]
[null,null,null,0,0]
[null,null,null,0,0]
[null,null,null,0,0]
[null,null,null,0,0]
[null,null,null,0,0]
[null,null,null,0,0]
[null,null,null,0,0]
[null,null,null,{"$f":"ROUND(B710/300,2)","v":0},{"$f":"ROUND(C710/300,2)","v":0}]
[null,null,null,0,0]
[null,null,null,0,0]
[null,null,null,0,0]
[null,null,null,0,0]
[null,null,null,0,0]
[null,null,null,0,0]
[null,null,null,0,0]
[null,null,null,0,0]
[null,null,null,0,0]
[null,null,null,0,0]
[null,null,null,0,0]
[null,null,null,0,0]
[null,null,null,0,0]
[null,null,null,0,0]
[null,null,null,0,0]
[null,null,null,0,0]
[null,null,null,0,0]
[null,null,null,0,0]
[null,null,null,0,0]
[null,null,null,0,0]
[null,null,null,0,0]
[null,null,null,0,0]
[null,null,null,0,0]
[null,null,null,0,0]
[null,null,null,0,0]
[null,null,null,0,0]
[null,null,null,0,0]
[null,null,null,0,0]
[null,null,null,0,0]
[null,null,null,0,0]
[null,null,null,0,0]
[null,null,null,0,0]
[null,null,null,0,0]
[null,null,null,0,0]
[null,null,null,0,0]
[null,null,null,0,0]
[null,null,null,0,0]
[null,null,null,0,0]
[null,null,null,0,0]
[null,null,null,0,0]
[null,null,null,0,0]
[null,null,null,0,0]
[null,null,null,0,0]
[null,null,null,0,0]
[null,null,null,0,0]
[null,null,null,0,0]
[null,null,null,0,0]
[null,null,null,0,0]
[null,null,null,0,0]
[null,null,null,0,0]
[null,null,null,0,0]
[null,null,null,0,0]
[null,null,null,0,0]
[null,null,null,0,0]
[null,null,null,0,0]
[null,null,null,0,0]
[null,null,null,0,0]
[null,null,null,0,0]
[null,null,null,0,0]
[null,null,null,0,0]
[null,null,null,0,0]
[null,null,null,0,0]
[null,null,null,0,0]
[null,null,null,{"$f":"ROUND(B774/300,2)","v":0},{"$f":"ROUND(C774/300,2)","v":0}]
[null,null,null,0,0]
[null,null,null,0,0]
[null,null,null,0,0]
[null,null,null,0,0]
[null,null,null,0,0]
[null,null,null,0,0]
[null,null,null,0,0]
[null,null,null,0,0]
[null,null,null,0,0]
[null,null,null,0,0]
[null,null,null,0,0]
[null,null,null,0,0]
[null,null,null,0,0]
[null,null,null,0,0]
[null,null,null,0,0]
[null,null,null,0,0]
[null,null,null,0,0]
[null,null,null,0,0]
[null,null,null,0,0]
[null,null,null,0,0]
[null,null,null,0,0]
[null,null,null,0,0]
[null,null,null,0,0]
[null,null,null,0,0]
[null,null,null,0,0]
[null,null,null,0,0]
[null,null,null,0,0]
[null,null,null,0,0]
[null,null,null,0,0]
[null,null,null,0,0]
[null,null,null,0,0]
[null,null,null,0,0]
[null,null,null,0,0]
[null,null,null,0,0]
[null,null,null,0,0]
[null,null,null,0,0]
[null,null,null,0,0]
[null,null,null,0,0]
[null,null,null,0,0]
[null,null,null,0,0]
[null,null,null,0,0]
[null,null,null,0,0]
[null,null,null,0,0]
[null,null,null,0,0]
[null,null,null,0,0]
[null,null,null,0,0]
[null,null,null,0,0]
[null,null,null,0,0]
[null,null,null,0,0]
[null,null,null,0,0]
[null,null,null,0,0]
[null,null,null,0,0]
[null,null,null,0,0]
[null,null,null,0,0]
[null,null,null,0,0]
[null,null,null,0,0]
[null,null,null,0,0]
[null,null,null,0,0]
[null,null,null,0,0]
[null,null,null,0,0]
[null,null,null,0,0]
[null,null,null,0,0]
[null,null,null,0,0]
[null,null,null,{"$f":"ROUND(B838/300,2)","v":0},{"$f":"ROUND(C838/300,2)","v":0}]
[null,null,null,0,0]
[null,null,null,0,0]
[null,null,null,0,0]
[null,null,null,0,0]
[null,null,null,0,0]
[null,null,null,0,0]
[null,null,null,0,0]
[null,null,null,0,0]
[null,null,null,0,0]
[null,null,null,0,0]
[null,null,null,0,0]
[null,null,null,0,0]
[null,null,null,0,0]
[null,null,null,0,0]
[null,null,null,0,0]
[null,null,null,0,0]
[null,null,null,0,0]
[null,null,null,0,0]
[null,null,null,0,0]
[null,null,null,0,0]
[null,null,null,0,0]
[null,null,null,0,0]
[null,null,null,0,0]
[null,null,null,0,0]
[null,null,null,0,0]
[null,null,null,0,0]
[null,null,null,0,0]
[null,null,null,0,0]
[null,null,null,0,0]
[null,null,null,0,0]
[null,null,null,0,0]
[null,null,null,0,0]
[null,null,null,0,0]
[null,null,null,0,0]
[null,null,null,0,0]
[null,null,null,0,0]
[null,null,null,0,0]
[null,null,null,0,0]
[null,null,null,0,0]
[null,null,null,0,0]
[null,null,null,0,0]
[null,null,null,0,0]
[null,null,null,0,0]
[null,null,null,0,0]
[null,null,null,0,0]
[null,null,null,0,0]
[null,null,null,0,0]
[null,null,null,0,0]
[null,null,null,0,0]
[null,null,null,0,0]
[null,null,null,0,0]
[null,null,null,0,0]
[null,null,null,0,0]
[null,null,null,0,0]
[null,null,null,0,0]
[null,null,null,0,0]
[null,null,null,0,0]
[null,null,null,0,0]
[null,null,null,0,0]
[null,null,null,0,0]
[null,null,null,0,0]
[null,null,null,0,0]
[null,null,null,0,0]
[null,null,null,{"$f":"ROUND(B902/300,2)","v":0},{"$f":"ROUND(C902/300,2)","v":0}]
[null,null,null,0,0]
[null,null,null,0,0]
[null,null,null,0,0]
[null,null,null,0,0]
[null,null,null,0,0]
[null,null,null,0,0]
[null,null,null,0,0]
[null,null,null,0,0]
[null,null,null,0,0]
[null,null,null,0,0]
[null,null,null,0,0]
[null,null,null,0,0]
[null,null,null,0,0]
[null,null,null,0,0]
[null,null,null,0,0]
[null,null,null,0,0]
[null,null,null,0,0]
[null,null,null,0,0]
[null,null,null,0,0]
[null,null,null,0,0]
[null,null,null,0,0]
[null,null,null,0,0]
[null,null,null,0,0]
[null,null,null,0,0]
[null,null,null,0,0]
[null,null,null,0,0]
[null,null,null,0,0]
[null,null,null,0,0]
[null,null,null,0,0]
[null,null,null,0,0]
[null,null,null,0,0]
[null,null,null,0,0]
[null,null,null,0,0]
[null,null,null,0,0]
[null,null,null,0,0]
[null,null,null,0,0]
[null,null,null,0,0]
[null,null,null,0,0]
[null,null,null,0,0]
[null,null,null,0,0]
[null,null,null,0,0]
[null,null,null,0,0]
[null,null,null,0,0]
[null,null,null,0,0]
[null,null,null,0,0]
[null,null,null,0,0]
[null,null,null,0,0]
[null,null,null,0,0]
[null,null,null,0,0]
[null,null,null,0,0]
[null,null,null,0,0]
[null,null,null,0,0]
[null,null,null,0,0]
[null,null,null,0,0]
[null,null,null,0,0]
[null,null,null,0,0]
[null,null,null,0,0]
[null,null,null,0,0]
[null,null,null,0,0]
[null,null,null,0,0]
[null,null,null,0,0]
[null,null,null,0,0]
[null,null,null,0,0]
[null,null,null,{"$f":"ROUND(B966/300,2)","v":0},{"$f":"ROUND(C966/300,2)","v":0}]
[null,null,null,0,0]
[null,null,null,0,0]
[null,null,null,0,0]
[null,null,null,0,0]
[null,null,null,0,0]
[null,null,null,0,0]
[null,null,null,0,0]
[null,null,null,0,0]
[null,null,null,0,0]
[null,null,null,0,0]
[null,null,null,0,0]
[null,null,null,0,0]
[null,null,null,0,0]
[null,null,null,0,0]
[null,null,null,0,0]
[null,null,null,0,0]
[null,null,null,0,0]
[null,null,null,0,0]
[null,null,null,0,0]
[null,null,null,0,0]
[null,null,null,0,0]
[null,null,null,0,0]
[null,null,null,0,0]
[null,null,null,0,0]
[null,null,null,0,0]
[null,null,null,0,0]
[null,null,null,0,0]
[null,null,null,0,0]
[null,null,null,0,0]
[null,null,null,0,0]
[null,null,null,0,0]
[null,null,null,0,0]
[null,null,null,0,0]
[null,null,null,0,0]
[null,null,null,0,0]

{"sheet":"Import Style Sheet","index":2,"n_rows":2,"n_cols":76,"rows_kept":2,"cut":false,"hidden":true,"merged":[]}
["Sequence","Chapter ID","License Status","Clearing Method","Content Item Type","Content Piece Type","Selection Title","Diff. RH?","Anthologized Source","RH Publication Title","RH URL","RH Pub Edition","RH Author","RH Page Range","RH © Year","CCC","RH ISBN/ISSN","S-Num","Reading Source Type","Reading Layout","Partner?","Publisher DRM","E-Rights","Free DL","DRM","Initial Req","First FU","Second FU","Third FU","Follow Up On","Cleared On","Denied On","Active Pricing","Price!","Est. Pricing Type","PC","Flat","Flat Per Page","Flat Per Copy","PP+PC","Est. Total License Fee","Est. Cost PC","Est. Cost PPPC","Est. Fee Details","Agreement #","Agreement Total Amount","Agr. Cost PC","Agr. Cost PPPC","Max Copies","Territories Granted","Formats Granted","Expires","Edition Restrictions","Revision Restriction Details","Req. Copy of Textbook","Copy of Textbook Sent On","Negotiation Notes","Paid On","Payment Details","ODID","Attribution","Publication Title","URL","Pub Edition","Author/Editor","© Year","© Month","© Day","© Season","Page Range","ISBN/ISSN","Content ID","Reading Notes","Production Notes","Number of Relations","Lic Notes"]
[null,{"$f":"IF((ISBLANK('Image Log'!B7)), \"\",'Image Log'!B7)","v":""},"Unsent/Needs Request",{"$f":"'Image Log'!I7","v":0},null,"Image",{"$f":"IF((ISBLANK('Image Log'!C7)), \"\",'Image Log'!C7)","v":""},null,null,{"$f":"IF((ISBLANK('Image Log'!D7)), \"\",'Image Log'!D7)","v":""},{"$f":"IF((ISBLANK('Image Log'!D7)), \"\",'Image Log'!D7)","v":""},null,{"$f":"IF(ISBLANK('Image Log'!F7), \"\",'Image Log'!F7)","v":""},{"$f":"IF(ISBLANK('Image Log'!G7), \"\",'Image Log'!G7)","v":""},{"$f":"IF(ISBLANK('Image Log'!E7), \"\",'Image Log'!E7)","v":""},null,null,null,null,null,null,null,"1",null,null,null,null,null,null,null,null,null,"1",null,null,null,null,null,null,null,null,null,null,null,null,null,null,null,{"$f":"IF(OR(D2=\"Public Domain\",D2=\"Fair Use\",D2=\"Orphan Work\",D2=\"Editor/Author's Own Content\",D2=\"Creative Commons License\",D2=\"Publisher Agreement\"),\"99999\", \"\")","v":""},{"$f":"IF(OR(D2=\"Public Domain\",D2=\"Fair Use\",D2=\"Orphan Work\",D2=\"Editor/Author's Own Content\",D2=\"Creative Commons License\",D2=\"Publisher Agreement\"),\"World\", \"\")","v":""},{"$f":"IF(OR(D2=\"Public Domain\",D2=\"Fair Use\",D2=\"Orphan Work\",D2=\"Editor/Author's Own Content\",D2=\"Creative Commons License\",D2=\"Publisher Agreement\"),\"Print + Ebook\", \"\")","v":""},null,{"$f":"IF(OR(D2=\"Public Domain\",D2=\"Fair Use\",D2=\"Orphan Work\",D2=\"Editor/Author's Own Content\",D2=\"Creative Commons License\",D2=\"Publisher Agreement\"),\"None\", \"\")","v":""},null,null,null,null,null,null,null,{"$f":"IF(AND(NOT('Image Log'!I7=\"Fair Use\"),ISBLANK('Image Log'!L7)), \"\",\nIF(AND(NOT('Image Log'!I7=\"Fair Use\"),NOT(ISBLANK('Image Log'!L7))),'Image Log'!L7,\"\"))","v":""},{"$f":"IF(ISBLANK('Image Log'!D7), \"\",'Image Log'!D7)","v":""},{"$f":"IF(ISBLANK('Image Log'!D7), \"\",'Image Log'!D7)","v":""},null,{"$f":"IF(ISBLANK('Image Log'!F7), \"\",'Image Log'!F7)","v":""},{"$f":"IF(ISBLANK('Image Log'!E7), \"\",'Image Log'!E7)","v":""},null,null,null,{"$f":"IF(ISBLANK('Image Log'!G7), \"\",'Image Log'!G7)","v":""},null,null,{"$f":"IF(ISBLANK('Image Log'!J7), \"\",'Image Log'!J7)","v":""}]